BEGIN:VCALENDAR
VERSION:2.0
PRODID:-//Welcome To Ely - ECPv6.15.20//NONSGML v1.0//EN
CALSCALE:GREGORIAN
METHOD:PUBLISH
X-WR-CALNAME:Welcome To Ely
X-ORIGINAL-URL:https://elynevada.net
X-WR-CALDESC:Events for Welcome To Ely
REFRESH-INTERVAL;VALUE=DURATION:PT1H
X-Robots-Tag:noindex
X-PUBLISHED-TTL:PT1H
BEGIN:VTIMEZONE
TZID:UTC
BEGIN:STANDARD
TZOFFSETFROM:+0000
TZOFFSETTO:+0000
TZNAME:UTC
DTSTART:20210101T000000
END:STANDARD
END:VTIMEZONE
BEGIN:VEVENT
DTSTART;TZID=UTC:20220716T070000
DTEND;TZID=UTC:20220716T200000
DTSTAMP:20260424T094457
CREATED:20220708T001942Z
LAST-MODIFIED:20220708T001947Z
UID:10000458-1657954800-1658001600@elynevada.net
SUMMARY:Get Buzzed in Baker
DESCRIPTION:Get Buzzed in Baker\nThe Bristlecone General Store will be BUZZING with excitement on Saturday\, July 16th & Sunday\, July 17th\, 7:00 a.m. – 8:00 p.m.\, during their next event\, “Get Buzzed in Baker!” \nThe goal is to protect pollinators and support the farmers. The money raised will be donated to Heifer International\, a non-profit organization that’s on a mission to end hunger and poverty in sustainable ways by supporting and investing alongside local farmers and their communities. \nTwo ways to Donate on July 16th-17th: \n\nPurchase honey\, alcohol and coffee and we’ll donate 10% of these sales\nGet a buzz haircut for $10 – what a great way to beast the heat! (They’ll do any easy trim or partial buzz. You don’t have to get a full buzz cut!”\n\nWe Have More to Do\, Trust Me. Just click HERE!
URL:https://elynevada.net/event/get-buzzed-in-baker/2022-07-16/
LOCATION:Bristlecone General Store\, 115 S. Baker Ave.\, Baker\, NV\, 89311\, United States
CATEGORIES:Community
ATTACH;FMTTYPE=image/jpeg:https://elynevada.net/wp-content/uploads/2022/07/Buzzed-in-Baker.jpg
ORGANIZER;CN="Bristlecone General Store":MAILTO:stay@stargazernevada.com
END:VEVENT
END:VCALENDAR