BEGIN:VCALENDAR
VERSION:2.0
PRODID:-//Welcome To Ely - ECPv6.15.20//NONSGML v1.0//EN
CALSCALE:GREGORIAN
METHOD:PUBLISH
X-WR-CALNAME:Welcome To Ely
X-ORIGINAL-URL:https://elynevada.net
X-WR-CALDESC:Events for Welcome To Ely
REFRESH-INTERVAL;VALUE=DURATION:PT1H
X-Robots-Tag:noindex
X-PUBLISHED-TTL:PT1H
BEGIN:VTIMEZONE
TZID:UTC
BEGIN:STANDARD
TZOFFSETFROM:+0000
TZOFFSETTO:+0000
TZNAME:UTC
DTSTART:20180101T000000
END:STANDARD
END:VTIMEZONE
BEGIN:VEVENT
DTSTART;TZID=UTC:20190216T183000
DTEND;TZID=UTC:20190216T203000
DTSTAMP:20260423T041620
CREATED:20190207T065441Z
LAST-MODIFIED:20190207T065441Z
UID:10000119-1550341800-1550349000@elynevada.net
SUMMARY:Valentine's Murder Mystery Dinner
DESCRIPTION:Bring your sweetheart or your partner in crime \nA fundraiser for Ely’s Children’s Community Theater \nCome to Lui’s Italian Bistro on Broadway in NY for a night of food\, fun\, acting\, and prizes as you attempt to solve the murders unfolding over the courses of dinner. Meet some broadway couples\, enjoy soup\, salad\, bread\, spaghetti\, and sweets. \nEly UMC will be transformed into the Lui’s at 1100 S. Pioche Hwy.  Ely\, NV 89301 \nSaturday February 16th at 6:30pm \nPrepay tickets are $15 each (included 4 course dinner) \nTables for 6 are $85 and must be reserved and prepayed \nTickets available at Economy Drug until Feb 15th \nTicket prices are $17 at the door please RSVP \nCall Suzanne Calhoun 775.293.5113
URL:https://elynevada.net/event/valentines-murder-mystery-dinner/
LOCATION:United Methodist Church\, 1100 S. Pioche Hwy\, Ely\, NV\, 89301\, United States
CATEGORIES:Arts & Culture
END:VEVENT
END:VCALENDAR