BEGIN:VCALENDAR
VERSION:2.0
PRODID:-//Welcome To Ely - ECPv6.15.20//NONSGML v1.0//EN
CALSCALE:GREGORIAN
METHOD:PUBLISH
X-WR-CALNAME:Welcome To Ely
X-ORIGINAL-URL:https://elynevada.net
X-WR-CALDESC:Events for Welcome To Ely
REFRESH-INTERVAL;VALUE=DURATION:PT1H
X-Robots-Tag:noindex
X-PUBLISHED-TTL:PT1H
BEGIN:VTIMEZONE
TZID:UTC
BEGIN:STANDARD
TZOFFSETFROM:+0000
TZOFFSETTO:+0000
TZNAME:UTC
DTSTART:20180101T000000
END:STANDARD
END:VTIMEZONE
BEGIN:VEVENT
DTSTART;TZID=UTC:20190807T200000
DTEND;TZID=UTC:20190807T230000
DTSTAMP:20260423T044816
CREATED:20190726T084414Z
LAST-MODIFIED:20190730T072129Z
UID:10000022-1565208000-1565218800@elynevada.net
SUMMARY:Stanley Avenue Live
DESCRIPTION:Come check out the band Stanley Avenue at Club Rio on August 7 at 8 pm. \nFormed last year\, these genre-bending musicians hail from Las Vegas. Their show is sure to include unique takes on songs and a live performance no one will want to miss. \nSee more about it at: https://www.facebook.com/events/516987822439981/
URL:https://elynevada.net/event/stanley-avenue-live/
LOCATION:Club Rio\, 735 E. Aultman St\, Ely\, NV\, 89301\, United States
CATEGORIES:Arts & Culture
ATTACH;FMTTYPE=image/jpeg:https://elynevada.net/wp-content/uploads/2019/07/IMG_4935.jpg
END:VEVENT
END:VCALENDAR