BEGIN:VCALENDAR
VERSION:2.0
PRODID:-//Welcome To Ely - ECPv6.15.20//NONSGML v1.0//EN
CALSCALE:GREGORIAN
METHOD:PUBLISH
X-ORIGINAL-URL:https://elynevada.net
X-WR-CALDESC:Events for Welcome To Ely
REFRESH-INTERVAL;VALUE=DURATION:PT1H
X-Robots-Tag:noindex
X-PUBLISHED-TTL:PT1H
BEGIN:VTIMEZONE
TZID:America/Los_Angeles
BEGIN:DAYLIGHT
TZOFFSETFROM:-0800
TZOFFSETTO:-0700
TZNAME:PDT
DTSTART:20240310T100000
END:DAYLIGHT
BEGIN:STANDARD
TZOFFSETFROM:-0700
TZOFFSETTO:-0800
TZNAME:PST
DTSTART:20241103T090000
END:STANDARD
BEGIN:DAYLIGHT
TZOFFSETFROM:-0800
TZOFFSETTO:-0700
TZNAME:PDT
DTSTART:20250309T100000
END:DAYLIGHT
BEGIN:STANDARD
TZOFFSETFROM:-0700
TZOFFSETTO:-0800
TZNAME:PST
DTSTART:20251102T090000
END:STANDARD
BEGIN:DAYLIGHT
TZOFFSETFROM:-0800
TZOFFSETTO:-0700
TZNAME:PDT
DTSTART:20260308T100000
END:DAYLIGHT
BEGIN:STANDARD
TZOFFSETFROM:-0700
TZOFFSETTO:-0800
TZNAME:PST
DTSTART:20261101T090000
END:STANDARD
END:VTIMEZONE
BEGIN:VTIMEZONE
TZID:UTC
BEGIN:STANDARD
TZOFFSETFROM:+0000
TZOFFSETTO:+0000
TZNAME:UTC
DTSTART:20220101T000000
END:STANDARD
END:VTIMEZONE
BEGIN:VEVENT
DTSTART;TZID=America/Los_Angeles:20250621T073000
DTEND;TZID=America/Los_Angeles:20250621T140000
DTSTAMP:20260423T055423
CREATED:20240523T231748Z
LAST-MODIFIED:20250613T180156Z
UID:10004035-1750491000-1750514400@elynevada.net
SUMMARY:Coyotes M/C Jake's Valley Desert Rally
DESCRIPTION:Coyotes M/C Jake’s Valley Desert Rally
URL:https://elynevada.net/event/coyotes-m-c-egan-hills-scramble/
CATEGORIES:Races,Sports
ATTACH;FMTTYPE=image/jpeg:https://elynevada.net/wp-content/uploads/2024/05/Coyotes-Ride-2025.jpg
END:VEVENT
BEGIN:VEVENT
DTSTART;TZID=UTC:20230729T170000
DTEND;TZID=UTC:20230729T230000
DTSTAMP:20260423T055423
CREATED:20230124T072446Z
LAST-MODIFIED:20230125T041040Z
UID:10000539-1690650000-1690671600@elynevada.net
SUMMARY:Coyotes MC Howl at the Moon
DESCRIPTION:Coyotes MC Howl at the Moon\nThis is the weekend to #RideElyNV! White Pine County is also dirt bike friendly and Coyotes MC is having their Howl at the Moon Night Ride July 29th! \nAll info can be found in the flyer below and they’ll also be having t-shirts and food for sale.
URL:https://elynevada.net/event/coyotes-mc-howl-at-the-moon/
LOCATION:Ely\, NV\, 89301\, United States
CATEGORIES:Community,Races,Sports
ATTACH;FMTTYPE=image/png:https://elynevada.net/wp-content/uploads/2023/01/White-Pine-Coyotes-Howl-at-the-Moon.png
END:VEVENT
END:VCALENDAR