BEGIN:VCALENDAR
VERSION:2.0
PRODID:-//Welcome To Ely - ECPv6.15.20//NONSGML v1.0//EN
CALSCALE:GREGORIAN
METHOD:PUBLISH
X-ORIGINAL-URL:https://elynevada.net
X-WR-CALDESC:Events for Welcome To Ely
REFRESH-INTERVAL;VALUE=DURATION:PT1H
X-Robots-Tag:noindex
X-PUBLISHED-TTL:PT1H
BEGIN:VTIMEZONE
TZID:UTC
BEGIN:STANDARD
TZOFFSETFROM:+0000
TZOFFSETTO:+0000
TZNAME:UTC
DTSTART:20180101T000000
END:STANDARD
END:VTIMEZONE
BEGIN:VEVENT
DTSTART;TZID=UTC:20230401T130000
DTEND;TZID=UTC:20230401T160000
DTSTAMP:20260423T085600
CREATED:20230309T045711Z
LAST-MODIFIED:20230309T051504Z
UID:10000555-1680354000-1680364800@elynevada.net
SUMMARY:The Sound of Music
DESCRIPTION:The Sound of Music\nThe hills are alive at the Ely United Methodist Church thanks to the Ely Children’s Community Theater. \n\nSpring production of the Sound of Music\n\n\nMarch 24\, 6:00 pm\nMarch 25\, 6:00 pm\nMarch 31\, 6:00 pm\nApril 1\, 1:00 pm
URL:https://elynevada.net/event/the-sound-of-music/2023-04-01/
LOCATION:Ely United Methodist Church\, 1100 South Pioche Highway\, Ely\, NV\, 89301\, United States
CATEGORIES:Arts & Culture,Community
ATTACH;FMTTYPE=image/jpeg:https://elynevada.net/wp-content/uploads/2023/03/Sound-of-Music-Ely-Children.jpg
ORGANIZER;CN="Ely Children's Community Theater":MAILTO:elyumc@att.net
END:VEVENT
BEGIN:VEVENT
DTSTART;TZID=UTC:20230331T180000
DTEND;TZID=UTC:20230331T210000
DTSTAMP:20260423T085600
CREATED:20230309T045711Z
LAST-MODIFIED:20230309T051504Z
UID:10000554-1680285600-1680296400@elynevada.net
SUMMARY:The Sound of Music
DESCRIPTION:The Sound of Music\nThe hills are alive at the Ely United Methodist Church thanks to the Ely Children’s Community Theater. \n\nSpring production of the Sound of Music\n\n\nMarch 24\, 6:00 pm\nMarch 25\, 6:00 pm\nMarch 31\, 6:00 pm\nApril 1\, 1:00 pm
URL:https://elynevada.net/event/the-sound-of-music/2023-03-31/
LOCATION:Ely United Methodist Church\, 1100 South Pioche Highway\, Ely\, NV\, 89301\, United States
CATEGORIES:Arts & Culture,Community
ATTACH;FMTTYPE=image/jpeg:https://elynevada.net/wp-content/uploads/2023/03/Sound-of-Music-Ely-Children.jpg
ORGANIZER;CN="Ely Children's Community Theater":MAILTO:elyumc@att.net
END:VEVENT
BEGIN:VEVENT
DTSTART;TZID=UTC:20230325T180000
DTEND;TZID=UTC:20230325T210000
DTSTAMP:20260423T085600
CREATED:20230309T045711Z
LAST-MODIFIED:20230309T051504Z
UID:10000553-1679767200-1679778000@elynevada.net
SUMMARY:The Sound of Music
DESCRIPTION:The Sound of Music\nThe hills are alive at the Ely United Methodist Church thanks to the Ely Children’s Community Theater. \n\nSpring production of the Sound of Music\n\n\nMarch 24\, 6:00 pm\nMarch 25\, 6:00 pm\nMarch 31\, 6:00 pm\nApril 1\, 1:00 pm
URL:https://elynevada.net/event/the-sound-of-music/2023-03-25/
LOCATION:Ely United Methodist Church\, 1100 South Pioche Highway\, Ely\, NV\, 89301\, United States
CATEGORIES:Arts & Culture,Community
ATTACH;FMTTYPE=image/jpeg:https://elynevada.net/wp-content/uploads/2023/03/Sound-of-Music-Ely-Children.jpg
ORGANIZER;CN="Ely Children's Community Theater":MAILTO:elyumc@att.net
END:VEVENT
BEGIN:VEVENT
DTSTART;TZID=UTC:20230324T180000
DTEND;TZID=UTC:20230324T210000
DTSTAMP:20260423T085600
CREATED:20230309T045711Z
LAST-MODIFIED:20230309T051504Z
UID:10000552-1679680800-1679691600@elynevada.net
SUMMARY:The Sound of Music
DESCRIPTION:The Sound of Music\nThe hills are alive at the Ely United Methodist Church thanks to the Ely Children’s Community Theater. \n\nSpring production of the Sound of Music\n\n\nMarch 24\, 6:00 pm\nMarch 25\, 6:00 pm\nMarch 31\, 6:00 pm\nApril 1\, 1:00 pm
URL:https://elynevada.net/event/the-sound-of-music/2023-03-24/
LOCATION:Ely United Methodist Church\, 1100 South Pioche Highway\, Ely\, NV\, 89301\, United States
CATEGORIES:Arts & Culture,Community
ATTACH;FMTTYPE=image/jpeg:https://elynevada.net/wp-content/uploads/2023/03/Sound-of-Music-Ely-Children.jpg
ORGANIZER;CN="Ely Children's Community Theater":MAILTO:elyumc@att.net
END:VEVENT
BEGIN:VEVENT
DTSTART;TZID=UTC:20220813T130000
DTEND;TZID=UTC:20220813T150000
DTSTAMP:20260423T085600
CREATED:20220719T054138Z
LAST-MODIFIED:20220719T054138Z
UID:10000466-1660395600-1660402800@elynevada.net
SUMMARY:Blazing Guns at Roaring Gulch
DESCRIPTION:Blazing Guns at Roaring Gulch\nThe Ely Children’s Community Theater Presents Blazing Guns at Roaring Gulch! Or\, it might be recognized as The Perfumed Badge by Shubert Fendrich. \nA Western Melodrama with four showings at the Ely United Methodist Church\, 110 S. Pioche Highway in Ely\, Nevada. \n \nAugust 6\, 2022 at 6:00 p.m. \nAugust 11\, 2022 at 6:00 p.m. \nAugust 12\, 2022 at 6:00 p.m. \nAugust 13\, 2022 at 1:00 p.m. \nTickets = $5.00/each (children 14 & under free) \nDiscover more in Ely HERE!
URL:https://elynevada.net/event/blazing-guns-at-roaring-gulch/2022-08-13/
LOCATION:Ely United Methodist Church\, 1100 South Pioche Highway\, Ely\, NV\, 89301\, United States
CATEGORIES:Arts & Culture,Community
ATTACH;FMTTYPE=image/png:https://elynevada.net/wp-content/uploads/2022/07/ECCT-Melodrama.png
ORGANIZER;CN="Ely Children's Community Theater":MAILTO:elyumc@att.net
END:VEVENT
BEGIN:VEVENT
DTSTART;TZID=UTC:20220812T180000
DTEND;TZID=UTC:20220812T200000
DTSTAMP:20260423T085600
CREATED:20220719T054138Z
LAST-MODIFIED:20220719T054138Z
UID:10000465-1660327200-1660334400@elynevada.net
SUMMARY:Blazing Guns at Roaring Gulch
DESCRIPTION:Blazing Guns at Roaring Gulch\nThe Ely Children’s Community Theater Presents Blazing Guns at Roaring Gulch! Or\, it might be recognized as The Perfumed Badge by Shubert Fendrich. \nA Western Melodrama with four showings at the Ely United Methodist Church\, 110 S. Pioche Highway in Ely\, Nevada. \n \nAugust 6\, 2022 at 6:00 p.m. \nAugust 11\, 2022 at 6:00 p.m. \nAugust 12\, 2022 at 6:00 p.m. \nAugust 13\, 2022 at 1:00 p.m. \nTickets = $5.00/each (children 14 & under free) \nDiscover more in Ely HERE!
URL:https://elynevada.net/event/blazing-guns-at-roaring-gulch/2022-08-12/
LOCATION:Ely United Methodist Church\, 1100 South Pioche Highway\, Ely\, NV\, 89301\, United States
CATEGORIES:Arts & Culture,Community
ATTACH;FMTTYPE=image/png:https://elynevada.net/wp-content/uploads/2022/07/ECCT-Melodrama.png
ORGANIZER;CN="Ely Children's Community Theater":MAILTO:elyumc@att.net
END:VEVENT
BEGIN:VEVENT
DTSTART;TZID=UTC:20220811T180000
DTEND;TZID=UTC:20220811T200000
DTSTAMP:20260423T085600
CREATED:20220719T054138Z
LAST-MODIFIED:20220719T054138Z
UID:10000464-1660240800-1660248000@elynevada.net
SUMMARY:Blazing Guns at Roaring Gulch
DESCRIPTION:Blazing Guns at Roaring Gulch\nThe Ely Children’s Community Theater Presents Blazing Guns at Roaring Gulch! Or\, it might be recognized as The Perfumed Badge by Shubert Fendrich. \nA Western Melodrama with four showings at the Ely United Methodist Church\, 110 S. Pioche Highway in Ely\, Nevada. \n \nAugust 6\, 2022 at 6:00 p.m. \nAugust 11\, 2022 at 6:00 p.m. \nAugust 12\, 2022 at 6:00 p.m. \nAugust 13\, 2022 at 1:00 p.m. \nTickets = $5.00/each (children 14 & under free) \nDiscover more in Ely HERE!
URL:https://elynevada.net/event/blazing-guns-at-roaring-gulch/2022-08-11/
LOCATION:Ely United Methodist Church\, 1100 South Pioche Highway\, Ely\, NV\, 89301\, United States
CATEGORIES:Arts & Culture,Community
ATTACH;FMTTYPE=image/png:https://elynevada.net/wp-content/uploads/2022/07/ECCT-Melodrama.png
ORGANIZER;CN="Ely Children's Community Theater":MAILTO:elyumc@att.net
END:VEVENT
BEGIN:VEVENT
DTSTART;TZID=UTC:20220806T180000
DTEND;TZID=UTC:20220806T200000
DTSTAMP:20260423T085600
CREATED:20220719T054138Z
LAST-MODIFIED:20220719T054138Z
UID:10000463-1659808800-1659816000@elynevada.net
SUMMARY:Blazing Guns at Roaring Gulch
DESCRIPTION:Blazing Guns at Roaring Gulch\nThe Ely Children’s Community Theater Presents Blazing Guns at Roaring Gulch! Or\, it might be recognized as The Perfumed Badge by Shubert Fendrich. \nA Western Melodrama with four showings at the Ely United Methodist Church\, 110 S. Pioche Highway in Ely\, Nevada. \n \nAugust 6\, 2022 at 6:00 p.m. \nAugust 11\, 2022 at 6:00 p.m. \nAugust 12\, 2022 at 6:00 p.m. \nAugust 13\, 2022 at 1:00 p.m. \nTickets = $5.00/each (children 14 & under free) \nDiscover more in Ely HERE!
URL:https://elynevada.net/event/blazing-guns-at-roaring-gulch/2022-08-06/
LOCATION:Ely United Methodist Church\, 1100 South Pioche Highway\, Ely\, NV\, 89301\, United States
CATEGORIES:Arts & Culture,Community
ATTACH;FMTTYPE=image/png:https://elynevada.net/wp-content/uploads/2022/07/ECCT-Melodrama.png
ORGANIZER;CN="Ely Children's Community Theater":MAILTO:elyumc@att.net
END:VEVENT
BEGIN:VEVENT
DTSTART;TZID=UTC:20190831T140000
DTEND;TZID=UTC:20190831T170000
DTSTAMP:20260423T085600
CREATED:20190815T185528Z
LAST-MODIFIED:20190815T185532Z
UID:10000069-1567260000-1567270800@elynevada.net
SUMMARY:Alice's Adventure's in Wonderland
DESCRIPTION:Follow us down the rabbit hole for Alice’s Adventure’s in Wonderland\, proudly presented by the Ely Community Theater. Adapted by Tim Kelly\, this classic tale by Lewis Carroll comes to life by special arrangement of the Pioneer Drama Service\, Inc. \n“I’m as he\, as you are he\, as you are me\, and we are all together”- John Lennon
URL:https://elynevada.net/event/alices-adventures-in-wonderland-4/
LOCATION:Ely United Methodist Church\, 1100 South Pioche Highway\, Ely\, NV\, 89301\, United States
CATEGORIES:Arts & Culture,Community
ATTACH;FMTTYPE=image/jpeg:https://elynevada.net/wp-content/uploads/2019/08/68570236_1305121806330555_8258184940030525440_n.jpg
ORGANIZER;CN="Ely Children's Community Theater":MAILTO:elyumc@att.net
END:VEVENT
BEGIN:VEVENT
DTSTART;TZID=UTC:20190830T190000
DTEND;TZID=UTC:20190830T210000
DTSTAMP:20260423T085600
CREATED:20190815T185036Z
LAST-MODIFIED:20190815T185040Z
UID:10000071-1567191600-1567198800@elynevada.net
SUMMARY:Alice's Adventures in Wonderland
DESCRIPTION:Follow us down the rabbit hole for Alice’s Adventure’s in Wonderland\, proudly presented by the Ely Community Theater. Adapted by Tim Kelly\, this classic tale by Lewis Carroll comes to life by special arrangement of the Pioneer Drama Service\, Inc. \n“I’m as he\, as you are he\, as you are me\, and we are all together”- John Lennon
URL:https://elynevada.net/event/alices-adventures-in-wonderland-2/
LOCATION:Ely United Methodist Church\, 1100 South Pioche Highway\, Ely\, NV\, 89301\, United States
CATEGORIES:Arts & Culture,Community
ATTACH;FMTTYPE=image/jpeg:https://elynevada.net/wp-content/uploads/2019/08/68570236_1305121806330555_8258184940030525440_n.jpg
ORGANIZER;CN="Ely Children's Community Theater":MAILTO:elyumc@att.net
END:VEVENT
BEGIN:VEVENT
DTSTART;TZID=UTC:20190824T140000
DTEND;TZID=UTC:20190824T170000
DTSTAMP:20260423T085600
CREATED:20190815T185322Z
LAST-MODIFIED:20190815T185412Z
UID:10000070-1566655200-1566666000@elynevada.net
SUMMARY:Alice's Adventure's in Wonderland
DESCRIPTION:Follow us down the rabbit hole for Alice’s Adventure’s in Wonderland\, proudly presented by the Ely Community Theater. Adapted by Tim Kelly\, this classic tale by Lewis Carroll comes to life by special arrangement of the Pioneer Drama Service\, Inc. \n“I’m as he\, as you are he\, as you are me\, and we are all together”- John Lennon
URL:https://elynevada.net/event/alices-adventures-in-wonderland-3/
LOCATION:Ely United Methodist Church\, 1100 South Pioche Highway\, Ely\, NV\, 89301\, United States
CATEGORIES:Arts & Culture,Community
ATTACH;FMTTYPE=image/jpeg:https://elynevada.net/wp-content/uploads/2019/08/68570236_1305121806330555_8258184940030525440_n.jpg
ORGANIZER;CN="Ely Children's Community Theater":MAILTO:elyumc@att.net
END:VEVENT
BEGIN:VEVENT
DTSTART;TZID=UTC:20190823T190000
DTEND;TZID=UTC:20190823T210000
DTSTAMP:20260423T085600
CREATED:20190815T184808Z
LAST-MODIFIED:20190815T184815Z
UID:10000072-1566586800-1566594000@elynevada.net
SUMMARY:Alice's Adventure's in Wonderland
DESCRIPTION:Follow us down the rabbit hole for Alice’s Adventure’s in Wonderland\, proudly presented by the Ely Community Theater. Adapted by Tim Kelly\, this classic tale by Lewis Carroll comes to life by special arrangement of the Pioneer Drama Service\, Inc. \n“I’m as he\, as you are he\, as you are me\, and we are all together”- John Lennon
URL:https://elynevada.net/event/alices-adventures-in-wonderland/
LOCATION:Ely United Methodist Church\, 1100 South Pioche Highway\, Ely\, NV\, 89301\, United States
CATEGORIES:Arts & Culture,Community
ATTACH;FMTTYPE=image/jpeg:https://elynevada.net/wp-content/uploads/2019/08/68570236_1305121806330555_8258184940030525440_n.jpg
ORGANIZER;CN="Ely Children's Community Theater":MAILTO:elyumc@att.net
END:VEVENT
END:VCALENDAR