BEGIN:VCALENDAR
VERSION:2.0
PRODID:-//Welcome To Ely - ECPv6.15.20//NONSGML v1.0//EN
CALSCALE:GREGORIAN
METHOD:PUBLISH
X-WR-CALNAME:Welcome To Ely
X-ORIGINAL-URL:https://elynevada.net
X-WR-CALDESC:Events for Welcome To Ely
REFRESH-INTERVAL;VALUE=DURATION:PT1H
X-Robots-Tag:noindex
X-PUBLISHED-TTL:PT1H
BEGIN:VTIMEZONE
TZID:UTC
BEGIN:STANDARD
TZOFFSETFROM:+0000
TZOFFSETTO:+0000
TZNAME:UTC
DTSTART:20180101T000000
END:STANDARD
END:VTIMEZONE
BEGIN:VEVENT
DTSTART;TZID=UTC:20190824T140000
DTEND;TZID=UTC:20190824T170000
DTSTAMP:20260423T073654
CREATED:20190815T185322Z
LAST-MODIFIED:20190815T185412Z
UID:10000070-1566655200-1566666000@elynevada.net
SUMMARY:Alice's Adventure's in Wonderland
DESCRIPTION:Follow us down the rabbit hole for Alice’s Adventure’s in Wonderland\, proudly presented by the Ely Community Theater. Adapted by Tim Kelly\, this classic tale by Lewis Carroll comes to life by special arrangement of the Pioneer Drama Service\, Inc. \n“I’m as he\, as you are he\, as you are me\, and we are all together”- John Lennon
URL:https://elynevada.net/event/alices-adventures-in-wonderland-3/
LOCATION:Ely United Methodist Church\, 1100 South Pioche Highway\, Ely\, NV\, 89301\, United States
CATEGORIES:Arts & Culture,Community
ATTACH;FMTTYPE=image/jpeg:https://elynevada.net/wp-content/uploads/2019/08/68570236_1305121806330555_8258184940030525440_n.jpg
ORGANIZER;CN="Ely Children's Community Theater":MAILTO:elyumc@att.net
END:VEVENT
BEGIN:VEVENT
DTSTART;TZID=UTC:20190823T190000
DTEND;TZID=UTC:20190823T210000
DTSTAMP:20260423T073654
CREATED:20190815T184808Z
LAST-MODIFIED:20190815T184815Z
UID:10000072-1566586800-1566594000@elynevada.net
SUMMARY:Alice's Adventure's in Wonderland
DESCRIPTION:Follow us down the rabbit hole for Alice’s Adventure’s in Wonderland\, proudly presented by the Ely Community Theater. Adapted by Tim Kelly\, this classic tale by Lewis Carroll comes to life by special arrangement of the Pioneer Drama Service\, Inc. \n“I’m as he\, as you are he\, as you are me\, and we are all together”- John Lennon
URL:https://elynevada.net/event/alices-adventures-in-wonderland/
LOCATION:Ely United Methodist Church\, 1100 South Pioche Highway\, Ely\, NV\, 89301\, United States
CATEGORIES:Arts & Culture,Community
ATTACH;FMTTYPE=image/jpeg:https://elynevada.net/wp-content/uploads/2019/08/68570236_1305121806330555_8258184940030525440_n.jpg
ORGANIZER;CN="Ely Children's Community Theater":MAILTO:elyumc@att.net
END:VEVENT
END:VCALENDAR