BEGIN:VCALENDAR
VERSION:2.0
PRODID:-//Welcome To Ely - ECPv6.15.20//NONSGML v1.0//EN
CALSCALE:GREGORIAN
METHOD:PUBLISH
X-ORIGINAL-URL:https://elynevada.net
X-WR-CALDESC:Events for Welcome To Ely
REFRESH-INTERVAL;VALUE=DURATION:PT1H
X-Robots-Tag:noindex
X-PUBLISHED-TTL:PT1H
BEGIN:VTIMEZONE
TZID:America/Los_Angeles
BEGIN:DAYLIGHT
TZOFFSETFROM:-0800
TZOFFSETTO:-0700
TZNAME:PDT
DTSTART:20220313T100000
END:DAYLIGHT
BEGIN:STANDARD
TZOFFSETFROM:-0700
TZOFFSETTO:-0800
TZNAME:PST
DTSTART:20221106T090000
END:STANDARD
BEGIN:DAYLIGHT
TZOFFSETFROM:-0800
TZOFFSETTO:-0700
TZNAME:PDT
DTSTART:20230312T100000
END:DAYLIGHT
BEGIN:STANDARD
TZOFFSETFROM:-0700
TZOFFSETTO:-0800
TZNAME:PST
DTSTART:20231105T090000
END:STANDARD
BEGIN:DAYLIGHT
TZOFFSETFROM:-0800
TZOFFSETTO:-0700
TZNAME:PDT
DTSTART:20240310T100000
END:DAYLIGHT
BEGIN:STANDARD
TZOFFSETFROM:-0700
TZOFFSETTO:-0800
TZNAME:PST
DTSTART:20241103T090000
END:STANDARD
BEGIN:DAYLIGHT
TZOFFSETFROM:-0800
TZOFFSETTO:-0700
TZNAME:PDT
DTSTART:20250309T100000
END:DAYLIGHT
BEGIN:STANDARD
TZOFFSETFROM:-0700
TZOFFSETTO:-0800
TZNAME:PST
DTSTART:20251102T090000
END:STANDARD
BEGIN:DAYLIGHT
TZOFFSETFROM:-0800
TZOFFSETTO:-0700
TZNAME:PDT
DTSTART:20260308T100000
END:DAYLIGHT
BEGIN:STANDARD
TZOFFSETFROM:-0700
TZOFFSETTO:-0800
TZNAME:PST
DTSTART:20261101T090000
END:STANDARD
END:VTIMEZONE
BEGIN:VTIMEZONE
TZID:UTC
BEGIN:STANDARD
TZOFFSETFROM:+0000
TZOFFSETTO:+0000
TZNAME:UTC
DTSTART:20230101T000000
END:STANDARD
END:VTIMEZONE
BEGIN:VEVENT
DTSTART;TZID=America/Los_Angeles:20250904T180000
DTEND;TZID=America/Los_Angeles:20250904T203000
DTSTAMP:20260422T221237
CREATED:20240405T001511Z
LAST-MODIFIED:20240405T001511Z
UID:10002620-1757008800-1757017800@elynevada.net
SUMMARY:Ely Elks Lodge Bingo
DESCRIPTION:Ely Elks Lodge Bingo\nBingo every first Thursday at the Ely Elks Lodge. Hot dogs and Chili are sold. Great time\, great people\, and BINGO!!!
URL:https://elynevada.net/event/ely-elks-lodge-bingo-2/2025-09-04/
LOCATION:Ely Elks Lodge\, 694 Campton St.\, Ely\, NV\, 89301\, United States
CATEGORIES:Community,Sports
ATTACH;FMTTYPE=image/png:https://elynevada.net/wp-content/uploads/2023/01/Ely-Elks-Lodge-Bingo.png
ORGANIZER;CN="Ely Elks Lodge":MAILTO:elyelks1469@att.net
END:VEVENT
BEGIN:VEVENT
DTSTART;TZID=America/Los_Angeles:20250807T180000
DTEND;TZID=America/Los_Angeles:20250807T203000
DTSTAMP:20260422T221237
CREATED:20240405T001511Z
LAST-MODIFIED:20240405T001511Z
UID:10002619-1754589600-1754598600@elynevada.net
SUMMARY:Ely Elks Lodge Bingo
DESCRIPTION:Ely Elks Lodge Bingo\nBingo every first Thursday at the Ely Elks Lodge. Hot dogs and Chili are sold. Great time\, great people\, and BINGO!!!
URL:https://elynevada.net/event/ely-elks-lodge-bingo-2/2025-08-07/
LOCATION:Ely Elks Lodge\, 694 Campton St.\, Ely\, NV\, 89301\, United States
CATEGORIES:Community,Sports
ATTACH;FMTTYPE=image/png:https://elynevada.net/wp-content/uploads/2023/01/Ely-Elks-Lodge-Bingo.png
ORGANIZER;CN="Ely Elks Lodge":MAILTO:elyelks1469@att.net
END:VEVENT
BEGIN:VEVENT
DTSTART;TZID=America/Los_Angeles:20250703T180000
DTEND;TZID=America/Los_Angeles:20250703T203000
DTSTAMP:20260422T221237
CREATED:20240405T001511Z
LAST-MODIFIED:20240405T001511Z
UID:10002618-1751565600-1751574600@elynevada.net
SUMMARY:Ely Elks Lodge Bingo
DESCRIPTION:Ely Elks Lodge Bingo\nBingo every first Thursday at the Ely Elks Lodge. Hot dogs and Chili are sold. Great time\, great people\, and BINGO!!!
URL:https://elynevada.net/event/ely-elks-lodge-bingo-2/2025-07-03/
LOCATION:Ely Elks Lodge\, 694 Campton St.\, Ely\, NV\, 89301\, United States
CATEGORIES:Community,Sports
ATTACH;FMTTYPE=image/png:https://elynevada.net/wp-content/uploads/2023/01/Ely-Elks-Lodge-Bingo.png
ORGANIZER;CN="Ely Elks Lodge":MAILTO:elyelks1469@att.net
END:VEVENT
BEGIN:VEVENT
DTSTART;TZID=America/Los_Angeles:20250605T180000
DTEND;TZID=America/Los_Angeles:20250605T203000
DTSTAMP:20260422T221237
CREATED:20240405T001511Z
LAST-MODIFIED:20240405T001511Z
UID:10002617-1749146400-1749155400@elynevada.net
SUMMARY:Ely Elks Lodge Bingo
DESCRIPTION:Ely Elks Lodge Bingo\nBingo every first Thursday at the Ely Elks Lodge. Hot dogs and Chili are sold. Great time\, great people\, and BINGO!!!
URL:https://elynevada.net/event/ely-elks-lodge-bingo-2/2025-06-05/
LOCATION:Ely Elks Lodge\, 694 Campton St.\, Ely\, NV\, 89301\, United States
CATEGORIES:Community,Sports
ATTACH;FMTTYPE=image/png:https://elynevada.net/wp-content/uploads/2023/01/Ely-Elks-Lodge-Bingo.png
ORGANIZER;CN="Ely Elks Lodge":MAILTO:elyelks1469@att.net
END:VEVENT
BEGIN:VEVENT
DTSTART;TZID=America/Los_Angeles:20250501T180000
DTEND;TZID=America/Los_Angeles:20250501T203000
DTSTAMP:20260422T221237
CREATED:20240405T001511Z
LAST-MODIFIED:20240405T001511Z
UID:10002616-1746122400-1746131400@elynevada.net
SUMMARY:Ely Elks Lodge Bingo
DESCRIPTION:Ely Elks Lodge Bingo\nBingo every first Thursday at the Ely Elks Lodge. Hot dogs and Chili are sold. Great time\, great people\, and BINGO!!!
URL:https://elynevada.net/event/ely-elks-lodge-bingo-2/2025-05-01/
LOCATION:Ely Elks Lodge\, 694 Campton St.\, Ely\, NV\, 89301\, United States
CATEGORIES:Community,Sports
ATTACH;FMTTYPE=image/png:https://elynevada.net/wp-content/uploads/2023/01/Ely-Elks-Lodge-Bingo.png
ORGANIZER;CN="Ely Elks Lodge":MAILTO:elyelks1469@att.net
END:VEVENT
BEGIN:VEVENT
DTSTART;TZID=America/Los_Angeles:20250403T180000
DTEND;TZID=America/Los_Angeles:20250403T203000
DTSTAMP:20260422T221237
CREATED:20240405T001511Z
LAST-MODIFIED:20240405T001511Z
UID:10002615-1743703200-1743712200@elynevada.net
SUMMARY:Ely Elks Lodge Bingo
DESCRIPTION:Ely Elks Lodge Bingo\nBingo every first Thursday at the Ely Elks Lodge. Hot dogs and Chili are sold. Great time\, great people\, and BINGO!!!
URL:https://elynevada.net/event/ely-elks-lodge-bingo-2/2025-04-03/
LOCATION:Ely Elks Lodge\, 694 Campton St.\, Ely\, NV\, 89301\, United States
CATEGORIES:Community,Sports
ATTACH;FMTTYPE=image/png:https://elynevada.net/wp-content/uploads/2023/01/Ely-Elks-Lodge-Bingo.png
ORGANIZER;CN="Ely Elks Lodge":MAILTO:elyelks1469@att.net
END:VEVENT
BEGIN:VEVENT
DTSTART;TZID=America/Los_Angeles:20250308T170000
DTEND;TZID=America/Los_Angeles:20250308T220000
DTSTAMP:20260422T221237
CREATED:20241205T030911Z
LAST-MODIFIED:20250114T204210Z
UID:10003093-1741453200-1741471200@elynevada.net
SUMMARY:Elks Annual Crab Crack
DESCRIPTION:Elks Annual Crab Crack\nMake sure you’re not wearing your Saturday best during this year’s Crab Crack on February 1st and March 8th at the Elks Annual Crab Crack\, because attempting to be dainty is a losing strategy at this type of event. For most people\, this is another great gathering at the table with some friends and family. \nThis event serves 500 pounds of crab that is shipped to Ocean Beauty Distributors in Salt Lake from Fisheries in Astoria\, Oregon. Volunteers from the lodge drive to Salt Lake to pick up the frozen crab on Wednesday before the event. The crab is thawed and served at just the right temperature. Along with the crab\, 60 pounds of coleslaw and 50 loaves of garlic bread\, cocktail sauce and 39 pounds of melted butter is also served with dinner. \nYou arrive to your seat\, and plate of crab legs\, a “crab cracker”\, and bib awaits each guest. \n$60 per ticket \n$85 for steak and crab \nYou see many guests holding a conversation while cracking open crab legs\, pulling the meat off with their hands popping it in their mouth and continuing on their journey of disassembling a crab leg for all of the meat it has to offer. Some choose to wear the bib that is provided\, and others try to maintain their fashion trend by opting out on the bib option. \nContact the Ely Elks for more information and tickets at (775) 293 – 2736.
URL:https://elynevada.net/event/elks-annual-crab-crack/2025-03-08/
LOCATION:Ely Elks Lodge\, 694 Campton St.\, Ely\, NV\, 89301\, United States
CATEGORIES:Community
ATTACH;FMTTYPE=image/jpeg:https://elynevada.net/wp-content/uploads/2024/12/Crab-Crack-First-one-2024.jpg
ORGANIZER;CN="Ely Elks Lodge":MAILTO:elyelks1469@att.net
END:VEVENT
BEGIN:VEVENT
DTSTART;TZID=America/Los_Angeles:20250306T180000
DTEND;TZID=America/Los_Angeles:20250306T203000
DTSTAMP:20260422T221237
CREATED:20240405T001511Z
LAST-MODIFIED:20240405T001511Z
UID:10002558-1741284000-1741293000@elynevada.net
SUMMARY:Ely Elks Lodge Bingo
DESCRIPTION:Ely Elks Lodge Bingo\nBingo every first Thursday at the Ely Elks Lodge. Hot dogs and Chili are sold. Great time\, great people\, and BINGO!!!
URL:https://elynevada.net/event/ely-elks-lodge-bingo-2/2025-03-06/
LOCATION:Ely Elks Lodge\, 694 Campton St.\, Ely\, NV\, 89301\, United States
CATEGORIES:Community,Sports
ATTACH;FMTTYPE=image/png:https://elynevada.net/wp-content/uploads/2023/01/Ely-Elks-Lodge-Bingo.png
ORGANIZER;CN="Ely Elks Lodge":MAILTO:elyelks1469@att.net
END:VEVENT
BEGIN:VEVENT
DTSTART;TZID=America/Los_Angeles:20250206T180000
DTEND;TZID=America/Los_Angeles:20250206T203000
DTSTAMP:20260422T221237
CREATED:20240405T001511Z
LAST-MODIFIED:20240405T001511Z
UID:10002557-1738864800-1738873800@elynevada.net
SUMMARY:Ely Elks Lodge Bingo
DESCRIPTION:Ely Elks Lodge Bingo\nBingo every first Thursday at the Ely Elks Lodge. Hot dogs and Chili are sold. Great time\, great people\, and BINGO!!!
URL:https://elynevada.net/event/ely-elks-lodge-bingo-2/2025-02-06/
LOCATION:Ely Elks Lodge\, 694 Campton St.\, Ely\, NV\, 89301\, United States
CATEGORIES:Community,Sports
ATTACH;FMTTYPE=image/png:https://elynevada.net/wp-content/uploads/2023/01/Ely-Elks-Lodge-Bingo.png
ORGANIZER;CN="Ely Elks Lodge":MAILTO:elyelks1469@att.net
END:VEVENT
BEGIN:VEVENT
DTSTART;TZID=America/Los_Angeles:20250201T173000
DTEND;TZID=America/Los_Angeles:20250201T220000
DTSTAMP:20260422T221237
CREATED:20241205T030911Z
LAST-MODIFIED:20250114T204210Z
UID:10003123-1738431000-1738447200@elynevada.net
SUMMARY:Elks Annual Crab Crack
DESCRIPTION:Elks Annual Crab Crack\nMake sure you’re not wearing your Saturday best during this year’s Crab Crack on February 1st and March 8th at the Elks Annual Crab Crack\, because attempting to be dainty is a losing strategy at this type of event. For most people\, this is another great gathering at the table with some friends and family. \nThis event serves 500 pounds of crab that is shipped to Ocean Beauty Distributors in Salt Lake from Fisheries in Astoria\, Oregon. Volunteers from the lodge drive to Salt Lake to pick up the frozen crab on Wednesday before the event. The crab is thawed and served at just the right temperature. Along with the crab\, 60 pounds of coleslaw and 50 loaves of garlic bread\, cocktail sauce and 39 pounds of melted butter is also served with dinner. \nYou arrive to your seat\, and plate of crab legs\, a “crab cracker”\, and bib awaits each guest. \n$60 per ticket \n$85 for steak and crab \nYou see many guests holding a conversation while cracking open crab legs\, pulling the meat off with their hands popping it in their mouth and continuing on their journey of disassembling a crab leg for all of the meat it has to offer. Some choose to wear the bib that is provided\, and others try to maintain their fashion trend by opting out on the bib option. \nContact the Ely Elks for more information and tickets at (775) 293 – 2736.
URL:https://elynevada.net/event/elks-annual-crab-crack/2025-02-01/
LOCATION:Ely Elks Lodge\, 694 Campton St.\, Ely\, NV\, 89301\, United States
CATEGORIES:Community
ATTACH;FMTTYPE=image/jpeg:https://elynevada.net/wp-content/uploads/2024/12/Crab-Crack-First-one-2024.jpg
ORGANIZER;CN="Ely Elks Lodge":MAILTO:elyelks1469@att.net
END:VEVENT
BEGIN:VEVENT
DTSTART;TZID=America/Los_Angeles:20250102T180000
DTEND;TZID=America/Los_Angeles:20250102T203000
DTSTAMP:20260422T221237
CREATED:20240405T001511Z
LAST-MODIFIED:20240405T001511Z
UID:10002614-1735840800-1735849800@elynevada.net
SUMMARY:Ely Elks Lodge Bingo
DESCRIPTION:Ely Elks Lodge Bingo\nBingo every first Thursday at the Ely Elks Lodge. Hot dogs and Chili are sold. Great time\, great people\, and BINGO!!!
URL:https://elynevada.net/event/ely-elks-lodge-bingo-2/2025-01-02/
LOCATION:Ely Elks Lodge\, 694 Campton St.\, Ely\, NV\, 89301\, United States
CATEGORIES:Community,Sports
ATTACH;FMTTYPE=image/png:https://elynevada.net/wp-content/uploads/2023/01/Ely-Elks-Lodge-Bingo.png
ORGANIZER;CN="Ely Elks Lodge":MAILTO:elyelks1469@att.net
END:VEVENT
BEGIN:VEVENT
DTSTART;TZID=America/Los_Angeles:20241205T180000
DTEND;TZID=America/Los_Angeles:20241205T203000
DTSTAMP:20260422T221237
CREATED:20240405T001511Z
LAST-MODIFIED:20240405T001511Z
UID:10002613-1733421600-1733430600@elynevada.net
SUMMARY:Ely Elks Lodge Bingo
DESCRIPTION:Ely Elks Lodge Bingo\nBingo every first Thursday at the Ely Elks Lodge. Hot dogs and Chili are sold. Great time\, great people\, and BINGO!!!
URL:https://elynevada.net/event/ely-elks-lodge-bingo-2/2024-12-05/
LOCATION:Ely Elks Lodge\, 694 Campton St.\, Ely\, NV\, 89301\, United States
CATEGORIES:Community,Sports
ATTACH;FMTTYPE=image/png:https://elynevada.net/wp-content/uploads/2023/01/Ely-Elks-Lodge-Bingo.png
ORGANIZER;CN="Ely Elks Lodge":MAILTO:elyelks1469@att.net
END:VEVENT
BEGIN:VEVENT
DTSTART;TZID=UTC:20241111T160000
DTEND;TZID=UTC:20241111T200000
DTSTAMP:20260422T221237
CREATED:20231025T042706Z
LAST-MODIFIED:20240131T063439Z
UID:10000587-1731340800-1731355200@elynevada.net
SUMMARY:Honoring Veterans at Ely Elks Lodge
DESCRIPTION:Honoring Veterans at Ely Elks Lodge\nOn November 11\, 2024\, the Ely ELKS Lodge will be Honoring Veterans of the United States Armed Forces with a dinner! Veterans and 1 guest eat free. Seating is limited\, please RSVP no later than Friday\, November 3rd. \nLocation: ELY ELKS LODGE 694 Campton Street\, Ely\, NV \nDoors and no host bar open at 4:00 pm with dinner served at 5:00 pm \nRSVP to Gayle Bartlett (775) 293-0107 or Marsha (775) 293-1593 \nRides will be available upon request. No children please. \nThank you for your service!
URL:https://elynevada.net/event/honoring-veterans-at-ely-elks-lodge/
LOCATION:Ely Elks Lodge\, 694 Campton St.\, Ely\, NV\, 89301\, United States
CATEGORIES:Community
ORGANIZER;CN="Ely Elks Lodge":MAILTO:elyelks1469@att.net
END:VEVENT
BEGIN:VEVENT
DTSTART;TZID=America/Los_Angeles:20241107T180000
DTEND;TZID=America/Los_Angeles:20241107T203000
DTSTAMP:20260422T221237
CREATED:20240405T001511Z
LAST-MODIFIED:20240405T001511Z
UID:10002612-1731002400-1731011400@elynevada.net
SUMMARY:Ely Elks Lodge Bingo
DESCRIPTION:Ely Elks Lodge Bingo\nBingo every first Thursday at the Ely Elks Lodge. Hot dogs and Chili are sold. Great time\, great people\, and BINGO!!!
URL:https://elynevada.net/event/ely-elks-lodge-bingo-2/2024-11-07/
LOCATION:Ely Elks Lodge\, 694 Campton St.\, Ely\, NV\, 89301\, United States
CATEGORIES:Community,Sports
ATTACH;FMTTYPE=image/png:https://elynevada.net/wp-content/uploads/2023/01/Ely-Elks-Lodge-Bingo.png
ORGANIZER;CN="Ely Elks Lodge":MAILTO:elyelks1469@att.net
END:VEVENT
BEGIN:VEVENT
DTSTART;TZID=America/Los_Angeles:20241003T180000
DTEND;TZID=America/Los_Angeles:20241003T203000
DTSTAMP:20260422T221237
CREATED:20240405T001511Z
LAST-MODIFIED:20240405T001511Z
UID:10002611-1727978400-1727987400@elynevada.net
SUMMARY:Ely Elks Lodge Bingo
DESCRIPTION:Ely Elks Lodge Bingo\nBingo every first Thursday at the Ely Elks Lodge. Hot dogs and Chili are sold. Great time\, great people\, and BINGO!!!
URL:https://elynevada.net/event/ely-elks-lodge-bingo-2/2024-10-03/
LOCATION:Ely Elks Lodge\, 694 Campton St.\, Ely\, NV\, 89301\, United States
CATEGORIES:Community,Sports
ATTACH;FMTTYPE=image/png:https://elynevada.net/wp-content/uploads/2023/01/Ely-Elks-Lodge-Bingo.png
ORGANIZER;CN="Ely Elks Lodge":MAILTO:elyelks1469@att.net
END:VEVENT
BEGIN:VEVENT
DTSTART;TZID=America/Los_Angeles:20240905T180000
DTEND;TZID=America/Los_Angeles:20240905T203000
DTSTAMP:20260422T221237
CREATED:20240405T001511Z
LAST-MODIFIED:20240405T001511Z
UID:10002610-1725559200-1725568200@elynevada.net
SUMMARY:Ely Elks Lodge Bingo
DESCRIPTION:Ely Elks Lodge Bingo\nBingo every first Thursday at the Ely Elks Lodge. Hot dogs and Chili are sold. Great time\, great people\, and BINGO!!!
URL:https://elynevada.net/event/ely-elks-lodge-bingo-2/2024-09-05/
LOCATION:Ely Elks Lodge\, 694 Campton St.\, Ely\, NV\, 89301\, United States
CATEGORIES:Community,Sports
ATTACH;FMTTYPE=image/png:https://elynevada.net/wp-content/uploads/2023/01/Ely-Elks-Lodge-Bingo.png
ORGANIZER;CN="Ely Elks Lodge":MAILTO:elyelks1469@att.net
END:VEVENT
BEGIN:VEVENT
DTSTART;TZID=America/Los_Angeles:20240801T180000
DTEND;TZID=America/Los_Angeles:20240801T203000
DTSTAMP:20260422T221237
CREATED:20240405T001511Z
LAST-MODIFIED:20240405T001511Z
UID:10002609-1722535200-1722544200@elynevada.net
SUMMARY:Ely Elks Lodge Bingo
DESCRIPTION:Ely Elks Lodge Bingo\nBingo every first Thursday at the Ely Elks Lodge. Hot dogs and Chili are sold. Great time\, great people\, and BINGO!!!
URL:https://elynevada.net/event/ely-elks-lodge-bingo-2/2024-08-01/
LOCATION:Ely Elks Lodge\, 694 Campton St.\, Ely\, NV\, 89301\, United States
CATEGORIES:Community,Sports
ATTACH;FMTTYPE=image/png:https://elynevada.net/wp-content/uploads/2023/01/Ely-Elks-Lodge-Bingo.png
ORGANIZER;CN="Ely Elks Lodge":MAILTO:elyelks1469@att.net
END:VEVENT
BEGIN:VEVENT
DTSTART;TZID=America/Los_Angeles:20240704T180000
DTEND;TZID=America/Los_Angeles:20240704T203000
DTSTAMP:20260422T221237
CREATED:20240405T001511Z
LAST-MODIFIED:20240405T001511Z
UID:10002608-1720116000-1720125000@elynevada.net
SUMMARY:Ely Elks Lodge Bingo
DESCRIPTION:Ely Elks Lodge Bingo\nBingo every first Thursday at the Ely Elks Lodge. Hot dogs and Chili are sold. Great time\, great people\, and BINGO!!!
URL:https://elynevada.net/event/ely-elks-lodge-bingo-2/2024-07-04/
LOCATION:Ely Elks Lodge\, 694 Campton St.\, Ely\, NV\, 89301\, United States
CATEGORIES:Community,Sports
ATTACH;FMTTYPE=image/png:https://elynevada.net/wp-content/uploads/2023/01/Ely-Elks-Lodge-Bingo.png
ORGANIZER;CN="Ely Elks Lodge":MAILTO:elyelks1469@att.net
END:VEVENT
BEGIN:VEVENT
DTSTART;TZID=America/Los_Angeles:20240606T180000
DTEND;TZID=America/Los_Angeles:20240606T203000
DTSTAMP:20260422T221237
CREATED:20240405T001511Z
LAST-MODIFIED:20240405T001511Z
UID:10002549-1717696800-1717705800@elynevada.net
SUMMARY:Ely Elks Lodge Bingo
DESCRIPTION:Ely Elks Lodge Bingo\nBingo every first Thursday at the Ely Elks Lodge. Hot dogs and Chili are sold. Great time\, great people\, and BINGO!!!
URL:https://elynevada.net/event/ely-elks-lodge-bingo-2/2024-06-06/
LOCATION:Ely Elks Lodge\, 694 Campton St.\, Ely\, NV\, 89301\, United States
CATEGORIES:Community,Sports
ATTACH;FMTTYPE=image/png:https://elynevada.net/wp-content/uploads/2023/01/Ely-Elks-Lodge-Bingo.png
ORGANIZER;CN="Ely Elks Lodge":MAILTO:elyelks1469@att.net
END:VEVENT
BEGIN:VEVENT
DTSTART;TZID=America/Los_Angeles:20240502T180000
DTEND;TZID=America/Los_Angeles:20240502T203000
DTSTAMP:20260422T221237
CREATED:20240405T001511Z
LAST-MODIFIED:20240405T001511Z
UID:10002607-1714672800-1714681800@elynevada.net
SUMMARY:Ely Elks Lodge Bingo
DESCRIPTION:Ely Elks Lodge Bingo\nBingo every first Thursday at the Ely Elks Lodge. Hot dogs and Chili are sold. Great time\, great people\, and BINGO!!!
URL:https://elynevada.net/event/ely-elks-lodge-bingo-2/2024-05-02/
LOCATION:Ely Elks Lodge\, 694 Campton St.\, Ely\, NV\, 89301\, United States
CATEGORIES:Community,Sports
ATTACH;FMTTYPE=image/png:https://elynevada.net/wp-content/uploads/2023/01/Ely-Elks-Lodge-Bingo.png
ORGANIZER;CN="Ely Elks Lodge":MAILTO:elyelks1469@att.net
END:VEVENT
BEGIN:VEVENT
DTSTART;TZID=America/Los_Angeles:20240404T180000
DTEND;TZID=America/Los_Angeles:20240404T203000
DTSTAMP:20260422T221237
CREATED:20240405T001511Z
LAST-MODIFIED:20240405T001511Z
UID:10002547-1712253600-1712262600@elynevada.net
SUMMARY:Ely Elks Lodge Bingo
DESCRIPTION:Ely Elks Lodge Bingo\nBingo every first Thursday at the Ely Elks Lodge. Hot dogs and Chili are sold. Great time\, great people\, and BINGO!!!
URL:https://elynevada.net/event/ely-elks-lodge-bingo-2/2024-04-04/
LOCATION:Ely Elks Lodge\, 694 Campton St.\, Ely\, NV\, 89301\, United States
CATEGORIES:Community,Sports
ATTACH;FMTTYPE=image/png:https://elynevada.net/wp-content/uploads/2023/01/Ely-Elks-Lodge-Bingo.png
ORGANIZER;CN="Ely Elks Lodge":MAILTO:elyelks1469@att.net
END:VEVENT
BEGIN:VEVENT
DTSTART;TZID=America/Los_Angeles:20240306T180000
DTEND;TZID=America/Los_Angeles:20240306T203000
DTSTAMP:20260422T221237
CREATED:20230104T033012Z
LAST-MODIFIED:20240405T001343Z
UID:10002546-1709748000-1709757000@elynevada.net
SUMMARY:Ely Elks Lodge Bingo
DESCRIPTION:Ely Elks Lodge Bingo\nBingo every first Thursday at the Ely Elks Lodge. Hot dogs and Chili are sold. Great time\, great people\, and BINGO!!!
URL:https://elynevada.net/event/ely-elks-lodge-bingo/2024-03-06/
LOCATION:Ely Elks Lodge\, 694 Campton St.\, Ely\, NV\, 89301\, United States
CATEGORIES:Community,Sports
ATTACH;FMTTYPE=image/png:https://elynevada.net/wp-content/uploads/2023/01/Ely-Elks-Lodge-Bingo.png
ORGANIZER;CN="Ely Elks Lodge":MAILTO:elyelks1469@att.net
END:VEVENT
BEGIN:VEVENT
DTSTART;TZID=America/Los_Angeles:20240206T180000
DTEND;TZID=America/Los_Angeles:20240206T203000
DTSTAMP:20260422T221237
CREATED:20230104T033012Z
LAST-MODIFIED:20240405T001343Z
UID:10002545-1707242400-1707251400@elynevada.net
SUMMARY:Ely Elks Lodge Bingo
DESCRIPTION:Ely Elks Lodge Bingo\nBingo every first Thursday at the Ely Elks Lodge. Hot dogs and Chili are sold. Great time\, great people\, and BINGO!!!
URL:https://elynevada.net/event/ely-elks-lodge-bingo/2024-02-06/
LOCATION:Ely Elks Lodge\, 694 Campton St.\, Ely\, NV\, 89301\, United States
CATEGORIES:Community,Sports
ATTACH;FMTTYPE=image/png:https://elynevada.net/wp-content/uploads/2023/01/Ely-Elks-Lodge-Bingo.png
ORGANIZER;CN="Ely Elks Lodge":MAILTO:elyelks1469@att.net
END:VEVENT
BEGIN:VEVENT
DTSTART;TZID=America/Los_Angeles:20240106T180000
DTEND;TZID=America/Los_Angeles:20240106T203000
DTSTAMP:20260422T221237
CREATED:20230104T033012Z
LAST-MODIFIED:20240405T001343Z
UID:10002544-1704564000-1704573000@elynevada.net
SUMMARY:Ely Elks Lodge Bingo
DESCRIPTION:Ely Elks Lodge Bingo\nBingo every first Thursday at the Ely Elks Lodge. Hot dogs and Chili are sold. Great time\, great people\, and BINGO!!!
URL:https://elynevada.net/event/ely-elks-lodge-bingo/2024-01-06/
LOCATION:Ely Elks Lodge\, 694 Campton St.\, Ely\, NV\, 89301\, United States
CATEGORIES:Community,Sports
ATTACH;FMTTYPE=image/png:https://elynevada.net/wp-content/uploads/2023/01/Ely-Elks-Lodge-Bingo.png
ORGANIZER;CN="Ely Elks Lodge":MAILTO:elyelks1469@att.net
END:VEVENT
BEGIN:VEVENT
DTSTART;TZID=America/Los_Angeles:20231206T180000
DTEND;TZID=America/Los_Angeles:20231206T203000
DTSTAMP:20260422T221237
CREATED:20230104T033012Z
LAST-MODIFIED:20240405T001343Z
UID:10002543-1701885600-1701894600@elynevada.net
SUMMARY:Ely Elks Lodge Bingo
DESCRIPTION:Ely Elks Lodge Bingo\nBingo every first Thursday at the Ely Elks Lodge. Hot dogs and Chili are sold. Great time\, great people\, and BINGO!!!
URL:https://elynevada.net/event/ely-elks-lodge-bingo/2023-12-06/
LOCATION:Ely Elks Lodge\, 694 Campton St.\, Ely\, NV\, 89301\, United States
CATEGORIES:Community,Sports
ATTACH;FMTTYPE=image/png:https://elynevada.net/wp-content/uploads/2023/01/Ely-Elks-Lodge-Bingo.png
ORGANIZER;CN="Ely Elks Lodge":MAILTO:elyelks1469@att.net
END:VEVENT
BEGIN:VEVENT
DTSTART;TZID=America/Los_Angeles:20231106T180000
DTEND;TZID=America/Los_Angeles:20231106T203000
DTSTAMP:20260422T221237
CREATED:20230104T033012Z
LAST-MODIFIED:20240405T001343Z
UID:10002542-1699293600-1699302600@elynevada.net
SUMMARY:Ely Elks Lodge Bingo
DESCRIPTION:Ely Elks Lodge Bingo\nBingo every first Thursday at the Ely Elks Lodge. Hot dogs and Chili are sold. Great time\, great people\, and BINGO!!!
URL:https://elynevada.net/event/ely-elks-lodge-bingo/2023-11-06/
LOCATION:Ely Elks Lodge\, 694 Campton St.\, Ely\, NV\, 89301\, United States
CATEGORIES:Community,Sports
ATTACH;FMTTYPE=image/png:https://elynevada.net/wp-content/uploads/2023/01/Ely-Elks-Lodge-Bingo.png
ORGANIZER;CN="Ely Elks Lodge":MAILTO:elyelks1469@att.net
END:VEVENT
BEGIN:VEVENT
DTSTART;TZID=America/Los_Angeles:20231006T180000
DTEND;TZID=America/Los_Angeles:20231006T203000
DTSTAMP:20260422T221237
CREATED:20230104T033012Z
LAST-MODIFIED:20240405T001343Z
UID:10002541-1696615200-1696624200@elynevada.net
SUMMARY:Ely Elks Lodge Bingo
DESCRIPTION:Ely Elks Lodge Bingo\nBingo every first Thursday at the Ely Elks Lodge. Hot dogs and Chili are sold. Great time\, great people\, and BINGO!!!
URL:https://elynevada.net/event/ely-elks-lodge-bingo/2023-10-06/
LOCATION:Ely Elks Lodge\, 694 Campton St.\, Ely\, NV\, 89301\, United States
CATEGORIES:Community,Sports
ATTACH;FMTTYPE=image/png:https://elynevada.net/wp-content/uploads/2023/01/Ely-Elks-Lodge-Bingo.png
ORGANIZER;CN="Ely Elks Lodge":MAILTO:elyelks1469@att.net
END:VEVENT
BEGIN:VEVENT
DTSTART;TZID=America/Los_Angeles:20230906T180000
DTEND;TZID=America/Los_Angeles:20230906T203000
DTSTAMP:20260422T221237
CREATED:20230104T033012Z
LAST-MODIFIED:20240405T001343Z
UID:10002540-1694023200-1694032200@elynevada.net
SUMMARY:Ely Elks Lodge Bingo
DESCRIPTION:Ely Elks Lodge Bingo\nBingo every first Thursday at the Ely Elks Lodge. Hot dogs and Chili are sold. Great time\, great people\, and BINGO!!!
URL:https://elynevada.net/event/ely-elks-lodge-bingo/2023-09-06/
LOCATION:Ely Elks Lodge\, 694 Campton St.\, Ely\, NV\, 89301\, United States
CATEGORIES:Community,Sports
ATTACH;FMTTYPE=image/png:https://elynevada.net/wp-content/uploads/2023/01/Ely-Elks-Lodge-Bingo.png
ORGANIZER;CN="Ely Elks Lodge":MAILTO:elyelks1469@att.net
END:VEVENT
BEGIN:VEVENT
DTSTART;TZID=America/Los_Angeles:20230806T180000
DTEND;TZID=America/Los_Angeles:20230806T203000
DTSTAMP:20260422T221237
CREATED:20230104T033012Z
LAST-MODIFIED:20240405T001343Z
UID:10002539-1691344800-1691353800@elynevada.net
SUMMARY:Ely Elks Lodge Bingo
DESCRIPTION:Ely Elks Lodge Bingo\nBingo every first Thursday at the Ely Elks Lodge. Hot dogs and Chili are sold. Great time\, great people\, and BINGO!!!
URL:https://elynevada.net/event/ely-elks-lodge-bingo/2023-08-06/
LOCATION:Ely Elks Lodge\, 694 Campton St.\, Ely\, NV\, 89301\, United States
CATEGORIES:Community,Sports
ATTACH;FMTTYPE=image/png:https://elynevada.net/wp-content/uploads/2023/01/Ely-Elks-Lodge-Bingo.png
ORGANIZER;CN="Ely Elks Lodge":MAILTO:elyelks1469@att.net
END:VEVENT
BEGIN:VEVENT
DTSTART;TZID=America/Los_Angeles:20230706T180000
DTEND;TZID=America/Los_Angeles:20230706T203000
DTSTAMP:20260422T221237
CREATED:20230104T033012Z
LAST-MODIFIED:20240405T001343Z
UID:10002538-1688666400-1688675400@elynevada.net
SUMMARY:Ely Elks Lodge Bingo
DESCRIPTION:Ely Elks Lodge Bingo\nBingo every first Thursday at the Ely Elks Lodge. Hot dogs and Chili are sold. Great time\, great people\, and BINGO!!!
URL:https://elynevada.net/event/ely-elks-lodge-bingo/2023-07-06/
LOCATION:Ely Elks Lodge\, 694 Campton St.\, Ely\, NV\, 89301\, United States
CATEGORIES:Community,Sports
ATTACH;FMTTYPE=image/png:https://elynevada.net/wp-content/uploads/2023/01/Ely-Elks-Lodge-Bingo.png
ORGANIZER;CN="Ely Elks Lodge":MAILTO:elyelks1469@att.net
END:VEVENT
END:VCALENDAR