BEGIN:VCALENDAR
VERSION:2.0
PRODID:-//Welcome To Ely - ECPv6.15.20//NONSGML v1.0//EN
CALSCALE:GREGORIAN
METHOD:PUBLISH
X-ORIGINAL-URL:https://elynevada.net
X-WR-CALDESC:Events for Welcome To Ely
REFRESH-INTERVAL;VALUE=DURATION:PT1H
X-Robots-Tag:noindex
X-PUBLISHED-TTL:PT1H
BEGIN:VTIMEZONE
TZID:America/Los_Angeles
BEGIN:DAYLIGHT
TZOFFSETFROM:-0800
TZOFFSETTO:-0700
TZNAME:PDT
DTSTART:20250309T100000
END:DAYLIGHT
BEGIN:STANDARD
TZOFFSETFROM:-0700
TZOFFSETTO:-0800
TZNAME:PST
DTSTART:20251102T090000
END:STANDARD
BEGIN:DAYLIGHT
TZOFFSETFROM:-0800
TZOFFSETTO:-0700
TZNAME:PDT
DTSTART:20260308T100000
END:DAYLIGHT
BEGIN:STANDARD
TZOFFSETFROM:-0700
TZOFFSETTO:-0800
TZNAME:PST
DTSTART:20261101T090000
END:STANDARD
BEGIN:DAYLIGHT
TZOFFSETFROM:-0800
TZOFFSETTO:-0700
TZNAME:PDT
DTSTART:20270314T100000
END:DAYLIGHT
BEGIN:STANDARD
TZOFFSETFROM:-0700
TZOFFSETTO:-0800
TZNAME:PST
DTSTART:20271107T090000
END:STANDARD
END:VTIMEZONE
BEGIN:VEVENT
DTSTART;TZID=America/Los_Angeles:20260620T060000
DTEND;TZID=America/Los_Angeles:20260620T120000
DTSTAMP:20260422T205014
CREATED:20260127T214914Z
LAST-MODIFIED:20260127T214914Z
UID:10004946-1781935200-1781956800@elynevada.net
SUMMARY:Ward Mountain Trail Run 2026
DESCRIPTION:Ward Mountain Trail Run 2026\nThe Ward Mountain Trail Run 2026 on June 21st starts and ends at the Ward Mountain Campground in Ely\, Nevada. Choose from 2+\, 5+\, 8+\,13+ and new 26 mile courses that wind through mostly sing-track trails of Ward Mountain. You don’t want to miss this race with outstanding trails and scenery! Register quickly because this event closes at 100 participants!\n\nDogs will be permitted for an extra $5. One dog per participant of 13 years or older. Specific rules apply for those running with dogs.\nFor event details visit our website at: www.elyoutdoorenthusiasts.org\n\nCheck Out Events on Our Monthly Calendar HERE!
URL:https://elynevada.net/event/ward-mountain-trail-run-2026/
LOCATION:Ward Mountain BLM Recreation Area\, Co Rte 44A\, Ruth\, NV\, 89319\, United States
CATEGORIES:Sports
ATTACH;FMTTYPE=image/jpeg:https://elynevada.net/wp-content/uploads/2026/01/Ward-Mountain-Trail-Run-2026.jpg
END:VEVENT
END:VCALENDAR