BEGIN:VCALENDAR
VERSION:2.0
PRODID:-//Welcome To Ely - ECPv6.15.20//NONSGML v1.0//EN
CALSCALE:GREGORIAN
METHOD:PUBLISH
X-WR-CALNAME:Welcome To Ely
X-ORIGINAL-URL:https://elynevada.net
X-WR-CALDESC:Events for Welcome To Ely
REFRESH-INTERVAL;VALUE=DURATION:PT1H
X-Robots-Tag:noindex
X-PUBLISHED-TTL:PT1H
BEGIN:VTIMEZONE
TZID:America/Los_Angeles
BEGIN:DAYLIGHT
TZOFFSETFROM:-0800
TZOFFSETTO:-0700
TZNAME:PDT
DTSTART:20230312T100000
END:DAYLIGHT
BEGIN:STANDARD
TZOFFSETFROM:-0700
TZOFFSETTO:-0800
TZNAME:PST
DTSTART:20231105T090000
END:STANDARD
BEGIN:DAYLIGHT
TZOFFSETFROM:-0800
TZOFFSETTO:-0700
TZNAME:PDT
DTSTART:20240310T100000
END:DAYLIGHT
BEGIN:STANDARD
TZOFFSETFROM:-0700
TZOFFSETTO:-0800
TZNAME:PST
DTSTART:20241103T090000
END:STANDARD
BEGIN:DAYLIGHT
TZOFFSETFROM:-0800
TZOFFSETTO:-0700
TZNAME:PDT
DTSTART:20250309T100000
END:DAYLIGHT
BEGIN:STANDARD
TZOFFSETFROM:-0700
TZOFFSETTO:-0800
TZNAME:PST
DTSTART:20251102T090000
END:STANDARD
END:VTIMEZONE
BEGIN:VTIMEZONE
TZID:UTC
BEGIN:STANDARD
TZOFFSETFROM:+0000
TZOFFSETTO:+0000
TZNAME:UTC
DTSTART:20180101T000000
END:STANDARD
END:VTIMEZONE
BEGIN:VEVENT
DTSTART;TZID=America/Los_Angeles:20240427T110000
DTEND;TZID=America/Los_Angeles:20240427T150000
DTSTAMP:20260423T182739
CREATED:20240419T173741Z
LAST-MODIFIED:20240419T173742Z
UID:10002663-1714215600-1714230000@elynevada.net
SUMMARY:Downtown Aultman Street Past\, Present\, Future
DESCRIPTION:Downtown Aultman Street Past\, Present\, Future\nPlease join Mary Harrison\, Tom Bath\, and Anthony Ithurralde for their photo archive and art show “Downtown Aultman Street Past\, Present\, Future” \nFriday April 26th: 6:00 p.m. – 9:00 p.m. \nSaturday April 27th: 11:00 a.m. – 3:00 p.m. \nAt the Ely Art Bank
URL:https://elynevada.net/event/downtown-aultman-street-past-present-future/2024-04-27/
LOCATION:Ely Art Bank\, 399 E Aultman St\, Ely\, NV\, 89301\, United States
CATEGORIES:Arts & Culture,Community
ATTACH;FMTTYPE=image/jpeg:https://elynevada.net/wp-content/uploads/2024/04/PXL_20240419_171245224.jpg
END:VEVENT
BEGIN:VEVENT
DTSTART;TZID=America/Los_Angeles:20240426T180000
DTEND;TZID=America/Los_Angeles:20240426T210000
DTSTAMP:20260423T182739
CREATED:20240419T173741Z
LAST-MODIFIED:20240419T173742Z
UID:10002662-1714154400-1714165200@elynevada.net
SUMMARY:Downtown Aultman Street Past\, Present\, Future
DESCRIPTION:Downtown Aultman Street Past\, Present\, Future\nPlease join Mary Harrison\, Tom Bath\, and Anthony Ithurralde for their photo archive and art show “Downtown Aultman Street Past\, Present\, Future” \nFriday April 26th: 6:00 p.m. – 9:00 p.m. \nSaturday April 27th: 11:00 a.m. – 3:00 p.m. \nAt the Ely Art Bank
URL:https://elynevada.net/event/downtown-aultman-street-past-present-future/2024-04-26/
LOCATION:Ely Art Bank\, 399 E Aultman St\, Ely\, NV\, 89301\, United States
CATEGORIES:Arts & Culture,Community
ATTACH;FMTTYPE=image/jpeg:https://elynevada.net/wp-content/uploads/2024/04/PXL_20240419_171245224.jpg
END:VEVENT
BEGIN:VEVENT
DTSTART;TZID=UTC:20190911T100000
DTEND;TZID=UTC:20190911T140000
DTSTAMP:20260423T182739
CREATED:20190801T075516Z
LAST-MODIFIED:20190801T075521Z
UID:10000003-1568196000-1568210400@elynevada.net
SUMMARY:Farmers' Market
DESCRIPTION:Come and enjoy Ely’s Farmers’ Market at the Renaissance Village\, 400 Ely Street. Farmers’ Markets allow local farmers to sell their fruits\, vegetables\, meats\, cheeses\, and baked goods directly to the public. They are organized to benefit both the local farmers as well as local consumers. \nAll produce is sold by the Ely Renaissance Society and proceeds go towards Renaissance projects. The market will also feature local vendors selling locally grown fruits and vegetables\, jam and specialty food items.
URL:https://elynevada.net/event/farmers-market-3/
LOCATION:Ely Renaissance Village\, 400\, Ely\, NV\, 89301\, United States
CATEGORIES:Arts & Culture,Community,History
END:VEVENT
BEGIN:VEVENT
DTSTART;TZID=UTC:20190904T100000
DTEND;TZID=UTC:20190904T140000
DTSTAMP:20260423T182739
CREATED:20190801T075124Z
LAST-MODIFIED:20190801T075129Z
UID:10000037-1567591200-1567605600@elynevada.net
SUMMARY:Farmers' Market
DESCRIPTION:Come and enjoy Ely’s Farmers’ Market at the Renaissance Village\, 400 Ely Street. Farmers’ Markets allow local farmers to sell their fruits\, vegetables\, meats\, cheeses\, and baked goods directly to the public. They are organized to benefit both the local farmers as well as local consumers. \nAll produce is sold by the Ely Renaissance Society and proceeds go towards Renaissance projects. The market will also feature local vendors selling locally grown fruits and vegetables\, jam and specialty food items.
URL:https://elynevada.net/event/farmers-market-2/
LOCATION:Ely Renaissance Village\, 400\, Ely\, NV\, 89301\, United States
CATEGORIES:Arts & Culture,Community,History
END:VEVENT
BEGIN:VEVENT
DTSTART;TZID=UTC:20190825T100000
DTEND;TZID=UTC:20190825T140000
DTSTAMP:20260423T182739
CREATED:20190801T072821Z
LAST-MODIFIED:20190801T073023Z
UID:10000030-1566727200-1566741600@elynevada.net
SUMMARY:Farmers' Market
DESCRIPTION:Come and enjoy Ely’s Farmers’ Market at the Renaissance Village\, 400 Ely Street. Farmers’ Markets allow local farmers to sell their fruits\, vegetables\, meats\, cheeses\, and baked goods directly to the public. They are organized to benefit both the local farmers as well as local consumers. \nAll produce is sold by the Ely Renaissance Society and proceeds go towards Renaissance projects. The market will also feature local vendors selling locally grown fruits and vegetables\, jam and specialty food items.
URL:https://elynevada.net/event/farmers-market/
LOCATION:Ely Renaissance Village\, 400\, Ely\, NV\, 89301\, United States
CATEGORIES:Arts & Culture,Community,History
END:VEVENT
END:VCALENDAR