BEGIN:VCALENDAR
VERSION:2.0
PRODID:-//Welcome To Ely - ECPv6.15.20//NONSGML v1.0//EN
CALSCALE:GREGORIAN
METHOD:PUBLISH
X-ORIGINAL-URL:https://elynevada.net
X-WR-CALDESC:Events for Welcome To Ely
REFRESH-INTERVAL;VALUE=DURATION:PT1H
X-Robots-Tag:noindex
X-PUBLISHED-TTL:PT1H
BEGIN:VTIMEZONE
TZID:America/Los_Angeles
BEGIN:DAYLIGHT
TZOFFSETFROM:-0800
TZOFFSETTO:-0700
TZNAME:PDT
DTSTART:20230312T100000
END:DAYLIGHT
BEGIN:STANDARD
TZOFFSETFROM:-0700
TZOFFSETTO:-0800
TZNAME:PST
DTSTART:20231105T090000
END:STANDARD
BEGIN:DAYLIGHT
TZOFFSETFROM:-0800
TZOFFSETTO:-0700
TZNAME:PDT
DTSTART:20240310T100000
END:DAYLIGHT
BEGIN:STANDARD
TZOFFSETFROM:-0700
TZOFFSETTO:-0800
TZNAME:PST
DTSTART:20241103T090000
END:STANDARD
BEGIN:DAYLIGHT
TZOFFSETFROM:-0800
TZOFFSETTO:-0700
TZNAME:PDT
DTSTART:20250309T100000
END:DAYLIGHT
BEGIN:STANDARD
TZOFFSETFROM:-0700
TZOFFSETTO:-0800
TZNAME:PST
DTSTART:20251102T090000
END:STANDARD
END:VTIMEZONE
BEGIN:VTIMEZONE
TZID:UTC
BEGIN:STANDARD
TZOFFSETFROM:+0000
TZOFFSETTO:+0000
TZNAME:UTC
DTSTART:20180101T000000
END:STANDARD
END:VTIMEZONE
BEGIN:VEVENT
DTSTART;TZID=America/Los_Angeles:20241005T100000
DTEND;TZID=America/Los_Angeles:20241005T140000
DTSTAMP:20260423T044920
CREATED:20240827T170030Z
LAST-MODIFIED:20240827T170032Z
UID:10003066-1728122400-1728136800@elynevada.net
SUMMARY:Nevada State Fire Marshal Public Safety Day
DESCRIPTION:Nevada State Fire Marshal Public Safety Day\nJoin Nevada State Fire Marshals and promote your business for Public Safety Day! \nFREE!!! \nWho: Nevada State Fire Marshal\, Ely Volunteer Fire Department\, Nevada Division of Forestry\, Classic Air Medical\, National Guard\, and many more. \nWhat: FREE community event\, watch us train the local fire department\, family-friendly activities including a raffle\, tours of emergency vehicles\, food provided by the Boys & Girls Club and Ely Township\, swag\, arson K9 meet and greet\, and music! \nWhen: October 5th\, 2024 10am to 2pm \nWhere: Broadbent Park\, Ely \nBring a pop-up tent for shade or just a table will suffice. Space is limited so fill out your application NOW
URL:https://elynevada.net/event/nevada-state-fire-marshal-public-safety-day/
LOCATION:Broadbent Park
CATEGORIES:Community
ATTACH;FMTTYPE=image/png:https://elynevada.net/wp-content/uploads/2024/08/NSFM-Ely-Public-Safety-Day-2024.png
END:VEVENT
BEGIN:VEVENT
DTSTART;TZID=UTC:20200821T170000
DTEND;TZID=UTC:20200821T193000
DTSTAMP:20260423T044920
CREATED:20200709T032412Z
LAST-MODIFIED:20200806T032840Z
UID:10000128-1598029200-1598038200@elynevada.net
SUMMARY:Ely Fireman's Annual BBQ/Dance (Cancelled)
DESCRIPTION:Cancelled\nEly Fireman’s Annual BBQ/Dance\nKick off the White Pine County Fair/Horse Race weekend the right way Friday night for the Ely Fireman’s Annual BBQ/Dance. This event is a fundraiser that goes toward the Ely Volunteer Fire Department’s Scholarship Fund. They will be serving beef\, lamb\, and turkey. \nLearn More About the Horse Races and Fair HERE!
URL:https://elynevada.net/event/ely-firemans-annual-bbq-dance/
LOCATION:White Pine County Fairgrounds\, 78 n mcgill hwy\, Ely\, NV\, United States
CATEGORIES:Community,Races
ATTACH;FMTTYPE=image/jpeg:https://elynevada.net/wp-content/uploads/2020/07/68347726_2407143489335390_371121226329882624_o.jpg
END:VEVENT
BEGIN:VEVENT
DTSTART;TZID=UTC:20191231T200000
DTEND;TZID=UTC:20200101T010000
DTSTAMP:20260423T044920
CREATED:20191203T034802Z
LAST-MODIFIED:20191203T034807Z
UID:10000231-1577822400-1577840400@elynevada.net
SUMMARY:EVFD New Year's Eve Party
DESCRIPTION:The year 2019 may be coming to an end\, but you can kick off the new decade with a bang! Ely Volunteer Fire Department’s New Year’s Eve Party begins at 8 p.m. on the 31st at the Bristlecone Convention Center. Tickets will be sold door-to-door by the EVFD. Enter the New Year the Ely way!
URL:https://elynevada.net/event/evfd-new-years-eve-party/
LOCATION:Bristlecone Convention Center\, 150 Sixth Street\, Ely\, NV\, 89301\, United States
CATEGORIES:Community,History
ATTACH;FMTTYPE=image/jpeg:https://elynevada.net/wp-content/uploads/2019/12/new-years-eve-4647530_1280.jpg
END:VEVENT
BEGIN:VEVENT
DTSTART;TZID=UTC:20190816T170000
DTEND;TZID=UTC:20190816T183000
DTSTAMP:20260423T044920
CREATED:20190801T052517Z
LAST-MODIFIED:20190801T052522Z
UID:10000001-1565974800-1565980200@elynevada.net
SUMMARY:Ely Vol. Fire Dept. BBQ Dinner
DESCRIPTION:Kick of the White Pine County Fair/Horse Race weekend the right way by joining us Friday night for a BBQ Dinner. This event is a fundraiser that goes toward the Ely Volunteer Fire Department’s Scholarship Fund. Serving beef\, lamb\, and turkey.
URL:https://elynevada.net/event/ely-vol-fire-dept-bbq-dinner/
LOCATION:White Pine County Fairgrounds\, 78 n mcgill hwy\, Ely\, NV\, United States
CATEGORIES:Community
END:VEVENT
END:VCALENDAR