BEGIN:VCALENDAR
VERSION:2.0
PRODID:-//Welcome To Ely - ECPv6.15.20//NONSGML v1.0//EN
CALSCALE:GREGORIAN
METHOD:PUBLISH
X-WR-CALNAME:Welcome To Ely
X-ORIGINAL-URL:https://elynevada.net
X-WR-CALDESC:Events for Welcome To Ely
REFRESH-INTERVAL;VALUE=DURATION:PT1H
X-Robots-Tag:noindex
X-PUBLISHED-TTL:PT1H
BEGIN:VTIMEZONE
TZID:America/Los_Angeles
BEGIN:DAYLIGHT
TZOFFSETFROM:-0800
TZOFFSETTO:-0700
TZNAME:PDT
DTSTART:20240310T100000
END:DAYLIGHT
BEGIN:STANDARD
TZOFFSETFROM:-0700
TZOFFSETTO:-0800
TZNAME:PST
DTSTART:20241103T090000
END:STANDARD
BEGIN:DAYLIGHT
TZOFFSETFROM:-0800
TZOFFSETTO:-0700
TZNAME:PDT
DTSTART:20250309T100000
END:DAYLIGHT
BEGIN:STANDARD
TZOFFSETFROM:-0700
TZOFFSETTO:-0800
TZNAME:PST
DTSTART:20251102T090000
END:STANDARD
BEGIN:DAYLIGHT
TZOFFSETFROM:-0800
TZOFFSETTO:-0700
TZNAME:PDT
DTSTART:20260308T100000
END:DAYLIGHT
BEGIN:STANDARD
TZOFFSETFROM:-0700
TZOFFSETTO:-0800
TZNAME:PST
DTSTART:20261101T090000
END:STANDARD
END:VTIMEZONE
BEGIN:VTIMEZONE
TZID:UTC
BEGIN:STANDARD
TZOFFSETFROM:+0000
TZOFFSETTO:+0000
TZNAME:UTC
DTSTART:20210101T000000
END:STANDARD
END:VTIMEZONE
BEGIN:VEVENT
DTSTART;VALUE=DATE:20250918
DTEND;VALUE=DATE:20250921
DTSTAMP:20260423T081230
CREATED:20240131T055106Z
LAST-MODIFIED:20250908T205920Z
UID:10000722-1758153600-1758412799@elynevada.net
SUMMARY:2025 Great Basin Astronomy Festival
DESCRIPTION:2025 Great Basin Astronomy Festival\nJoin park rangers and amateur astronomers to experience out-of-this-world family fun and excitement at the 2025 Great Basin Astronomy Festival! Learn about daytime and nighttime astronomy while enjoying some of the darkest night skies in the nation. \nDon’t have your own telescope? There will be many telescopes of different makes\, shapes\, and sizes for you and your family to use to look at the sun\, stars\, planets and other deep sky objects including nebulae and galaxies. With activities for kids of all ages\, the whole family can enjoy this festival together. \nGreat Basin National Park is always happy to welcome visitors to the Great Basin to view the night skies together. Everyone can enjoy the night sky in their own way. \nThis year’s festival events will include guest speakers\, phot workshops\, tours of the Great Basin Observatory (GBO)\, and other fun programs for families. \nThe park is excited to welcome back amateur astronomer volunteers and their telescopes for an out of this world star party each night of the festival. \nDue to limited parking\, there will be a shuttle bus service from the Great Basin Visitor Center to the Lehman Caves Visitor Center. The shuttle bus service is free and will last from 7:30 to Midnight. \nLearn All About This Event From the Park Itself by Clicking HERE! \nDiscover More of White Pine County HERE!
URL:https://elynevada.net/event/2024-great-basin-astronomy-festival/
LOCATION:Great Basin National Park\, National Park\, 100 Great Basin\, Baker\, NV\, 89311\, United States
CATEGORIES:Arts & Culture,Community,History
ATTACH;FMTTYPE=image/jpeg:https://elynevada.net/wp-content/uploads/2024/01/Great-Basin-Astronomy-Festival.jpg
END:VEVENT
BEGIN:VEVENT
DTSTART;VALUE=DATE:20230914
DTEND;VALUE=DATE:20230917
DTSTAMP:20260423T081230
CREATED:20190807T173516Z
LAST-MODIFIED:20230125T062910Z
UID:10000041-1694649600-1694908799@elynevada.net
SUMMARY:Great Basin Astronomy Festival
DESCRIPTION:Great Basin Astronomy Festival\nJoin park rangers and amateur astronomers to experience out-of-this-world family fun and excitement at the annual Great Basin Astronomy Festival! Learn about daytime and nighttime astronomy while enjoying some of the darkest night skies in the nation. \nDon’t have your own telescope? There will be many telescopes of different makes\, shapes\, and sizes for you and your family to use to look at the sun\, stars\, planets and other deep sky objects including nebulae and galaxies. With activities for kids of all ages\, the whole family can enjoy this festival together. \nGreat Basin National Park is always happy to welcome visitors to the Great Basin to view the night skies together. Everyone can enjoy the night sky in their own way. \nThis year’s festival events will include guest speakers\, phot workshops\, tours of the Great Basin Observatory (GBO)\, and other fun programs for families. \nThe park is excited to welcome back amateur astronomer volunteers and their telescopes for an out of this world star party each night of the festival. \nDue to limited parking\, there will be a shuttle bus service from the Great Basin Visitor Center to the Lehman Caves Visitor Center. The shuttle bus service is free and will last from 7:30 to Midnight. \nLearn All About This Event From the Park Itself by Clicking HERE! \nDiscover More of White Pine County HERE!
URL:https://elynevada.net/event/astronomy-festival-2021-09-10/
LOCATION:Lehman Caves Vistior Center\, 5500 NV-488\, Baker\, NV\, 89311\, United States
CATEGORIES:Community,History
ATTACH;FMTTYPE=image/jpeg:https://elynevada.net/wp-content/uploads/2019/08/JennyHamilton_NightSky.jpg
END:VEVENT
BEGIN:VEVENT
DTSTART;TZID=UTC:20220924T090000
DTEND;TZID=UTC:20220924T180000
DTSTAMP:20260423T081230
CREATED:20220825T051910Z
LAST-MODIFIED:20220825T051914Z
UID:10000475-1664010000-1664042400@elynevada.net
SUMMARY:GBNP & BLM Public Lands Day
DESCRIPTION:GBNP & BLM Public Lands Day\nHelp Great Basin National Park and the BLM clean up a historic mining road for Public Lands Day on September 24th at 9:00 AM!\nAnyone who has a can-do spirit and loves the outdoors.\n\nSNACKS AND WATER PROVIDED!\n\nHelp move fallen trees and fix washouts on an historic mining road that leads to the Lexington Arch.\n\nMeet at the Great Basin Visitor Center in Baker\, Nevada.\nVisitor Center: (775) 234-7331\nPark Ranger: (319) 329-6573\n\nWhat Should You Bring?\n-Hand tools (shovels\, rakes\, hand saws\, gloves\, etc.)\n-Protective clothing and sunscreen\n-A high clearance four-wheel drive vehicle (low range transfer case recommended)\n\nMore Projects To Do\, No 4×4 Required\n– We still need you! We will also be painting a historic road sign\n\nLook for More White Pine County Events and Volunteer Opportunities HERE!
URL:https://elynevada.net/event/gbnp-blm-public-lands-day/
LOCATION:Great Basin National Park\, National Park\, 100 Great Basin\, Baker\, NV\, 89311\, United States
CATEGORIES:Community
ATTACH;FMTTYPE=image/png:https://elynevada.net/wp-content/uploads/2022/08/Public-Lands-Day-at-GBNP.png
END:VEVENT
BEGIN:VEVENT
DTSTART;TZID=UTC:20220518T140000
DTEND;TZID=UTC:20220518T170000
DTSTAMP:20260423T081230
CREATED:20220330T042722Z
LAST-MODIFIED:20220330T042723Z
UID:10000440-1652882400-1652893200@elynevada.net
SUMMARY:Sourdough-Making Demonstration
DESCRIPTION:Sourdough-Making Demonstration\nAs a part of the Lehman Caves Centennial Year\, visitors and locals alike can anticipate presentations related to Great Basin National Park and the surrounding area. \nMay 18th’s Butter-Making Demonstration will be presented by Abe Johnson at 2:00 p.m. at Baker Hall. \nLocated at the Ranching Exhibit off Highway 488 in Baker\, NV.
URL:https://elynevada.net/event/sourdough-making-demonstration/
LOCATION:Baker Hall\, Baker\, NV\, 89311\, United States
CATEGORIES:Arts & Culture,Community,History
ATTACH;FMTTYPE=image/jpeg:https://elynevada.net/wp-content/uploads/2021/12/Lehman-Caves-Centennial-Poster.jpg
END:VEVENT
BEGIN:VEVENT
DTSTART;TZID=UTC:20220512T140000
DTEND;TZID=UTC:20220512T160000
DTSTAMP:20260423T081230
CREATED:20220330T042028Z
LAST-MODIFIED:20220330T042030Z
UID:10000439-1652364000-1652371200@elynevada.net
SUMMARY:Butter-Making Demonstration
DESCRIPTION:Butter-Making Demonstration\nAs a part of the Lehman Caves Centennial Year\, visitors and locals alike can anticipate presentations related to Great Basin National Park and the surrounding area. \nMay 12th’s Butter-Making Demonstration will be presented by Carol Ferguson at 2:00 p.m. at Baker Hall. \nLocated at the Ranching Exhibit off Highway 488 in Baker\, NV.
URL:https://elynevada.net/event/butter-making-demonstration/
LOCATION:Baker Hall\, Baker\, NV\, 89311\, United States
CATEGORIES:Arts & Culture,Conference,History
ATTACH;FMTTYPE=image/jpeg:https://elynevada.net/wp-content/uploads/2021/12/Lehman-Caves-Centennial-Poster.jpg
END:VEVENT
END:VCALENDAR