BEGIN:VCALENDAR
VERSION:2.0
PRODID:-//Welcome To Ely - ECPv6.15.20//NONSGML v1.0//EN
CALSCALE:GREGORIAN
METHOD:PUBLISH
X-ORIGINAL-URL:https://elynevada.net
X-WR-CALDESC:Events for Welcome To Ely
REFRESH-INTERVAL;VALUE=DURATION:PT1H
X-Robots-Tag:noindex
X-PUBLISHED-TTL:PT1H
BEGIN:VTIMEZONE
TZID:America/Los_Angeles
BEGIN:DAYLIGHT
TZOFFSETFROM:-0800
TZOFFSETTO:-0700
TZNAME:PDT
DTSTART:20240310T100000
END:DAYLIGHT
BEGIN:STANDARD
TZOFFSETFROM:-0700
TZOFFSETTO:-0800
TZNAME:PST
DTSTART:20241103T090000
END:STANDARD
BEGIN:DAYLIGHT
TZOFFSETFROM:-0800
TZOFFSETTO:-0700
TZNAME:PDT
DTSTART:20250309T100000
END:DAYLIGHT
BEGIN:STANDARD
TZOFFSETFROM:-0700
TZOFFSETTO:-0800
TZNAME:PST
DTSTART:20251102T090000
END:STANDARD
BEGIN:DAYLIGHT
TZOFFSETFROM:-0800
TZOFFSETTO:-0700
TZNAME:PDT
DTSTART:20260308T100000
END:DAYLIGHT
BEGIN:STANDARD
TZOFFSETFROM:-0700
TZOFFSETTO:-0800
TZNAME:PST
DTSTART:20261101T090000
END:STANDARD
END:VTIMEZONE
BEGIN:VTIMEZONE
TZID:UTC
BEGIN:STANDARD
TZOFFSETFROM:+0000
TZOFFSETTO:+0000
TZNAME:UTC
DTSTART:20180101T000000
END:STANDARD
END:VTIMEZONE
BEGIN:VEVENT
DTSTART;TZID=America/Los_Angeles:20251206T100000
DTEND;TZID=America/Los_Angeles:20251206T160000
DTSTAMP:20260423T015218
CREATED:20191105T052244Z
LAST-MODIFIED:20251125T004543Z
UID:10000205-1765015200-1765036800@elynevada.net
SUMMARY:Christmas Crafters Festival - 2025
DESCRIPTION:Christmas Crafters Festival – 2025\nAt 10 am Saturday\, December 6th the doors open at the Convention Center for the Crafter’s Festival. The vendors will have their items on display and for sale until 4 p.m. It is amazing how talented our community is. Please stop by to let them share their talents with you. During the Crafter’s festival\, Santa Claus will be available to visit with the children. His schedule will be posted at the Convention Center. Alana Wise will be taking pictures and prints can be ordered directly from her.
URL:https://elynevada.net/event/christmas-crafters-festival/
LOCATION:Bristlecone Convention Center\, 150 Sixth Street\, Ely\, NV\, 89301\, United States
CATEGORIES:Arts & Culture,Community,History,Holiday
ATTACH;FMTTYPE=image/jpeg:https://elynevada.net/wp-content/uploads/2019/11/Christmas-Crafters-Festival-2024.jpg
ORGANIZER;CN="Great Basin Service Club":MAILTO:greatbasinserviceclub@yahoo.com
END:VEVENT
BEGIN:VEVENT
DTSTART;VALUE=DATE:20251201
DTEND;VALUE=DATE:20251206
DTSTAMP:20260423T015218
CREATED:20251125T003110Z
LAST-MODIFIED:20251125T003141Z
UID:10004070-1764547200-1764979199@elynevada.net
SUMMARY:2025 Festival of Trees
DESCRIPTION:2025 Festival of Trees & Auction\nFestival of Trees is an annual holiday event hosted by the Great Basin Service Club. Get ready for 2025 Festival of Trees & Auction! \nTrees are donated and decorated by organizations and businesses throughout White Pine County. You are welcome to come by the Bristlecone Convention Center during extended business hours from Dec. 1st through the 4th to vote on your favorite trees. \nFriday\, December 5th will be the tree auction and banquet to raise money for the Service Clubs mission. The convention center will be decked out in full holiday spirit making it a perfect time to come and take family photos. This is the time to start viewing Ely in the eyes of Christmas and get ready for an exciting month! \nAuction Night:\nAfter a full week of Festival of Trees\, voting on donated and decorated Christmas trees at the Bristlecone Convention Center\, the day finally comes for the auction on Friday\, December 5th. \nThis year will feature live music by Nevada native Jacob Bingham! \n \nAll proceeds will go to Great Basin Service Club’s mission and charity. \nContact Bunny Hill for more information at (775) 296 – 0439.\nBuy tickets and reserve at the Bristlecone Convention Center. Call the Convention Center at (775) 289-3720. \n \n  \nLearn More About Great Basin Service Club HERE!\nDiscover More Holiday Season Events in White Pine County HERE!
URL:https://elynevada.net/event/2025-festival-of-trees/
LOCATION:Bristlecone Convention Center\, 150 Sixth Street\, Ely\, NV\, 89301\, United States
CATEGORIES:Community,Holiday,Party
ATTACH;FMTTYPE=image/png:https://elynevada.net/wp-content/uploads/2025/11/2025-Festival-of-Trees-Facebook-Banner.png
ORGANIZER;CN="Great Basin Service Club":MAILTO:greatbasinserviceclub@yahoo.com
END:VEVENT
BEGIN:VEVENT
DTSTART;TZID=UTC:20241206T180000
DTEND;TZID=UTC:20241206T210000
DTSTAMP:20260423T015218
CREATED:20221027T050410Z
LAST-MODIFIED:20240131T065221Z
UID:10000489-1733508000-1733518800@elynevada.net
SUMMARY:Festival Of Trees Auction - 2024
DESCRIPTION:Festival of Trees Auction – 2024\nAfter a full week of Festival of Trees\, voting on donated and decorated Christmas trees at the Bristlecone Convention Center\, the day finally comes for the auction on Friday\, December 6th. All proceeds will go to Great Basin Service Club’s mission and charity. Contact Bunny Hill for more information at (775) 296 – 0439. Buy tickets and reserve at the Bristlecone Convention Center. Call the Convention Center at (775) 289-3720.
URL:https://elynevada.net/event/festival-of-trees-auction-2022/
LOCATION:Bristlecone Convention Center\, 150 Sixth Street\, Ely\, NV\, 89301\, United States
CATEGORIES:Community,History
ATTACH;FMTTYPE=image/jpeg:https://elynevada.net/wp-content/uploads/2022/10/festival-of-trees-auction-2024.jpg
ORGANIZER;CN="Great Basin Service Club":MAILTO:greatbasinserviceclub@yahoo.com
END:VEVENT
BEGIN:VEVENT
DTSTART;TZID=UTC:20241205T090000
DTEND;TZID=UTC:20241205T170000
DTSTAMP:20260423T015218
CREATED:20221027T044113Z
LAST-MODIFIED:20240131T064949Z
UID:10000729-1733389200-1733418000@elynevada.net
SUMMARY:Ely Festival of Trees
DESCRIPTION:Ely Festival of Trees – 2024\nFestival of Trees is Ely’s annual holiday event hosted by the Great Basin Service Club. Trees are donated and decorated by organizations and businesses throughout White Pine County. You are welcome to come by the Bristlecone Convention Center during extended business hours from Dec. 2nd through the 5th to vote on your favorite trees. Friday\, December 6th will be the tree auction and banquet to raise money for the Service Clubs mission. The convention center will be decked out in full holiday spirit making it a perfect time to come and take family photos. This is the time to start viewing Ely in the eyes of Christmas and get ready for an exciting month. Contact Bunny Hill for more information at (775) 296 – 0439. \nLearn More About Great Basin Service Club HERE!\nDiscover More Holiday Season Events in White Pine County HERE!
URL:https://elynevada.net/event/ely-festival-of-trees/2024-12-05/
LOCATION:Bristlecone Convention Center\, 150 Sixth Street\, Ely\, NV\, 89301\, United States
CATEGORIES:Community,History
ATTACH;FMTTYPE=image/jpeg:https://elynevada.net/wp-content/uploads/2022/10/Festival-O-Trees-2024.jpg
ORGANIZER;CN="Great Basin Service Club":MAILTO:greatbasinserviceclub@yahoo.com
END:VEVENT
BEGIN:VEVENT
DTSTART;TZID=UTC:20241204T090000
DTEND;TZID=UTC:20241204T170000
DTSTAMP:20260423T015218
CREATED:20221027T044113Z
LAST-MODIFIED:20240131T064949Z
UID:10000728-1733302800-1733331600@elynevada.net
SUMMARY:Ely Festival of Trees
DESCRIPTION:Ely Festival of Trees – 2024\nFestival of Trees is Ely’s annual holiday event hosted by the Great Basin Service Club. Trees are donated and decorated by organizations and businesses throughout White Pine County. You are welcome to come by the Bristlecone Convention Center during extended business hours from Dec. 2nd through the 5th to vote on your favorite trees. Friday\, December 6th will be the tree auction and banquet to raise money for the Service Clubs mission. The convention center will be decked out in full holiday spirit making it a perfect time to come and take family photos. This is the time to start viewing Ely in the eyes of Christmas and get ready for an exciting month. Contact Bunny Hill for more information at (775) 296 – 0439. \nLearn More About Great Basin Service Club HERE!\nDiscover More Holiday Season Events in White Pine County HERE!
URL:https://elynevada.net/event/ely-festival-of-trees/2024-12-04/
LOCATION:Bristlecone Convention Center\, 150 Sixth Street\, Ely\, NV\, 89301\, United States
CATEGORIES:Community,History
ATTACH;FMTTYPE=image/jpeg:https://elynevada.net/wp-content/uploads/2022/10/Festival-O-Trees-2024.jpg
ORGANIZER;CN="Great Basin Service Club":MAILTO:greatbasinserviceclub@yahoo.com
END:VEVENT
BEGIN:VEVENT
DTSTART;TZID=UTC:20241203T090000
DTEND;TZID=UTC:20241203T170000
DTSTAMP:20260423T015218
CREATED:20221027T044113Z
LAST-MODIFIED:20240131T064949Z
UID:10000727-1733216400-1733245200@elynevada.net
SUMMARY:Ely Festival of Trees
DESCRIPTION:Ely Festival of Trees – 2024\nFestival of Trees is Ely’s annual holiday event hosted by the Great Basin Service Club. Trees are donated and decorated by organizations and businesses throughout White Pine County. You are welcome to come by the Bristlecone Convention Center during extended business hours from Dec. 2nd through the 5th to vote on your favorite trees. Friday\, December 6th will be the tree auction and banquet to raise money for the Service Clubs mission. The convention center will be decked out in full holiday spirit making it a perfect time to come and take family photos. This is the time to start viewing Ely in the eyes of Christmas and get ready for an exciting month. Contact Bunny Hill for more information at (775) 296 – 0439. \nLearn More About Great Basin Service Club HERE!\nDiscover More Holiday Season Events in White Pine County HERE!
URL:https://elynevada.net/event/ely-festival-of-trees/2024-12-03/
LOCATION:Bristlecone Convention Center\, 150 Sixth Street\, Ely\, NV\, 89301\, United States
CATEGORIES:Community,History
ATTACH;FMTTYPE=image/jpeg:https://elynevada.net/wp-content/uploads/2022/10/Festival-O-Trees-2024.jpg
ORGANIZER;CN="Great Basin Service Club":MAILTO:greatbasinserviceclub@yahoo.com
END:VEVENT
BEGIN:VEVENT
DTSTART;TZID=UTC:20241202T090000
DTEND;TZID=UTC:20241202T170000
DTSTAMP:20260423T015218
CREATED:20221027T044113Z
LAST-MODIFIED:20240131T064949Z
UID:10000726-1733130000-1733158800@elynevada.net
SUMMARY:Ely Festival of Trees
DESCRIPTION:Ely Festival of Trees – 2024\nFestival of Trees is Ely’s annual holiday event hosted by the Great Basin Service Club. Trees are donated and decorated by organizations and businesses throughout White Pine County. You are welcome to come by the Bristlecone Convention Center during extended business hours from Dec. 2nd through the 5th to vote on your favorite trees. Friday\, December 6th will be the tree auction and banquet to raise money for the Service Clubs mission. The convention center will be decked out in full holiday spirit making it a perfect time to come and take family photos. This is the time to start viewing Ely in the eyes of Christmas and get ready for an exciting month. Contact Bunny Hill for more information at (775) 296 – 0439. \nLearn More About Great Basin Service Club HERE!\nDiscover More Holiday Season Events in White Pine County HERE!
URL:https://elynevada.net/event/ely-festival-of-trees/2024-12-02/
LOCATION:Bristlecone Convention Center\, 150 Sixth Street\, Ely\, NV\, 89301\, United States
CATEGORIES:Community,History
ATTACH;FMTTYPE=image/jpeg:https://elynevada.net/wp-content/uploads/2022/10/Festival-O-Trees-2024.jpg
ORGANIZER;CN="Great Basin Service Club":MAILTO:greatbasinserviceclub@yahoo.com
END:VEVENT
BEGIN:VEVENT
DTSTART;TZID=UTC:20211203T180000
DTEND;TZID=UTC:20211203T210000
DTSTAMP:20260423T015218
CREATED:20191101T070356Z
LAST-MODIFIED:20211110T092441Z
UID:10000203-1638554400-1638565200@elynevada.net
SUMMARY:Festival of Trees Auction - 2021
DESCRIPTION:Festival of Trees Auction – 2021\nAfter a full week of Festival of Trees\, voting on donated and decorated Christmas trees at the Bristlecone Convention Center\, the day finally comes for the banquet and auction on Friday\, December 3rd. All proceeds will go to Great Basin Service Club’s mission and charity. Contact Bunny Hill for more information at (775) 289 – 6900. Buy tickets and reserve at the Bristlecone Convention Center. Call the Convention Center at (775) 289-3720.
URL:https://elynevada.net/event/festival-of-trees-auction/
LOCATION:Bristlecone Convention Center\, 150 Sixth Street\, Ely\, NV\, 89301\, United States
CATEGORIES:Community,History
ATTACH;FMTTYPE=image/png:https://elynevada.net/wp-content/uploads/2019/11/festival-of-trees-nov.-29th-2nd-1.png
ORGANIZER;CN="Great Basin Service Club":MAILTO:greatbasinserviceclub@yahoo.com
END:VEVENT
BEGIN:VEVENT
DTSTART;TZID=UTC:20211202T090000
DTEND;TZID=UTC:20211202T170000
DTSTAMP:20260423T015218
CREATED:20191211T032005Z
LAST-MODIFIED:20211110T064836Z
UID:10000052-1638435600-1638464400@elynevada.net
SUMMARY:Festival of Trees - 2021
DESCRIPTION:Festival of Trees – 2021\nFestival of Trees is Ely’s annual holiday event hosted by the Great Basin Service Club. Trees are donated and decorated by organizations and businesses though out White Pine County. You are welcome to come to the Bristlecone Convention Center during extended business hours from Nov. 29 through Dec. 2 to vote on your favorite trees. Friday\, December 4 will be the tree auction and banquet to raise money for the Service Clubs mission. The convention center will be decked out in full holiday spirit making it a perfect time to come and take family photos. This is the time to start viewing Ely in the eyes of Christmas and get ready for an exciting month. Contact Bunny Hill for more information at (775) 289 – 6900. \nLearn More About Great Basin Service Club HERE!\nDiscover More Holiday Season Events In White Pine County HERE!
URL:https://elynevada.net/event/festival-of-trees-2020/2021-12-02/
LOCATION:Bristlecone Convention Center\, 150 Sixth Street\, Ely\, NV\, 89301\, United States
CATEGORIES:Arts & Culture,Community,History
ATTACH;FMTTYPE=image/png:https://elynevada.net/wp-content/uploads/2019/12/festival-of-trees-nov.-29th-2nd.png
ORGANIZER;CN="Great Basin Service Club":MAILTO:greatbasinserviceclub@yahoo.com
END:VEVENT
BEGIN:VEVENT
DTSTART;TZID=UTC:20211201T090000
DTEND;TZID=UTC:20211201T170000
DTSTAMP:20260423T015218
CREATED:20191211T032005Z
LAST-MODIFIED:20211110T064836Z
UID:10000051-1638349200-1638378000@elynevada.net
SUMMARY:Festival of Trees - 2021
DESCRIPTION:Festival of Trees – 2021\nFestival of Trees is Ely’s annual holiday event hosted by the Great Basin Service Club. Trees are donated and decorated by organizations and businesses though out White Pine County. You are welcome to come to the Bristlecone Convention Center during extended business hours from Nov. 29 through Dec. 2 to vote on your favorite trees. Friday\, December 4 will be the tree auction and banquet to raise money for the Service Clubs mission. The convention center will be decked out in full holiday spirit making it a perfect time to come and take family photos. This is the time to start viewing Ely in the eyes of Christmas and get ready for an exciting month. Contact Bunny Hill for more information at (775) 289 – 6900. \nLearn More About Great Basin Service Club HERE!\nDiscover More Holiday Season Events In White Pine County HERE!
URL:https://elynevada.net/event/festival-of-trees-2020/2021-12-01/
LOCATION:Bristlecone Convention Center\, 150 Sixth Street\, Ely\, NV\, 89301\, United States
CATEGORIES:Arts & Culture,Community,History
ATTACH;FMTTYPE=image/png:https://elynevada.net/wp-content/uploads/2019/12/festival-of-trees-nov.-29th-2nd.png
ORGANIZER;CN="Great Basin Service Club":MAILTO:greatbasinserviceclub@yahoo.com
END:VEVENT
BEGIN:VEVENT
DTSTART;TZID=UTC:20211130T090000
DTEND;TZID=UTC:20211130T170000
DTSTAMP:20260423T015218
CREATED:20191211T032005Z
LAST-MODIFIED:20211110T064836Z
UID:10000050-1638262800-1638291600@elynevada.net
SUMMARY:Festival of Trees - 2021
DESCRIPTION:Festival of Trees – 2021\nFestival of Trees is Ely’s annual holiday event hosted by the Great Basin Service Club. Trees are donated and decorated by organizations and businesses though out White Pine County. You are welcome to come to the Bristlecone Convention Center during extended business hours from Nov. 29 through Dec. 2 to vote on your favorite trees. Friday\, December 4 will be the tree auction and banquet to raise money for the Service Clubs mission. The convention center will be decked out in full holiday spirit making it a perfect time to come and take family photos. This is the time to start viewing Ely in the eyes of Christmas and get ready for an exciting month. Contact Bunny Hill for more information at (775) 289 – 6900. \nLearn More About Great Basin Service Club HERE!\nDiscover More Holiday Season Events In White Pine County HERE!
URL:https://elynevada.net/event/festival-of-trees-2020/2021-11-30/
LOCATION:Bristlecone Convention Center\, 150 Sixth Street\, Ely\, NV\, 89301\, United States
CATEGORIES:Arts & Culture,Community,History
ATTACH;FMTTYPE=image/png:https://elynevada.net/wp-content/uploads/2019/12/festival-of-trees-nov.-29th-2nd.png
ORGANIZER;CN="Great Basin Service Club":MAILTO:greatbasinserviceclub@yahoo.com
END:VEVENT
BEGIN:VEVENT
DTSTART;TZID=UTC:20211129T090000
DTEND;TZID=UTC:20211129T170000
DTSTAMP:20260423T015218
CREATED:20191211T032005Z
LAST-MODIFIED:20211110T064836Z
UID:10000049-1638176400-1638205200@elynevada.net
SUMMARY:Festival of Trees - 2021
DESCRIPTION:Festival of Trees – 2021\nFestival of Trees is Ely’s annual holiday event hosted by the Great Basin Service Club. Trees are donated and decorated by organizations and businesses though out White Pine County. You are welcome to come to the Bristlecone Convention Center during extended business hours from Nov. 29 through Dec. 2 to vote on your favorite trees. Friday\, December 4 will be the tree auction and banquet to raise money for the Service Clubs mission. The convention center will be decked out in full holiday spirit making it a perfect time to come and take family photos. This is the time to start viewing Ely in the eyes of Christmas and get ready for an exciting month. Contact Bunny Hill for more information at (775) 289 – 6900. \nLearn More About Great Basin Service Club HERE!\nDiscover More Holiday Season Events In White Pine County HERE!
URL:https://elynevada.net/event/festival-of-trees-2020/2021-11-29/
LOCATION:Bristlecone Convention Center\, 150 Sixth Street\, Ely\, NV\, 89301\, United States
CATEGORIES:Arts & Culture,Community,History
ATTACH;FMTTYPE=image/png:https://elynevada.net/wp-content/uploads/2019/12/festival-of-trees-nov.-29th-2nd.png
ORGANIZER;CN="Great Basin Service Club":MAILTO:greatbasinserviceclub@yahoo.com
END:VEVENT
BEGIN:VEVENT
DTSTART;TZID=UTC:20201205T100000
DTEND;TZID=UTC:20201205T160000
DTSTAMP:20260423T015218
CREATED:20191211T032718Z
LAST-MODIFIED:20201125T081202Z
UID:10000055-1607162400-1607184000@elynevada.net
SUMMARY:Christmas Crafter's Festival
DESCRIPTION:Christmas Crafter’s Festival\nThis event is committed to taking any and all necessary steps to maintain the health and safety of both our Guests and Team Members. Masks and social distancing required. \nAt 10 am Saturday morning the doors open at the Convention Center for the Crafter’s Festival. The vendors will have their items on display and for sale until 4 p.m. It is amazing how talented our community is. Please stop by to let them share their talents with you. During the Crafter’s festival\, Santa Claus will be available to visit with the children. His schedule will be posted at the Convention Center. Alana Wise will be taking pictures and prints can be ordered directly from her.
URL:https://elynevada.net/event/christmas-crafters-festival-2/
LOCATION:Bristlecone Convention Center\, 150 Sixth Street\, Ely\, NV\, 89301\, United States
CATEGORIES:Arts & Culture,Community,History
ATTACH;FMTTYPE=image/jpeg:https://elynevada.net/wp-content/uploads/2019/11/46649325-christmas-presents-wrapping-and-snow-fir-tree-over-wooden-table-background-with-copy-space.jpg
ORGANIZER;CN="Great Basin Service Club":MAILTO:greatbasinserviceclub@yahoo.com
END:VEVENT
BEGIN:VEVENT
DTSTART;TZID=UTC:20200424T190000
DTEND;TZID=UTC:20200424T230000
DTSTAMP:20260423T015218
CREATED:20200212T073728Z
LAST-MODIFIED:20200317T060312Z
UID:10000204-1587754800-1587769200@elynevada.net
SUMMARY:Jagertown Concert
DESCRIPTION:Jagertown Concert Postponed Until Further Notice\nJagertown Concert: Get ready to party and rock for a Great Basin Service Club fundraiser with Jagertown and KDSS! Mark you Calendars for Friday\, April 24th at the Bristlecone Convention Center. It’s an opportunity for great music from “America’s Hottest Country Band.” Tickets are $25.00 and are available for purchase at KDSS and the Bristlecone Convention Center. \nClick for lodging here and Jagertown here!
URL:https://elynevada.net/event/jagertown-concert/
LOCATION:Bristlecone Convention Center\, 150 Sixth Street\, Ely\, NV\, 89301\, United States
CATEGORIES:Arts & Culture,Community
ATTACH;FMTTYPE=image/jpeg:https://elynevada.net/wp-content/uploads/2020/02/81795981_2689422534476211_139431594959044608_o.jpg
ORGANIZER;CN="Great Basin Service Club":MAILTO:greatbasinserviceclub@yahoo.com
END:VEVENT
BEGIN:VEVENT
DTSTART;TZID=UTC:20191202T090000
DTEND;TZID=UTC:20191205T170000
DTSTAMP:20260423T015218
CREATED:20191031T090113Z
LAST-MODIFIED:20191031T091547Z
UID:10000202-1575277200-1575565200@elynevada.net
SUMMARY:Festival of Trees
DESCRIPTION:Festival of Trees is Ely’s annual holiday event hosted by the Great Basin Service Club. Trees are donated and decorated by organizations and businesses though out White Pine County. You are welcome to come to the Bristlecone Convention Center during normal business hours from Dec 2-5 to vote on your favorite trees. Friday December 6 will be the tree auction and banquet to raise money for the Service Clubs mission.The convention center will be decked out in full holiday spirit making it a perfect time to come and take family photos. This is the time to start viewing Ely in the eyes of Christmas and get ready for an exciting month. Contact Bunny Hill for more information.
URL:https://elynevada.net/event/festival-of-trees-2/
LOCATION:Bristlecone Convention Center\, 150 Sixth Street\, Ely\, NV\, 89301\, United States
CATEGORIES:Arts & Culture,Community,History
ATTACH;FMTTYPE=image/jpeg:https://elynevada.net/wp-content/uploads/2019/10/1.jpg
ORGANIZER;CN="Great Basin Service Club":MAILTO:greatbasinserviceclub@yahoo.com
END:VEVENT
END:VCALENDAR