BEGIN:VCALENDAR
VERSION:2.0
PRODID:-//Welcome To Ely - ECPv6.15.20//NONSGML v1.0//EN
CALSCALE:GREGORIAN
METHOD:PUBLISH
X-WR-CALNAME:Welcome To Ely
X-ORIGINAL-URL:https://elynevada.net
X-WR-CALDESC:Events for Welcome To Ely
REFRESH-INTERVAL;VALUE=DURATION:PT1H
X-Robots-Tag:noindex
X-PUBLISHED-TTL:PT1H
BEGIN:VTIMEZONE
TZID:UTC
BEGIN:STANDARD
TZOFFSETFROM:+0000
TZOFFSETTO:+0000
TZNAME:UTC
DTSTART:20180101T000000
END:STANDARD
END:VTIMEZONE
BEGIN:VEVENT
DTSTART;TZID=UTC:20191231T210000
DTEND;TZID=UTC:20200101T000000
DTSTAMP:20260423T085355
CREATED:20191005T072146Z
LAST-MODIFIED:20191005T072154Z
UID:10000148-1577826000-1577836800@elynevada.net
SUMMARY:Hotel Nevada New Years Cash Bash
DESCRIPTION:New Years Event giving out money all night long at Hotel Nevada! Every 500 points gained through them earns a ticket for the drawing at the end of year. End 2019 with some cash in your pocket!
URL:https://elynevada.net/event/hotel-nevada-new-years-cash-bash/
LOCATION:Hotel Nevada\, 501 E. Autlman Street\, Ely\, NV\, 89301\, United States
CATEGORIES:Community
ATTACH;FMTTYPE=image/jpeg:https://elynevada.net/wp-content/uploads/2019/10/72474489_2381168368818562_5218635390650417152_o.jpg
END:VEVENT
END:VCALENDAR