BEGIN:VCALENDAR
VERSION:2.0
PRODID:-//Welcome To Ely - ECPv6.15.20//NONSGML v1.0//EN
CALSCALE:GREGORIAN
METHOD:PUBLISH
X-WR-CALNAME:Welcome To Ely
X-ORIGINAL-URL:https://elynevada.net
X-WR-CALDESC:Events for Welcome To Ely
REFRESH-INTERVAL;VALUE=DURATION:PT1H
X-Robots-Tag:noindex
X-PUBLISHED-TTL:PT1H
BEGIN:VTIMEZONE
TZID:UTC
BEGIN:STANDARD
TZOFFSETFROM:+0000
TZOFFSETTO:+0000
TZNAME:UTC
DTSTART:20190101T000000
END:STANDARD
END:VTIMEZONE
BEGIN:VEVENT
DTSTART;TZID=UTC:20200228T190000
DTEND;TZID=UTC:20200228T210000
DTSTAMP:20260423T101011
CREATED:20200212T045558Z
LAST-MODIFIED:20200222T024745Z
UID:10000233-1582916400-1582923600@elynevada.net
SUMMARY:Richrath Project 3:13 Concert
DESCRIPTION:Heading back to beautiful Ely\, Nevada for their third time! Richrath Project 3:13 playing the music of Michael Jahnz and REO Speedwagon. They can’t wait to see all their fans! First show of a great weekend on the west coast… National Tour 2020!!! At the Bristlecone Convention Center! Tickets will be sold at the Convention Center. More details to come!
URL:https://elynevada.net/event/richrath-project-313-concert/
LOCATION:Bristlecone Convention Center\, 150 Sixth Street\, Ely\, NV\, 89301\, United States
CATEGORIES:Arts & Culture,Community
ATTACH;FMTTYPE=image/png:https://elynevada.net/wp-content/uploads/2020/02/2cdec26d-3f1e-4d8e-9a7f-f7749a572b3c-e1582838815433.png
END:VEVENT
END:VCALENDAR