BEGIN:VCALENDAR
VERSION:2.0
PRODID:-//Welcome To Ely - ECPv6.15.20//NONSGML v1.0//EN
CALSCALE:GREGORIAN
METHOD:PUBLISH
X-WR-CALNAME:Welcome To Ely
X-ORIGINAL-URL:https://elynevada.net
X-WR-CALDESC:Events for Welcome To Ely
REFRESH-INTERVAL;VALUE=DURATION:PT1H
X-Robots-Tag:noindex
X-PUBLISHED-TTL:PT1H
BEGIN:VTIMEZONE
TZID:UTC
BEGIN:STANDARD
TZOFFSETFROM:+0000
TZOFFSETTO:+0000
TZNAME:UTC
DTSTART:20170101T000000
END:STANDARD
END:VTIMEZONE
BEGIN:VEVENT
DTSTART;VALUE=DATE:20220723
DTEND;VALUE=DATE:20220724
DTSTAMP:20260422T204956
CREATED:20210520T010419Z
LAST-MODIFIED:20220609T042943Z
UID:10000400-1658534400-1658620799@elynevada.net
SUMMARY:Lund Pioneer Days 2022
DESCRIPTION:Lund Pioneer Days 2022\nLund Pioneer Days 2022 begins both on Friday\, July 22nd and Saturday July 23rd with Team Roping at Lanes Area. On Friday\, look forward to an old-fashioned rodeo with bull riding\, open breakaway\, steer riding\, barrel racing\, team roping\, calf roping\, and much more\, starting at 5:00 p.m. And don’t forget the Western Family Dance at 9:00! \nOn Saturday\, of course\, park and view the Pioneer Day Parade starting at 9:30 a.m. Expect floats\, antique cars\, horses and a variety of entertainers progressing through downtown\, followed by a Special Presentation at 11:00 a.m.\, a BBQ dinner at noon\, plus children’s games and adult horseshoes\, with vendor booths close by. A rodeo in the late afternoon and a fireworks show at dusk end the two-day event in spectacular fashion. \nThis is one of our favorite and historic weekends in White Pine County. Turn out in Lund\, Nevada for the Oldest Amateur Rodeo in Nevada! \nDiscover More to Do and Attractions of White Pine County HERE!
URL:https://elynevada.net/event/lund-pioneer-days-2022/2022-07-23/
LOCATION:Lund\, Nevada\, Main Street\, Lund\, NV\, 89317\, United States
CATEGORIES:Community,History
ATTACH;FMTTYPE=image/jpeg:https://elynevada.net/wp-content/uploads/2020/05/MG_4438.jpg
ORGANIZER;CN="Lund Rodeo Association":MAILTO:lrsecretary@hotmail.com
END:VEVENT
BEGIN:VEVENT
DTSTART;VALUE=DATE:20220722
DTEND;VALUE=DATE:20220723
DTSTAMP:20260422T204956
CREATED:20210520T010419Z
LAST-MODIFIED:20220609T042943Z
UID:10000399-1658448000-1658534399@elynevada.net
SUMMARY:Lund Pioneer Days 2022
DESCRIPTION:Lund Pioneer Days 2022\nLund Pioneer Days 2022 begins both on Friday\, July 22nd and Saturday July 23rd with Team Roping at Lanes Area. On Friday\, look forward to an old-fashioned rodeo with bull riding\, open breakaway\, steer riding\, barrel racing\, team roping\, calf roping\, and much more\, starting at 5:00 p.m. And don’t forget the Western Family Dance at 9:00! \nOn Saturday\, of course\, park and view the Pioneer Day Parade starting at 9:30 a.m. Expect floats\, antique cars\, horses and a variety of entertainers progressing through downtown\, followed by a Special Presentation at 11:00 a.m.\, a BBQ dinner at noon\, plus children’s games and adult horseshoes\, with vendor booths close by. A rodeo in the late afternoon and a fireworks show at dusk end the two-day event in spectacular fashion. \nThis is one of our favorite and historic weekends in White Pine County. Turn out in Lund\, Nevada for the Oldest Amateur Rodeo in Nevada! \nDiscover More to Do and Attractions of White Pine County HERE!
URL:https://elynevada.net/event/lund-pioneer-days-2022/2022-07-22/
LOCATION:Lund\, Nevada\, Main Street\, Lund\, NV\, 89317\, United States
CATEGORIES:Community,History
ATTACH;FMTTYPE=image/jpeg:https://elynevada.net/wp-content/uploads/2020/05/MG_4438.jpg
ORGANIZER;CN="Lund Rodeo Association":MAILTO:lrsecretary@hotmail.com
END:VEVENT
BEGIN:VEVENT
DTSTART;VALUE=DATE:20200724
DTEND;VALUE=DATE:20200727
DTSTAMP:20260422T204956
CREATED:20200530T043926Z
LAST-MODIFIED:20200630T005123Z
UID:10000075-1595548800-1595807999@elynevada.net
SUMMARY:Lund Pioneer Days 2020
DESCRIPTION:Canceled\nLund Pioneer Days 2020 begins on Friday\, July 24th with ranch rodear style cutting/corralling and branding\, with more of the same on Saturday. \nSunday begins\, of course\, with the Pioneer Day Parade starting at 9 a.m. Expect floats\, antique cars\, horses and a variety of entertainers progressing through downtown\, followed by a Special Presentation at 10:30 a.m.\, a BBQ dinner at noon\, plus children’s games and adult horseshoes\, with vendor booths close by. A rodeo in the late afternoon and a fireworks show at dusk end the two-day event in spectacular fashion. \nLearn More about White Pine Here!
URL:https://elynevada.net/event/lund-pioneer-days-2020/
LOCATION:Lund\, Nevada\, Main Street\, Lund\, NV\, 89317\, United States
CATEGORIES:History,Sports
ATTACH;FMTTYPE=image/jpeg:https://elynevada.net/wp-content/uploads/2020/05/MG_4438.jpg
ORGANIZER;CN="Lund Rodeo Association":MAILTO:lrsecretary@hotmail.com
END:VEVENT
BEGIN:VEVENT
DTSTART;TZID=UTC:20190719T090000
DTEND;TZID=UTC:20190720T170000
DTSTAMP:20260422T204956
CREATED:20190720T092931Z
LAST-MODIFIED:20190720T092934Z
UID:10000007-1563526800-1563642000@elynevada.net
SUMMARY:Lund Pioneer Days 2019
DESCRIPTION:Lund Pioneer Days begins on Friday\, July 19th with ranch rodear style cutting/corralling and branding\, with more of the same on Saturday. \nSaturday begins\, of course\, with the Pioneer Day Parade starting at 9 a.m. Expect floats\, antique cars\, horses and a variety of entertainers progressing through downtown\, followed by a Special Presentation at 10:30 a.m.\, a BBQ dinner at noon\, plus children’s games and adult horseshoes\, with vendor booths close by. A rodeo in the late afternoon and a fireworks show at dusk end the two-day event in spectacular fashion.
URL:https://elynevada.net/event/lund-pioneer-days-2019/
LOCATION:Lund\, Nevada\, Main Street\, Lund\, NV\, 89317\, United States
CATEGORIES:Community,History,Sports
ORGANIZER;CN="Lund Rodeo Association":MAILTO:lrsecretary@hotmail.com
END:VEVENT
BEGIN:VEVENT
DTSTART;TZID=UTC:20180719T090000
DTEND;TZID=UTC:20180719T170000
DTSTAMP:20260422T204956
CREATED:20180612T124246Z
LAST-MODIFIED:20180612T124246Z
UID:10000073-1531990800-1532019600@elynevada.net
SUMMARY:Lund Pioneer Days
DESCRIPTION:Lund Pioneer Days begins on Thursday morning with ranch rodear style Cutting/Corraling and Branding\, with more of the same on Friday. \nSaturday is the big day\, starting with a parade at 9 am: floats\, antique cars\, horses and a variety of entertainers joining the procession through downtown\, followed by a Special Presentation at 10:30\, a BBQ dinner at noon\, plus children’s games and adult horseshoes\, with vendor booths close by. A rodeo in the late afternoon and a fireworks show at dusk end the three day event with a flourish.
URL:https://elynevada.net/event/lund-pioneer-days/
LOCATION:Lund\, Nevada\, Main Street\, Lund\, NV\, 89317\, United States
CATEGORIES:History
ATTACH;FMTTYPE=image/jpeg:https://elynevada.net/wp-content/uploads/2018/06/10460244_1586690394940152_5033772911088765967_n.jpg
ORGANIZER;CN="Lund Rodeo Association":MAILTO:lrsecretary@hotmail.com
END:VEVENT
END:VCALENDAR