BEGIN:VCALENDAR
VERSION:2.0
PRODID:-//Welcome To Ely - ECPv6.15.20//NONSGML v1.0//EN
CALSCALE:GREGORIAN
METHOD:PUBLISH
X-WR-CALNAME:Welcome To Ely
X-ORIGINAL-URL:https://elynevada.net
X-WR-CALDESC:Events for Welcome To Ely
REFRESH-INTERVAL;VALUE=DURATION:PT1H
X-Robots-Tag:noindex
X-PUBLISHED-TTL:PT1H
BEGIN:VTIMEZONE
TZID:UTC
BEGIN:STANDARD
TZOFFSETFROM:+0000
TZOFFSETTO:+0000
TZNAME:UTC
DTSTART:20180101T000000
END:STANDARD
END:VTIMEZONE
BEGIN:VEVENT
DTSTART;TZID=UTC:20191017T090000
DTEND;TZID=UTC:20191017T153000
DTSTAMP:20260423T100611
CREATED:20190920T065737Z
LAST-MODIFIED:20190920T065743Z
UID:10000139-1571302800-1571326200@elynevada.net
SUMMARY:Etsy Craft Entrepreneurship
DESCRIPTION:Etsy is the leading global marketplace for selling handmade and vintage goods to more than 40 million customers. If you’re a Native artist or crafts-person\, creating a store and selling on Etsy is an easy\, straight-forward process. IDRS has created the Etsy Craft Entrepreneurship Workshop for artists/crafters that are looking to expand their customer base beyond the boundaries of their community and sell to consumers worldwide. \nThe Etsy Craft Entrepreneurship Workshop will be presented by two experienced trainers\, Creek and Cherokee artists John & MaryBeth Timothy. John and MaryBeth through their business Moonhawk Art LLC\, sell their art through various venues such as pow wows\, art markets and online platforms such as Etsy. They made their first international sale through the Etsy platform and have continued to increase their global customer base through the Moonhawk Art Etsy store. \nThe Workshop is divided into a morning session and an afternoon session. The morning session is designed as a teaching opportunity where participants learn tips and techniques to sell and market their products through Etsy. During the afternoon session participants are lead step by step through the process of setting up their Etsy store. \nNote: Participants are not required to stay for the afternoon portion of the workshop if they determine they are not ready or do not want assistance setting up their Etsy store.
URL:https://elynevada.net/event/etsy-craft-entrepreneurship/
LOCATION:White Pine County Library\, 950 Campton St\, Ely\, NV\, 89301\, United States
CATEGORIES:Arts & Culture,Community
ATTACH;FMTTYPE=image/png:https://elynevada.net/wp-content/uploads/2019/09/Screenshot-2019-09-19-at-4.57.04-PM.png
ORGANIZER;CN="Moonhawk Art LLC":MAILTO:moonhawkart@gmail.com
END:VEVENT
END:VCALENDAR