BEGIN:VCALENDAR
VERSION:2.0
PRODID:-//Welcome To Ely - ECPv6.15.20//NONSGML v1.0//EN
CALSCALE:GREGORIAN
METHOD:PUBLISH
X-ORIGINAL-URL:https://elynevada.net
X-WR-CALDESC:Events for Welcome To Ely
REFRESH-INTERVAL;VALUE=DURATION:PT1H
X-Robots-Tag:noindex
X-PUBLISHED-TTL:PT1H
BEGIN:VTIMEZONE
TZID:UTC
BEGIN:STANDARD
TZOFFSETFROM:+0000
TZOFFSETTO:+0000
TZNAME:UTC
DTSTART:20200101T000000
END:STANDARD
END:VTIMEZONE
BEGIN:VEVENT
DTSTART;TZID=UTC:20210912T090000
DTEND;TZID=UTC:20210912T170000
DTSTAMP:20260423T072914
CREATED:20190904T045308Z
LAST-MODIFIED:20210831T035809Z
UID:10000015-1631437200-1631466000@elynevada.net
SUMMARY:High School/Junior Rodeo
DESCRIPTION:High School/Junior Rodeo\nCome and support the White Pine Rodeo Club at the Ely\, NV High School Junior Rodeo. It all starts on September 10th and runs until the 12th. The first day\, however\, is the .22 Rifle and Shotgun Competition\, open to the public at the Steptoe Valley TST fundraiser for the High School Rodeo. \nSaturday’s events start at 9 am with a day full of team roping\, bull riding\, barrel racing\, pole bending\, and so much more. Sunday’s events follow the same but begin at 8 am. \nMore info about the event can be found here: nevadastatehsra.net \nDiscover More to do in White Pine County HERE!
URL:https://elynevada.net/event/high-school-junior-rodeo/2021-09-12/
LOCATION:White Pine County Fairgrounds\, 78 n mcgill hwy\, Ely\, NV\, United States
CATEGORIES:Community,Sports
ATTACH;FMTTYPE=image/png:https://elynevada.net/wp-content/uploads/2019/09/White-Junior-High-and-High-School-Rodeo.png
END:VEVENT
BEGIN:VEVENT
DTSTART;TZID=UTC:20210911T090000
DTEND;TZID=UTC:20210911T170000
DTSTAMP:20260423T072914
CREATED:20190904T045308Z
LAST-MODIFIED:20210831T035809Z
UID:10000014-1631350800-1631379600@elynevada.net
SUMMARY:High School/Junior Rodeo
DESCRIPTION:High School/Junior Rodeo\nCome and support the White Pine Rodeo Club at the Ely\, NV High School Junior Rodeo. It all starts on September 10th and runs until the 12th. The first day\, however\, is the .22 Rifle and Shotgun Competition\, open to the public at the Steptoe Valley TST fundraiser for the High School Rodeo. \nSaturday’s events start at 9 am with a day full of team roping\, bull riding\, barrel racing\, pole bending\, and so much more. Sunday’s events follow the same but begin at 8 am. \nMore info about the event can be found here: nevadastatehsra.net \nDiscover More to do in White Pine County HERE!
URL:https://elynevada.net/event/high-school-junior-rodeo/2021-09-11/
LOCATION:White Pine County Fairgrounds\, 78 n mcgill hwy\, Ely\, NV\, United States
CATEGORIES:Community,Sports
ATTACH;FMTTYPE=image/png:https://elynevada.net/wp-content/uploads/2019/09/White-Junior-High-and-High-School-Rodeo.png
END:VEVENT
BEGIN:VEVENT
DTSTART;TZID=UTC:20210910T090000
DTEND;TZID=UTC:20210910T170000
DTSTAMP:20260423T072914
CREATED:20190904T045308Z
LAST-MODIFIED:20210831T035809Z
UID:10000013-1631264400-1631293200@elynevada.net
SUMMARY:High School/Junior Rodeo
DESCRIPTION:High School/Junior Rodeo\nCome and support the White Pine Rodeo Club at the Ely\, NV High School Junior Rodeo. It all starts on September 10th and runs until the 12th. The first day\, however\, is the .22 Rifle and Shotgun Competition\, open to the public at the Steptoe Valley TST fundraiser for the High School Rodeo. \nSaturday’s events start at 9 am with a day full of team roping\, bull riding\, barrel racing\, pole bending\, and so much more. Sunday’s events follow the same but begin at 8 am. \nMore info about the event can be found here: nevadastatehsra.net \nDiscover More to do in White Pine County HERE!
URL:https://elynevada.net/event/high-school-junior-rodeo/2021-09-10/
LOCATION:White Pine County Fairgrounds\, 78 n mcgill hwy\, Ely\, NV\, United States
CATEGORIES:Community,Sports
ATTACH;FMTTYPE=image/png:https://elynevada.net/wp-content/uploads/2019/09/White-Junior-High-and-High-School-Rodeo.png
END:VEVENT
END:VCALENDAR