BEGIN:VCALENDAR
VERSION:2.0
PRODID:-//Welcome To Ely - ECPv6.15.20//NONSGML v1.0//EN
CALSCALE:GREGORIAN
METHOD:PUBLISH
X-WR-CALNAME:Welcome To Ely
X-ORIGINAL-URL:https://elynevada.net
X-WR-CALDESC:Events for Welcome To Ely
REFRESH-INTERVAL;VALUE=DURATION:PT1H
X-Robots-Tag:noindex
X-PUBLISHED-TTL:PT1H
BEGIN:VTIMEZONE
TZID:UTC
BEGIN:STANDARD
TZOFFSETFROM:+0000
TZOFFSETTO:+0000
TZNAME:UTC
DTSTART:20190101T000000
END:STANDARD
END:VTIMEZONE
BEGIN:VEVENT
DTSTART;TZID=UTC:20200418T163000
DTEND;TZID=UTC:20200418T223000
DTSTAMP:20260423T060149
CREATED:20200212T070611Z
LAST-MODIFIED:20200318T005602Z
UID:10000236-1587227400-1587249000@elynevada.net
SUMMARY:Rocky Mountain Elk Foundation Banquet
DESCRIPTION:Rocky Mountain Elk Foundation Banquet Postponed Until Further Notice\nBe a part of a million dollar deal! In 2018\, the RMEF Ely Nevada Chapter topped $1-million in total net revenue for the 30-years. When you join the 2020 event on April 18th\, you’ll be helping on the next million. Come and enjoy fabulous food\, marvelous merchandise and prizes to buy at auction or win in one of our raffles and games. Hope to see ya at the RMEF Banquet at the Bristlecone Convention Center on Saturday\, April 18th!
URL:https://elynevada.net/event/rocky-mountain-elk-foundation-banquet/
LOCATION:Bristlecone Convention Center\, 150 Sixth Street\, Ely\, NV\, 89301\, United States
CATEGORIES:Community
ATTACH;FMTTYPE=image/jpeg:https://elynevada.net/wp-content/uploads/2020/02/elk-bugling-scaled.jpg
ORGANIZER;CN="Rocky Mountain Elk Foundation":MAILTO:lsmith@rmef.org
END:VEVENT
END:VCALENDAR