BEGIN:VCALENDAR
VERSION:2.0
PRODID:-//Welcome To Ely - ECPv6.15.20//NONSGML v1.0//EN
CALSCALE:GREGORIAN
METHOD:PUBLISH
X-WR-CALNAME:Welcome To Ely
X-ORIGINAL-URL:https://elynevada.net
X-WR-CALDESC:Events for Welcome To Ely
REFRESH-INTERVAL;VALUE=DURATION:PT1H
X-Robots-Tag:noindex
X-PUBLISHED-TTL:PT1H
BEGIN:VTIMEZONE
TZID:America/Los_Angeles
BEGIN:DAYLIGHT
TZOFFSETFROM:-0800
TZOFFSETTO:-0700
TZNAME:PDT
DTSTART:20240310T100000
END:DAYLIGHT
BEGIN:STANDARD
TZOFFSETFROM:-0700
TZOFFSETTO:-0800
TZNAME:PST
DTSTART:20241103T090000
END:STANDARD
BEGIN:DAYLIGHT
TZOFFSETFROM:-0800
TZOFFSETTO:-0700
TZNAME:PDT
DTSTART:20250309T100000
END:DAYLIGHT
BEGIN:STANDARD
TZOFFSETFROM:-0700
TZOFFSETTO:-0800
TZNAME:PST
DTSTART:20251102T090000
END:STANDARD
BEGIN:DAYLIGHT
TZOFFSETFROM:-0800
TZOFFSETTO:-0700
TZNAME:PDT
DTSTART:20260308T100000
END:DAYLIGHT
BEGIN:STANDARD
TZOFFSETFROM:-0700
TZOFFSETTO:-0800
TZNAME:PST
DTSTART:20261101T090000
END:STANDARD
END:VTIMEZONE
BEGIN:VTIMEZONE
TZID:UTC
BEGIN:STANDARD
TZOFFSETFROM:+0000
TZOFFSETTO:+0000
TZNAME:UTC
DTSTART:20180101T000000
END:STANDARD
END:VTIMEZONE
BEGIN:VEVENT
DTSTART;TZID=America/Los_Angeles:20250919T183000
DTEND;TZID=America/Los_Angeles:20250919T210000
DTSTAMP:20260423T005718
CREATED:20250827T212713Z
LAST-MODIFIED:20250828T175154Z
UID:10004052-1758306600-1758315600@elynevada.net
SUMMARY:Caleb Montgomery FREE Concert
DESCRIPTION:Caleb Montgomery FREE Concert\nSilver State Classic Challenge\, in partnership with White Pine County Tourism and Recreation\, presents Caleb Montgomery Free Concert. \nWhere: Broadbent Park \nWhen: The concert begins after the downtown procession of cars\, approximately 6:30 p.m. \nContinuing just off the Tour and Rec. Summer Concert Series\, this free concert will carry much of the same vibe. Made for the community\, families\, and blankets in the grass. \nWe are very proud to be partnering with Silver State Classic Challenge for this free concert and seeing Caleb Montgomery live! \nSilver State Classic’s parade begins at 5:30 p.m. and proceeds through the downtown on the Friday of the event. The cars will head directly into Broadbent Park\, park for everyone to admire\, and then be on display Saturday morning. \nCaleb Montgomery FREE Concert \n  \nCaleb Montgomery\, also known as The Cosmic Cowboy\, is a rising Americana and progressive country artist from Susanville\, California. Rooted in five generations of musical heritage and influenced by legends like Sturgill Simpson\, Tyler Childers\, and Pink Floyd\, Caleb blends traditional country storytelling with bold\, genre-bending sound. His debut album Food Stamps Don’t Buy Flowers made an immediate impact—reaching #1 on the Apple Music Americana Chart\, #2 on the Apple Music Country Chart\, #5 on iTunes Hot Country\, and #22 on the Billboard Americana Chart. A two-time Josie Music Award nominee (Male Vocalist & Emerging Artist of the Year)\, Caleb is currently touring nationwide with his band The Wild West Show\, building a passionate grassroots following across the U.S. With a new release on the horizon\, Caleb is poised to become one of the defining voices in modern country music. \n  \nBLURBS \n“A fresh force in modern country—Caleb Montgomery blends grit\, soul\, and psychedelic edge into a sound that’s as daring as it is timeless.” \n“The Cosmic Cowboy rides again\, and this time he’s taking the whole genre with him. Montgomery’s debut is raw\, real\, and remarkably refined.” \n“With one foot in the honky-tonk and the other in outer space\, Caleb Montgomery reimagines country music for a new generation.” \n“Montgomery’s breakout success is no accident—his writing cuts deep\, his performances electrify\, and his voice feels like home.” \n“A chart-climbing artist with the soul of a storyteller. Caleb Montgomery is what happens when tradition and innovation meet on the open road.” \nSocials: \nInstagram – @calebjoelmontgomery – https://www.instagram.com/calebjoelmontgomery/ \nYouTube – @calebjoelmontgomery – https://www.youtube.com/@CalebJoelMontgomery \nFacebook – @calebjoelmontgomery – https://www.facebook.com/calebjoelmontgomery/ \nTikTok – @calebmontgomery – https://www.tiktok.com/@calebmontgomery \n  \nAbout Silver State Classic Challenge: \nFor the past three decades\, driving enthusiasts from around the world have gathered on the third Sunday September in the Nevada high desert for the one of the truly most unique automotive events. \nTraverse 90 to 120 miles of closed\, two-lane public highway\, comprised of long fast straights\, sweeping corners\, blind dips\, even carving through a twisty canyon. The current course record stands at 219.6430 mph average speed\, as recognized by the Guinness Book of World Records. \nThe best part is\, if you’ve got the nerve\, a little cash\, and a fast ride\, you too can join them to run as fast as you can\, legally\, down a public highway. \nDiscover More about This Year's Siver State Classic Challenge HERE!
URL:https://elynevada.net/event/caleb-montgomery-free-concert/
LOCATION:Broadbent Park
CATEGORIES:Arts & Culture,Community,Concert,Party
ATTACH;FMTTYPE=image/png:https://elynevada.net/wp-content/uploads/2025/08/SSCC-2025-Concert_Facebook-Cover.png
ORGANIZER;CN="Silver State Classic Challenge Inc.":MAILTO:sscc.us@gmail.com
END:VEVENT
BEGIN:VEVENT
DTSTART;VALUE=DATE:20250918
DTEND;VALUE=DATE:20250922
DTSTAMP:20260423T005718
CREATED:20220622T010241Z
LAST-MODIFIED:20250128T203157Z
UID:10003416-1758153600-1758499199@elynevada.net
SUMMARY:Silver State Classic Challenge - 2025
DESCRIPTION:Silver State Classic Challenge – 2025\nFor the past three decades\, driving enthusiasts from around the world have gathered on the third Sunday September in the Nevada high desert for the one of the truly most unique automotive events. Traverse 90 to 120 miles of closed\, two-lane public highway\, comprised of long fast straights\, sweeping corners\, blind dips\, even carving through a twisty canyon. The current course record stands at 219.6430 mph average speed\, as recognized by the Guinness Book of World Records. The best part is\, if you’ve got the nerve\, a little cash\, and a fast ride\, you too can join them to run as fast as you can\, legally\, down a public highway. \nThe SSCC in September is our classic 90-mile\, one-way event\, with additional activities held in Ely\, and the SSCC awards banquet after-party is held at the historic Sam’s Town Casino Hotel in fabulous Las Vegas\, Nevada. \n\nThursday:\nCars will be showing up in town for registration. Enjoy and watch them cruise!\n\n\nFriday:\nParade of cars through the downtown at 5:30pm\n\n\nSaturday:\nCar show and judging at Broadbent Park\, 9:00am-1:00pm\n\n\nSunday:\nHWY 318 closes at 5:00am and doesn’t open until 4:00pm. Become a course worker!!!\n\n\nThe Silver State Classic Challenge\, Inc. is a non-profit corporation with a dedicated volunteer Board of Directors and staff who annually host the Nevada Open Road Challenge (NORC) and Silver State Classic Challenge (SSCC) Open Road Racing events on a closed section of Nevada State Highway 318\, renamed by the Nevada Department of Transportation as the Silver State Classic Challenge Highway. \nSSCC events are based on time\, speed\, and distance. Classes begin at 95 mph\, and increase in 5 mph increments up through the 160 mph class\, with a 170 mph\, 180 mph\, and an Unlimited\, top speed class. Vehicles start one at a time\, in one minute intervals against a GPS timing clock\, and attempt to break the beam at the finish line as close as possible to their speed class target time. First\, Second and Third place trophies are awarded to the Driver and Navigator/Co-driver in each class\, based on most accurate elapsed time targets achieved\, as measured by SSCC timing equipment. Trophies are also awarded to drivers of our companion One-Mile and Half-Mile Shootout events\, both held on race weekends in conjunction with our Open Road Racing events. \nAll first-time SSCC participants are considered rookies\, and may enter classes ranging from 95 mph up to 110 mph\, determined by their vehicle capabilities and safety equipment\, and each Driver and Navigator/Co-Driver’s comfort level. All rookies must also attend an SSCC rookie driver school. Those with documented Open Road Racing or other equivalent racing experience\, or those who hold racing licenses from select sanctioned racing bodies\, may be eligible to obtain a waiver from rookie school. \nAll Details and Qualification Information About This Even Can Be Found HERE!\nKnow Where You'll Stay! Check Out Our Lodging Options HERE!
URL:https://elynevada.net/event/silver-state-classic-challenge-2025/
LOCATION:Ely\, NV\, 89301\, United States
CATEGORIES:History,Races,Sports
ATTACH;FMTTYPE=image/jpeg:https://elynevada.net/wp-content/uploads/2022/06/Silver-State-Classic-Challenge-2022.jpg
ORGANIZER;CN="Silver State Classic Challenge Inc.":MAILTO:sscc.us@gmail.com
END:VEVENT
BEGIN:VEVENT
DTSTART;VALUE=DATE:20250515
DTEND;VALUE=DATE:20250519
DTSTAMP:20260423T005718
CREATED:20210209T070035Z
LAST-MODIFIED:20250128T203029Z
UID:10003424-1747267200-1747612799@elynevada.net
SUMMARY:Nevada Open Road Challenge 2025
DESCRIPTION:Nevada Open Road Challenge 2025\nFor the past three decades\, driving enthusiasts from around the world have gathered on the third Sunday of May in the Nevada high desert for the one of the truly most unique automotive events. Traverse 90 to 120 miles of closed\, two-lane public highway\, comprised of long fast straights\, sweeping corners\, blind dips\, even carving through a twisty canyon. The current course record stands at 219.6430 mph average speed\, as recognized by the Guinness Book of World Records. The best part is\, if you’ve got the nerve\, a little cash\, and a fast ride\, you too can join them to run as fast as you can\, legally\, down a public highway. \nThis event in May is a two-way event\, totaling 119.78 miles (59.89 each way)\, with a weekend packed full of gearhead activities\, and an awards banquet after-party held in our charming\, rustic mining town of Ely\, Nevada. Registration packet pickup will be held in Ely\, Nevada. \nThe Silver State Classic Challenge\, Inc. is a non-profit corporation with a dedicated volunteer Board of Directors and staff who annually host the Nevada Open Road Challenge (NORC) and Silver State Classic Challenge (SSCC) Open Road Racing events on a closed section of Nevada State Highway 318\, renamed by the Nevada Department of Transportation as the Silver State Classic Challenge Highway. \nSSCC events are based on time\, speed\, and distance. Classes begin at 95 mph\, and increase in 5 mph increments up through the 160 mph class\, with a 170 mph\, 180 mph\, and an Unlimited\, top speed class. Vehicles start one at a time\, in one minute intervals against a GPS timing clock\, and attempt to break the beam at the finish line as close as possible to their speed class target time. First\, Second and Third place trophies are awarded to the Driver and Navigator/Co-driver in each class\, based on most accurate elapsed time targets achieved\, as measured by SSCC timing equipment. Trophies are also awarded to drivers of our companion One-Mile and Half-Mile Shootout events\, both held on race weekends in conjunction with our Open Road Racing events. \nAll first-time SSCC participants are considered rookies\, and may enter classes ranging from 95 mph up to 110 mph\, determined by their vehicle capabilities and safety equipment\, and each Driver and Navigator/Co-Driver’s comfort level. All rookies must also attend an SSCC rookie driver school. Those with documented Open Road Racing or other equivalent racing experience\, or those who hold racing licenses from select sanctioned racing bodies\, may be eligible to obtain a waiver from rookie school. \nAll Details and Qualifications About This Event Can Be Found HERE!\nDiscover More of What White Pine County Offers HERE!
URL:https://elynevada.net/event/nevada-open-road-challenge-2021/
LOCATION:Ely\, NV\, 89301\, United States
CATEGORIES:History,Races,Sports
ATTACH;FMTTYPE=image/jpeg:https://elynevada.net/wp-content/uploads/2020/02/RLT-Cover-Nevada-Open-Road-Challenge-1000x288-1.jpg
ORGANIZER;CN="Silver State Classic Challenge Inc.":MAILTO:sscc.us@gmail.com
END:VEVENT
BEGIN:VEVENT
DTSTART;VALUE=DATE:20210917
DTEND;VALUE=DATE:20210920
DTSTAMP:20260423T005718
CREATED:20210210T071536Z
LAST-MODIFIED:20210210T071537Z
UID:10000380-1631836800-1632095999@elynevada.net
SUMMARY:Silver State Classic Challenge 2021
DESCRIPTION:Silver State Classic Challenge 2021\nThe Silver State Classic Challenge is committed to taking any and all necessary steps to maintain the health and safety of both our Guests and Team Members following COVID-19 Guidelines. \nFor the past three decades\, driving enthusiasts from around the world have gathered on the third Sunday September in the Nevada high desert for the one of the truly most unique automotive events. Traverse 90 to 120 miles of closed\, two-lane public highway\, comprised of long fast straights\, sweeping corners\, blind dips\, even carving through a twisty canyon. The current course record stands at 219.6430 mph average speed\, as recognized by the Guinness Book of World Records. The best part is\, if you’ve got the nerve\, a little cash\, and a fast ride\, you too can join them to run as fast as you can\, legally\, down a public highway. \nThe SSCC in September is our classic 90-mile\, one-way event\, with additional activities held in Ely\, and the SSCC awards banquet after-party is held at the historic Sam’s Town Casino Hotel in fabulous Las Vegas\, Nevada. \nThe Silver State Classic Challenge\, Inc. is a non-profit corporation with a dedicated volunteer Board of Directors and staff who annually host the Nevada Open Road Challenge (NORC) and Silver State Classic Challenge (SSCC) Open Road Racing events on a closed section of Nevada State Highway 318\, renamed by the Nevada Department of Transportation as the Silver State Classic Challenge Highway. \nSSCC events are based on time\, speed\, and distance. Classes begin at 95 mph\, and increase in 5 mph increments up through the 160 mph class\, with a 170 mph\, 180 mph\, and an Unlimited\, top speed class. Vehicles start one at a time\, in one minute intervals against a GPS timing clock\, and attempt to break the beam at the finish line as close as possible to their speed class target time. First\, Second and Third place trophies are awarded to the Driver and Navigator/Co-driver in each class\, based on most accurate elapsed time targets achieved\, as measured by SSCC timing equipment. Trophies are also awarded to drivers of our companion One-Mile and Half-Mile Shootout events\, both held on race weekends in conjunction with our Open Road Racing events. \nAll first-time SSCC participants are considered rookies\, and may enter classes ranging from 95 mph up to 110 mph\, determined by their vehicle capabilities and safety equipment\, and each Driver and Navigator/Co-Driver’s comfort level. All rookies must also attend an SSCC rookie driver school. Those with documented Open Road Racing or other equivalent racing experience\, or those who hold racing licenses from select sanctioned racing bodies\, may be eligible to obtain a waiver from rookie school. \nAll Details and Qualification About This Event Can Be Found HERE!\nDiscover More of White Pine County HERE!
URL:https://elynevada.net/event/silver-state-classic-challenge-2021/
LOCATION:Ely\, NV\, 89301\, United States
CATEGORIES:History,Races,Sports
ATTACH;FMTTYPE=image/jpeg:https://elynevada.net/wp-content/uploads/2018/09/sscc1web.jpg
ORGANIZER;CN="Silver State Classic Challenge Inc.":MAILTO:sscc.us@gmail.com
END:VEVENT
BEGIN:VEVENT
DTSTART;VALUE=DATE:20200918
DTEND;VALUE=DATE:20200921
DTSTAMP:20260423T005718
CREATED:20200530T010912Z
LAST-MODIFIED:20200805T060320Z
UID:10000344-1600387200-1600646399@elynevada.net
SUMMARY:Silver State Classic Challenge - 2020
DESCRIPTION:Cancelled\nFor the past three decades\, driving enthusiasts from around the world have gathered in September of the Nevada high desert for the running of the ultimate automotive event: The Silver State Classic Challenge! Their amazing journey traverses 90 to 120 miles of closed\, two-lane public highway\, comprised of long fast straights\, sweeping corners\, blind dips\, even carving through a twisty canyon. The current course record stands at 219.6430 mph average speed\, as recognized by the Guinness Book of World Records. The best part is\, if you’ve got the nerve\, a little cash\, and a fast ride\, you too can join them to run as fast as you can\, legally\, down a public highway. Welcome to the Silver State Classic Challenge! \nThe Silver State Classic Challenge\, Inc. is a non-profit corporation with a dedicated volunteer Board of Directors and staff who annually host the Nevada Open Road Challenge and Silver State Classic Challenge. Open Road Racing events on a closed section of Nevada State Highway 318\, renamed by the Nevada Department of Transportation as the Silver State Classic Challenge Highway. \nSilver State Classic Challenge offers two completely different types of Open Road Racing event formats. The NORC in May is a two-way event\, totaling 119.78 miles (59.89 each way)\, with a weekend packed full of gearhead activities\, and an awards banquet after-party held in the charming\, rustic mining town of Ely\, Nevada. The SSCC in September is our classic 90-mile\, one-way event\, with additional activities held in Ely\, and the SSCC awards banquet after-party is held at the historic Sam’s Town Casino Hotel in fabulous Las Vegas\, Nevada. \nSilver State Classic Challenge events are based on time\, speed\, and distance. Classes begin at 95 mph\, and increase in 5 mph increments up through the 160 mph class\, with a 170 mph\, 180 mph\, and an Unlimited\, top speed class. Vehicles start one at a time\, in one minute intervals against a GPS timing clock\, and attempt to break the beam at the finish line as close as possible to their speed class target time. First\, Second and Third place trophies are awarded to the Driver and Navigator/Co-driver in each class\, based on most accurate elapsed time targets achieved\, as measured by SSCC timing equipment. Trophies are also awarded to drivers of our companion One-Mile and Half-Mile Shootout events\, both held on race weekends in conjunction with our Open Road Racing events. \nSilver State Classic Challenge events are open to anyone 18 years of age or older with a valid driver’s license and a roadworthy vehicle\, providing the driver\, navigator\, car and safety gear all pass a safety technical inspection. Please see our rule book on this site for further details. All entrants will receive a set of course notes and a pre-race DVD to help them prepare for their event. \nAll first-time Silver State Classic Challenge participants are considered rookies\, and may enter classes ranging from 95 mph up to 110 mph\, determined by their vehicle capabilities and safety equipment\, and each Driver and Navigator/Co-Driver’s comfort level. All rookies must also attend a Silver State Classic Challenge rookie driver school. Those with documented Open Road Racing or other equivalent racing experience\, or those who hold racing licenses from select sanctioned racing bodies\, may be eligible to obtain a waiver from rookie school. Please see our rule book for details\, and contact us to submit qualifications to our Silver State Classic Challenge Race Director for rookie school waiver requests. \nFor Silver State Classic Challenge rookies\, the event begins on Thursday of race weekend in Las Vegas\, Nevada\, with a practice session and qualifying rookie school at SPEEDVEGAS\, located just South of the Las Vegas Strip. An Silver State Classic Challenge prescribed classroom introduction is followed by an exhilarating high-performance driving session\, where rookies will complete laps on the road course in exotic cars from SPEEDVEGAS fleet. It’s some of the most fun you’ll ever have while going to school! \nDuring the NORC event in May\, registration packet pickup will be held in Ely\, Nevada. For the Silver State Classic Challenge event in September\, registration will be held at Sam’s Town Casino and Hotel in Las Vegas\, along with a technical inspection session. There is a Press Conference/Luncheon open to all participants\, crews\, Ham radio operators\, and course workers of Silver State Classic Challenge events. Following after the luncheon\, a caravan of participants will depart for a fun drive to Ely\, roughly 240 miles North of Las Vegas\, with a pit stop in Ash Springs for refueling and snacks. Along the way\, rookies in the caravan will have a chance to preview the course\, and ask questions about the road. Upon arrival in Ely\, there will be an evening welcome party and pub crawl. \nFor drivers who want to test their cars at speed\, or perform final tuning and reliability checks before the Open Road Race on Sunday\, Silver State Classic Challenge offers Half-Mile and One-Mile Shootout events on Friday morning on Nevada Highway 490\, just North of Ely. All Shootout participants pay an additional fee at registration\, and must pass a formal technical inspection prior to running in these events. Participants will be allowed three runs down the closed highway\, with their highest speed of three runs scoring towards potentially winning 1st\, 2nd\, and 3rd place trophies. \nFriday morning registration packet pickup and technical inspection is open for all Shootout participants\, and to all competitors immediately after the Shootout participants are processed. Later in the day\, a parade of cars will take place on Main Street to give the citizens of Ely a chance to see and hear the competitor cars\, and to give the kids of Ely a chance to catch some candy\, or even a ride along in your car\, if you have room to let them tag along. An Silver State Classic Challenge welcome reception awaits all participants and their crews immediately following the parade. For the more adventurous\, the annual SSCC Hooker’s Choice Awards Car Show is held Friday night at the famous Stardust Ranch\, where prizes can be won\, and shenanigans go well into the night. \nSaturday morning is the annual charity pancake breakfast\, SSCC car show\, and a final technical inspection session\, all held in the city park. Teams often host their lunch and strategy meetings during the afternoon\, and many participants do final vehicle and gear prep before the big race. Saturday evening there is a mandatory Driver and Navigator/Co-Driver meeting\, and then it’s off to individual dinner plans and a rare early night\, because the Open Road Racing event starts first thing Sunday morning on Highway 318\, South of Ely. \nSSCC Open Road Racing events always begin promptly at 8 AM on the third Sunday of May (NORC) and September (SSCC)\, although you’ll find yourself on the road by 6 AM to make it to pre-grid in Lund by 6:30 AM\, and then onto the final starting grid beginning at 7 AM. The first car will start down Highway 318 at 8 AM sharp\, and cars will launch one minute apart\, in order of faster speed classes to slower\, and drive off down 318 towards the thrill of victory\, or the agony of defeat. \nThe grand finale takes place Sunday evening with an Awards Banquet in Las Vegas\, during which cocktails and dinner are enjoyed. Tales of amazing feats related to tearing open the space-time continuum\, hilarious navigator hijinks\, and countless stopwatch shenanigans will be told in a way only Silver State Classic Challenge veterans can share\, as the highly anticipated announcements of who bested the time clock to win\, place\, or show in each speed class are read aloud. Shock\, awe\, tears of joy\, and the taste of cake are all but guaranteed to one and all. \nBest of all\, reasonable entry fees put these events within the reach of almost anyone with a vehicle and a passion for racing who would like to test the performance of their car\, stopwatch\, and driving skills. Some of the best car people you’ll ever meet will be on hand for these events\, ranging from true racing rookies and track day warriors\, to occasional major series racers\, TV star car nuts\, and many up and coming driving talents within their own right. We host them all! \nFor over 30 years\, Silver State Classic Challenge events have been featured on the pages of many popular car magazines\, such as Road and Track\, Car and Driver\, and Hot Rod Magazine\, just to name a few. We’ve also appeared on major television networks\, including many popular automotive shows on ESPN\, Fox Sports\, SPEED Channel\, Mav TV\, and others. Of course\, we’re all over YouTube on many popular channels\, and some not so well known pages\, too. Search for Silver State Classic Challenge to uncover many hair-raising videos (though we don’t condone them all). \nIf you have ever wondered what it would be like to drive your car as fast as you can handle over 90-120 miles of closed highway\, or have always wanted to participate in a high speed auto rally or Open Road Racing event\, there is no better place to find out what it’s like than on Nevada Highway 318. Best of all\, the local Sheriff will smile and wave at you as you pass him by doing 165 in a 70. Where else can you get that rush of constant speed for that long or a distance without risking life\, limb\, and your driver’s license? Go to SSCC.US to register for one of our events today\, and come experience the automotive rush of a lifetime with us on Nevada 318. \nWe hope to see you racing with us soon down the Silver State Classic Challenge Highway! \nDiscover more White Pine Events by Clicking HERE!
URL:https://elynevada.net/event/silver-state-classic-challenge-2020/
LOCATION:Ely\, NV\, 89301\, United States
CATEGORIES:History,Races,Sports
ATTACH;FMTTYPE=image/jpeg:https://elynevada.net/wp-content/uploads/2018/09/pgcffcf-Gary-Innocenti-2001-Chevrolet-Corvette-Silver-State-Classic-Challenge-2012.jpg
ORGANIZER;CN="Silver State Classic Challenge Inc.":MAILTO:sscc.us@gmail.com
END:VEVENT
BEGIN:VEVENT
DTSTART;VALUE=DATE:20200512
DTEND;VALUE=DATE:20200518
DTSTAMP:20260423T005718
CREATED:20200212T081735Z
LAST-MODIFIED:20200319T235201Z
UID:10000237-1589241600-1589759999@elynevada.net
SUMMARY:Nevada Open Road Challenge
DESCRIPTION:CANCELLED\n www.SSCC.us
URL:https://elynevada.net/event/nevada-open-road-challenge/
LOCATION:Ely\, NV\, 89301\, United States
CATEGORIES:History,Races,Sports
ATTACH;FMTTYPE=image/jpeg:https://elynevada.net/wp-content/uploads/2020/02/RLT-Cover-Nevada-Open-Road-Challenge-1000x288-1.jpg
ORGANIZER;CN="Silver State Classic Challenge Inc.":MAILTO:sscc.us@gmail.com
END:VEVENT
BEGIN:VEVENT
DTSTART;TZID=UTC:20190912T080000
DTEND;TZID=UTC:20190915T230000
DTSTAMP:20260423T005718
CREATED:20190807T163713Z
LAST-MODIFIED:20190807T163719Z
UID:10000044-1568275200-1568588400@elynevada.net
SUMMARY:Silver State Classic Challenge
DESCRIPTION:Driving enthusiasts from around the world gather in the Nevada high desert for the running of a truly unique racing and automotive event Sep. 12-15\, 2019. \nFrom Ely to Las Vegas\, a two-lane public highway is closed for the race. \n \nClasses begin at 95 mph\, and increase in 5 mph increments up through the 160 mph class\, with a 170 mph\, 180 mph\, and an Unlimited\, top speed class. Vehicles start one at a time\, in one minute intervals against a GPS timing clock\, and attempt to break the beam at the finish line as close as possible to their speed class target time. \nFirst\, Second and Third place trophies are awarded to the Driver and Navigator/Co-driver in each class\, based on most accurate elapsed time targets achieved\, as measured by SSCC timing equipment.
URL:https://elynevada.net/event/silver-state-classic-challenge/
CATEGORIES:Community,History,Races,Sports
ORGANIZER;CN="Silver State Classic Challenge Inc.":MAILTO:sscc.us@gmail.com
END:VEVENT
END:VCALENDAR