BEGIN:VCALENDAR
VERSION:2.0
PRODID:-//Welcome To Ely - ECPv6.15.20//NONSGML v1.0//EN
CALSCALE:GREGORIAN
METHOD:PUBLISH
X-WR-CALNAME:Welcome To Ely
X-ORIGINAL-URL:https://elynevada.net
X-WR-CALDESC:Events for Welcome To Ely
REFRESH-INTERVAL;VALUE=DURATION:PT1H
X-Robots-Tag:noindex
X-PUBLISHED-TTL:PT1H
BEGIN:VTIMEZONE
TZID:UTC
BEGIN:STANDARD
TZOFFSETFROM:+0000
TZOFFSETTO:+0000
TZNAME:UTC
DTSTART:20210101T000000
END:STANDARD
END:VTIMEZONE
BEGIN:VEVENT
DTSTART;TZID=UTC:20220820T140000
DTEND;TZID=UTC:20220820T170000
DTSTAMP:20260423T112621
CREATED:20220816T053325Z
LAST-MODIFIED:20220816T053327Z
UID:10000474-1661004000-1661014800@elynevada.net
SUMMARY:Horseshoe Tournament at Whispering Elms
DESCRIPTION:Horsehoe Tournament at Whispering Elms\nThe The Whispering Elms Motel & Rv Park is hosting a Horseshoe Tournament! Head over to Baker on August 20th and you’ll find a double elimination tournament full of food\, drinks\, and raffles right as you enter town.
URL:https://elynevada.net/event/horseshoe-tournament-at-whispering-elms/
LOCATION:The Whispering Elms\, 12 Baker Ave.\, Baker\, NV\, 89311\, United States
CATEGORIES:Community
END:VEVENT
END:VCALENDAR