BEGIN:VCALENDAR
VERSION:2.0
PRODID:-//Welcome To Ely - ECPv6.15.20//NONSGML v1.0//EN
CALSCALE:GREGORIAN
METHOD:PUBLISH
X-WR-CALNAME:Welcome To Ely
X-ORIGINAL-URL:https://elynevada.net
X-WR-CALDESC:Events for Welcome To Ely
REFRESH-INTERVAL;VALUE=DURATION:PT1H
X-Robots-Tag:noindex
X-PUBLISHED-TTL:PT1H
BEGIN:VTIMEZONE
TZID:UTC
BEGIN:STANDARD
TZOFFSETFROM:+0000
TZOFFSETTO:+0000
TZNAME:UTC
DTSTART:20200101T000000
END:STANDARD
END:VTIMEZONE
BEGIN:VEVENT
DTSTART;TZID=UTC:20211017T130000
DTEND;TZID=UTC:20211017T173000
DTSTAMP:20260423T073612
CREATED:20211013T035200Z
LAST-MODIFIED:20211013T040547Z
UID:10000414-1634475600-1634491800@elynevada.net
SUMMARY:White Pine Copper Days
DESCRIPTION:White Pine Copper Days\nThis year’s White Pine Copper Days are October 17th! You can look forward to both bull riding and barrel racing\, along with a 1/2 cow auction with proceeds being raised for a member of the community. Not to mention\, the bar will be open! \nThe day kicks off at 1:00 p.m. at the White Pine County Fairgrounds. Admissions are as follows: \n$10.00 Regular Admission \n$6.00 for children ages 9-17 and seniors (65 years or older) \nChildren 8 and younger are free \nSign-in’s for all participants will be at 11:30 a.m. To enter:\nBarrel Racing: $45.00 \nBull Riding: $85.00 \n$500 Added Payback \nThis is a White Pine Copper Days Rodeo Committee event\, and for more info and/or to sign-up\, contact Amanda Panagopolous at (775) 293-7162. \nDiscover More Things to Do in White Pine County HERE!\n 
URL:https://elynevada.net/event/white-pine-copper-days/
LOCATION:White Pine County Fairgrounds\, 78 n mcgill hwy\, Ely\, NV\, United States
CATEGORIES:Community,Sports
ATTACH;FMTTYPE=image/png:https://elynevada.net/wp-content/uploads/2021/10/White-Pine-copper-days.png
END:VEVENT
END:VCALENDAR