BEGIN:VCALENDAR
VERSION:2.0
PRODID:-//Welcome To Ely - ECPv6.15.20//NONSGML v1.0//EN
CALSCALE:GREGORIAN
METHOD:PUBLISH
X-ORIGINAL-URL:https://elynevada.net
X-WR-CALDESC:Events for Welcome To Ely
REFRESH-INTERVAL;VALUE=DURATION:PT1H
X-Robots-Tag:noindex
X-PUBLISHED-TTL:PT1H
BEGIN:VTIMEZONE
TZID:UTC
BEGIN:STANDARD
TZOFFSETFROM:+0000
TZOFFSETTO:+0000
TZNAME:UTC
DTSTART:20180101T000000
END:STANDARD
END:VTIMEZONE
BEGIN:VEVENT
DTSTART;TZID=UTC:20220702T070000
DTEND;TZID=UTC:20220702T220000
DTSTAMP:20260423T044806
CREATED:20220413T040100Z
LAST-MODIFIED:20220414T023648Z
UID:10000456-1656745200-1656799200@elynevada.net
SUMMARY:Third Annual Swim-A-Thon for Veterans
DESCRIPTION:Third Annual Swim-A-Thon for Veterans\nSupport a great local cause by sponsoring and supporting Cyndi Thompson during her Swim-A-Thon\, which will benefit Nevada Veteran’s on July 2nd. This is the third of an annual event\, with this year benefitting Nevada and Utah Veterans. \nNew to this year is sign-ups and participation! Anyone who wants to participate and swim alongside Cyndi this year can! \nCyndi will be swimming a 5k solo at the White Pine Aquatic’s Center from 7:00 a.m. – 10:00 a.m. As always\, Cyndi is always looking for sponsorships. All fundraiser proceeds will go toward the Fisher House Foundation to support Fisher Houses in Salt Lake City\, Utah and Las Vegas\, Nevada. \nFisher House Foundation builds comfort homes where military and veteran families can stay free of charge\, while a loved one is in the hospital. These homes are located at military and VA medical centers around the world. The Ficher House Foundation\, Inc.\, a not-for-profit organization under section 501(c)(3) of the IRS code\, builds new houses and assists in the coordination of private support while coordination of private support while encouraging public support for the homes. \nContact Cyndi at 307-254-3076 or cthomp2015@yahoo.com to sponsor\, or go to FisherHouse.org\, click on “Get Involved”\, “Fundraiser”\, “Host Your Own Event”\, “2022 Swim-a-Thon.” Or be directly taken directly to the event HERE! \nFollow updates about this event by Liking and Following our Facebook. Discover more of White Pine County by clicking HERE!
URL:https://elynevada.net/event/third-annual-swim-a-thon-for-veterans/
LOCATION:White Pine County Aquatics Center\, 1111 Veterans Blvd\, Ely\, NV\, 89301\, United States
CATEGORIES:Community,Sports
ATTACH;FMTTYPE=image/png:https://elynevada.net/wp-content/uploads/2022/04/Third-Annual-Swim-A-Thon-for-Veterans.png
END:VEVENT
BEGIN:VEVENT
DTSTART;TZID=UTC:20190810T073000
DTEND;TZID=UTC:20190810T073000
DTSTAMP:20260423T044806
CREATED:20190724T101429Z
LAST-MODIFIED:20190724T101446Z
UID:10000024-1565422200-1565422200@elynevada.net
SUMMARY:Sky High Tri
DESCRIPTION:Calling all who bike\, swim\, and run for fun! The second Sky High Triathlon is ready for anyone up for the challenge. There are individual and relay races\, all at intermediate and beginner levels. \nThe intermediate races include a 400 yard swim\, 12 mile bike\, and 3 mile run\, while beginners can look forward to 200 yard swim\, 3 mile bike\, and 1 mile run. All distances start at 7:30 a.m. \n \nAnd\, of course\, don’t forget the Tiny Tikes triathlon (ages 4-10) for the 50 yard swim\, bike around the building\, and run around the parking lot at 10:00 a.m.
URL:https://elynevada.net/event/sky-high-tri/
LOCATION:White Pine County Aquatics Center\, 1111 Veterans Blvd\, Ely\, NV\, 89301\, United States
CATEGORIES:Community,Races,Sports
END:VEVENT
END:VCALENDAR