BEGIN:VCALENDAR
VERSION:2.0
PRODID:-//Welcome To Ely - ECPv6.15.20//NONSGML v1.0//EN
CALSCALE:GREGORIAN
METHOD:PUBLISH
X-ORIGINAL-URL:https://elynevada.net
X-WR-CALDESC:Events for Welcome To Ely
REFRESH-INTERVAL;VALUE=DURATION:PT1H
X-Robots-Tag:noindex
X-PUBLISHED-TTL:PT1H
BEGIN:VTIMEZONE
TZID:UTC
BEGIN:STANDARD
TZOFFSETFROM:+0000
TZOFFSETTO:+0000
TZNAME:UTC
DTSTART:20190101T000000
END:STANDARD
END:VTIMEZONE
BEGIN:VEVENT
DTSTART;VALUE=DATE:20200523
DTEND;VALUE=DATE:20200526
DTSTAMP:20260423T073648
CREATED:20200519T051826Z
LAST-MODIFIED:20200519T052151Z
UID:10000334-1590192000-1590451199@elynevada.net
SUMMARY:Memorial Day Golf Tournament White Pine Golf Course
DESCRIPTION:Memorial Day Tournament\nTwo – Man // Four ~ 9 Hole Net Formats \nModified Tees / Players 50 – 59 May Play White Tees \nPlayers 60 – 69 May Play Yellow Tees \nPlayers 70 & Up May Play Red Tees \nPlayers with a Single Digit Handicap regardless of age may play no further forward than White Tees \nThis is a 36 hole 2 person Memorial Day Golf Tournament. Pick your own partner. First 9 holes will be played as a scramble\, second nine holes will be modified scotch\, third nine holes will be a best ball and the last 9 holes will be a two-person total net. $200.00 added money from WPMGA. Net payoff. Play two rounds over three days. Must play with at least two other members. Must declare days you are playing in advance. $20.00 Entry. See Clubhouse for details. \nFirst 9 Holes: The Front Nine Holes Will Be Played As A Scramble (Three Drives Per Player Required). Both Players Will Tee Off\, Select The Best Drive And Hit The Second Shot From That Point\, Select The Best Shot And Hit From That Point\, And So On (Within One Club Length In The Fairway\, And Within 6” On The Putting Surface\, No Nearer The Hole In Either Case)\, Until The Ball Is Holed. Handicaps Will Be Based On 50% Of Lower Handicap and 30% Of Higher Handicap. \nSecond 9 Holes: The Back Nine Will Be Played As A Modified Scotch. Both Players Will Tee Off And The Best Drive Will Be Selected (Three Drives Per Player Required). The Player Whose Ball Was Not Chosen Will Hit The Second Shot. Players Shall Alternate Shots From That Point Forward Until The Ball Is Holed. The Ball Will Be Played Down\, And You May Not Improve Your Lie. Handicaps Will Be Based On 20% Of Team Handicap. \nThird 9 Holes: The Front Nine Holes Will Be Played As Best Ball. Both Players Will Play Their Own Ball From Tee Thru Green And Record Both Gross Scores On The Scorecard. The Tournament Committee Will Handicap Both Scores And Select The Best Score. The Ball Will Be Played Down\, And You May Not Improve Your Lie. Handicaps Will Be Based On 100% of Individual Low Index. Fourth 9 Holes: The Back Nine Will Be Played As A Two–Ball Total. Both Players Will Play Their Own Ball From Tee Thru Green And Record Both Gross Scores On The Scorecard. The Tournament Committee Will Handicap Both Scores. The Ball Will Be Played Down\, And You May Not Improve Your Lie. Handicaps Will Be Based On 100% of Individual Low Index. \nThis Memorial Day Golf Tournament is hosted by the White Pine Men’s Golf Association and one of the many opportunities we have here for golf! \nThanks For Playing!
URL:https://elynevada.net/event/memorial-day-golf-tournament-white-pine-golf-course/
LOCATION:White Pine Golf Course\, 151 N. Golf Course Drive\, Ely\, NV\, 89301\, United States
CATEGORIES:Community,Sports
ATTACH;FMTTYPE=image/jpeg:https://elynevada.net/wp-content/uploads/2020/05/ElyGolf9_LoriDrew.jpg
ORGANIZER;CN="White Pine Men's Golf Association":MAILTO:rlong@whitepinenv.gov
END:VEVENT
END:VCALENDAR