BEGIN:VCALENDAR
VERSION:2.0
PRODID:-//Welcome To Ely - ECPv6.15.20//NONSGML v1.0//EN
CALSCALE:GREGORIAN
METHOD:PUBLISH
X-WR-CALNAME:Welcome To Ely
X-ORIGINAL-URL:https://elynevada.net
X-WR-CALDESC:Events for Welcome To Ely
REFRESH-INTERVAL;VALUE=DURATION:PT1H
X-Robots-Tag:noindex
X-PUBLISHED-TTL:PT1H
BEGIN:VTIMEZONE
TZID:UTC
BEGIN:STANDARD
TZOFFSETFROM:+0000
TZOFFSETTO:+0000
TZNAME:UTC
DTSTART:20200101T000000
END:STANDARD
END:VTIMEZONE
BEGIN:VEVENT
DTSTART;TZID=UTC:20211218T180000
DTEND;TZID=UTC:20211218T210000
DTSTAMP:20260423T055320
CREATED:20211208T085113Z
LAST-MODIFIED:20211208T085115Z
UID:10000418-1639850400-1639861200@elynevada.net
SUMMARY:Murder on the Menu
DESCRIPTION:Murder on the Menu\nThe White Pine Players present\, in conjunction with the WPHS Culinary Club\, A Murder Mystery Dinner Theater: Murder on the Menu by Bill Hand. Dinner AND a show on Dec. 17th & 18th at 6:00 p.m. Doors open at 5:30 p.m. at the White Pine High School \n\nDinner:\nAppetizer: Roll and Green Salad\nEntrée: Honey Mustard Chicken with Mashed Potatoes and Green Beans\nDessert: Cheesecake\n\n\nWhen: December 17 & 18 at 6:00 p.m. (Doors open at 5:30)\nWhere: White Pine High School\n\n\nReservations are required!\nFor tickets contact Julia Homan via Facebook OR @ 775-293-7278 (call or text) OR Kevin Briggs @ 775-289-5558\nAll seats $30.00\n\n\nThank you for supporting the arts at White Pine High School!\n\n 
URL:https://elynevada.net/event/murder-on-the-menu/2021-12-18/
LOCATION:White Pine High School\, 1800 Bobcat Drive\, Ely\, NV\, 89301\, United States
CATEGORIES:Arts & Culture,Community
ATTACH;FMTTYPE=image/jpeg:https://elynevada.net/wp-content/uploads/2021/12/262966656_416450196851887_5629874796439168878_n.jpg
END:VEVENT
BEGIN:VEVENT
DTSTART;TZID=UTC:20211217T180000
DTEND;TZID=UTC:20211217T210000
DTSTAMP:20260423T055320
CREATED:20211208T085113Z
LAST-MODIFIED:20211208T085115Z
UID:10000417-1639764000-1639774800@elynevada.net
SUMMARY:Murder on the Menu
DESCRIPTION:Murder on the Menu\nThe White Pine Players present\, in conjunction with the WPHS Culinary Club\, A Murder Mystery Dinner Theater: Murder on the Menu by Bill Hand. Dinner AND a show on Dec. 17th & 18th at 6:00 p.m. Doors open at 5:30 p.m. at the White Pine High School \n\nDinner:\nAppetizer: Roll and Green Salad\nEntrée: Honey Mustard Chicken with Mashed Potatoes and Green Beans\nDessert: Cheesecake\n\n\nWhen: December 17 & 18 at 6:00 p.m. (Doors open at 5:30)\nWhere: White Pine High School\n\n\nReservations are required!\nFor tickets contact Julia Homan via Facebook OR @ 775-293-7278 (call or text) OR Kevin Briggs @ 775-289-5558\nAll seats $30.00\n\n\nThank you for supporting the arts at White Pine High School!\n\n 
URL:https://elynevada.net/event/murder-on-the-menu/2021-12-17/
LOCATION:White Pine High School\, 1800 Bobcat Drive\, Ely\, NV\, 89301\, United States
CATEGORIES:Arts & Culture,Community
ATTACH;FMTTYPE=image/jpeg:https://elynevada.net/wp-content/uploads/2021/12/262966656_416450196851887_5629874796439168878_n.jpg
END:VEVENT
END:VCALENDAR