BEGIN:VCALENDAR
VERSION:2.0
PRODID:-//Welcome To Ely - ECPv6.15.20//NONSGML v1.0//EN
CALSCALE:GREGORIAN
METHOD:PUBLISH
X-WR-CALNAME:Welcome To Ely
X-ORIGINAL-URL:https://elynevada.net
X-WR-CALDESC:Events for Welcome To Ely
REFRESH-INTERVAL;VALUE=DURATION:PT1H
X-Robots-Tag:noindex
X-PUBLISHED-TTL:PT1H
BEGIN:VTIMEZONE
TZID:America/Los_Angeles
BEGIN:DAYLIGHT
TZOFFSETFROM:-0800
TZOFFSETTO:-0700
TZNAME:PDT
DTSTART:20250309T100000
END:DAYLIGHT
BEGIN:STANDARD
TZOFFSETFROM:-0700
TZOFFSETTO:-0800
TZNAME:PST
DTSTART:20251102T090000
END:STANDARD
BEGIN:DAYLIGHT
TZOFFSETFROM:-0800
TZOFFSETTO:-0700
TZNAME:PDT
DTSTART:20260308T100000
END:DAYLIGHT
BEGIN:STANDARD
TZOFFSETFROM:-0700
TZOFFSETTO:-0800
TZNAME:PST
DTSTART:20261101T090000
END:STANDARD
BEGIN:DAYLIGHT
TZOFFSETFROM:-0800
TZOFFSETTO:-0700
TZNAME:PDT
DTSTART:20270314T100000
END:DAYLIGHT
BEGIN:STANDARD
TZOFFSETFROM:-0700
TZOFFSETTO:-0800
TZNAME:PST
DTSTART:20271107T090000
END:STANDARD
END:VTIMEZONE
BEGIN:VEVENT
DTSTART;TZID=America/Los_Angeles:20260626T100000
DTEND;TZID=America/Los_Angeles:20260626T160000
DTSTAMP:20260422T221012
CREATED:20260127T215301Z
LAST-MODIFIED:20260127T215301Z
UID:10004947-1782468000-1782489600@elynevada.net
SUMMARY:WPPM Rock Show
DESCRIPTION:WPPM Rock Show\nThe 7th Annual Ely Rock Show\, now the Ely Rock & Bottle Swap\, is set for Friday and Saturday\, June 27th-28th! Swing by the White Pine Public Museum from 10:00am – 4:00pm each day! \nThis is an opportunity for rock and bottle hounds to exhibit their quality specimens\, lapidary creations\, and jewelry. In addition to the vendors’ wares\, tour the museum! Historical maps\, pictures\, bottles\, and minerals from White Pine’s earliest days lie within. \nThis year also features family friendly activities\, including rock painting\, gold panning\, and more! \nA  $7.00 entry fee admits visitors to both the museum and Rock and Bottle Swap. Total Pricing is as follows: \n$7.00 Entry (ages 13 and over) \n$4.00 Entry (ages 5-12) \nFree (ages 4 and under) \nRefreshments will be available in the museum yard. \nWant to be a vendor?! Further information about registration and display spaces is available at the White Pine Public Museum by phone or email. \nPhone: (775) 289-4710 \nEmail: wpmuseumnv@gmail.com \nWebsite: wpmuseum.org \nThis year\, 2025\, marks the White Pine Public Museum’s 65th Anniversary! Celebrate by visiting the museum\, checking out the curated exhibits\, and becoming a Cave Bear Club member today! \nDon’t forget to also visit the Museum’s sister site\, the McGill Drugstore. A large time capsule\, the Drugstore houses products on the shelves that date back to the 1950s. Records still exist of every client the drugstore had\, and the building is a dedicated preservation site with free admission. An easy northbound drive of Ely and open 10am-3pm Thursdays to Sundays\, be sure to say hi to Keith for us!
URL:https://elynevada.net/event/wppm-rock-show/2026-06-26/
LOCATION:White Pine Public Museum\, 2000 East Aultman Street\, Ely\, NV\, 89301\, United States
CATEGORIES:Community,Fundraiser,History
ATTACH;FMTTYPE=image/png:https://elynevada.net/wp-content/uploads/2025/03/Rock-Bottle-Show.png
ORGANIZER;CN="White Pine Public Museum":MAILTO:wpmusuemnv@gmail.com
END:VEVENT
BEGIN:VEVENT
DTSTART;TZID=America/Los_Angeles:20260627T100000
DTEND;TZID=America/Los_Angeles:20260627T160000
DTSTAMP:20260422T221012
CREATED:20260127T215301Z
LAST-MODIFIED:20260127T215301Z
UID:10004948-1782554400-1782576000@elynevada.net
SUMMARY:WPPM Rock Show
DESCRIPTION:WPPM Rock Show\nThe 7th Annual Ely Rock Show\, now the Ely Rock & Bottle Swap\, is set for Friday and Saturday\, June 27th-28th! Swing by the White Pine Public Museum from 10:00am – 4:00pm each day! \nThis is an opportunity for rock and bottle hounds to exhibit their quality specimens\, lapidary creations\, and jewelry. In addition to the vendors’ wares\, tour the museum! Historical maps\, pictures\, bottles\, and minerals from White Pine’s earliest days lie within. \nThis year also features family friendly activities\, including rock painting\, gold panning\, and more! \nA  $7.00 entry fee admits visitors to both the museum and Rock and Bottle Swap. Total Pricing is as follows: \n$7.00 Entry (ages 13 and over) \n$4.00 Entry (ages 5-12) \nFree (ages 4 and under) \nRefreshments will be available in the museum yard. \nWant to be a vendor?! Further information about registration and display spaces is available at the White Pine Public Museum by phone or email. \nPhone: (775) 289-4710 \nEmail: wpmuseumnv@gmail.com \nWebsite: wpmuseum.org \nThis year\, 2025\, marks the White Pine Public Museum’s 65th Anniversary! Celebrate by visiting the museum\, checking out the curated exhibits\, and becoming a Cave Bear Club member today! \nDon’t forget to also visit the Museum’s sister site\, the McGill Drugstore. A large time capsule\, the Drugstore houses products on the shelves that date back to the 1950s. Records still exist of every client the drugstore had\, and the building is a dedicated preservation site with free admission. An easy northbound drive of Ely and open 10am-3pm Thursdays to Sundays\, be sure to say hi to Keith for us!
URL:https://elynevada.net/event/wppm-rock-show/2026-06-27/
LOCATION:White Pine Public Museum\, 2000 East Aultman Street\, Ely\, NV\, 89301\, United States
CATEGORIES:Community,Fundraiser,History
ATTACH;FMTTYPE=image/png:https://elynevada.net/wp-content/uploads/2025/03/Rock-Bottle-Show.png
ORGANIZER;CN="White Pine Public Museum":MAILTO:wpmusuemnv@gmail.com
END:VEVENT
END:VCALENDAR