BEGIN:VCALENDAR
VERSION:2.0
PRODID:-//Welcome To Ely - ECPv6.15.20//NONSGML v1.0//EN
CALSCALE:GREGORIAN
METHOD:PUBLISH
X-ORIGINAL-URL:https://elynevada.net
X-WR-CALDESC:Events for Welcome To Ely
REFRESH-INTERVAL;VALUE=DURATION:PT1H
X-Robots-Tag:noindex
X-PUBLISHED-TTL:PT1H
BEGIN:VTIMEZONE
TZID:UTC
BEGIN:STANDARD
TZOFFSETFROM:+0000
TZOFFSETTO:+0000
TZNAME:UTC
DTSTART:20180101T000000
END:STANDARD
END:VTIMEZONE
BEGIN:VEVENT
DTSTART;TZID=UTC:20191217T190000
DTEND;TZID=UTC:20191217T210000
DTSTAMP:20260423T081158
CREATED:20191203T025112Z
LAST-MODIFIED:20191203T025120Z
UID:10000225-1576609200-1576616400@elynevada.net
SUMMARY:WPHS Singers Winter Concert
DESCRIPTION:The White Pine High School Singers hold their Winter Concert to fill everyone with the winter spirit.
URL:https://elynevada.net/event/wphs-singers-winter-concert/
LOCATION:White Pine High School\, 1800 Bobcat Drive\, Ely\, NV\, 89301\, United States
CATEGORIES:Community
END:VEVENT
END:VCALENDAR