BEGIN:VCALENDAR
VERSION:2.0
PRODID:-//Welcome To Ely - ECPv6.15.20//NONSGML v1.0//EN
CALSCALE:GREGORIAN
METHOD:PUBLISH
X-ORIGINAL-URL:https://elynevada.net
X-WR-CALDESC:Events for Welcome To Ely
REFRESH-INTERVAL;VALUE=DURATION:PT1H
X-Robots-Tag:noindex
X-PUBLISHED-TTL:PT1H
BEGIN:VTIMEZONE
TZID:UTC
BEGIN:STANDARD
TZOFFSETFROM:+0000
TZOFFSETTO:+0000
TZNAME:UTC
DTSTART:20210101T000000
END:STANDARD
END:VTIMEZONE
BEGIN:VEVENT
DTSTART;TZID=UTC:20230819T090000
DTEND;TZID=UTC:20230819T120000
DTSTAMP:20260423T033953
CREATED:20230124T053958Z
LAST-MODIFIED:20230610T022724Z
UID:10000507-1692435600-1692446400@elynevada.net
SUMMARY:Snake Valley Farmers Market
DESCRIPTION:Snake Valley Farmers Market\nCome join us at the market located at the Baker Community Church Pavilion\, and discover what our local gardeners\, artisans\, bakers\, photographers\, coffee roasters have to offer.
URL:https://elynevada.net/event/snake-valley-farmers-market/2023-08-19/
LOCATION:Baker Community Church Pavilion\, 315 Saval Ave.\, Baker\, NV\, 89311\, United States
CATEGORIES:Community
ATTACH;FMTTYPE=image/jpeg:https://elynevada.net/wp-content/uploads/2022/01/The-Heart-of-Great-Basin.jpeg
END:VEVENT
BEGIN:VEVENT
DTSTART;TZID=UTC:20230812T090000
DTEND;TZID=UTC:20230812T120000
DTSTAMP:20260423T033953
CREATED:20230124T053958Z
LAST-MODIFIED:20230610T022724Z
UID:10000506-1691830800-1691841600@elynevada.net
SUMMARY:Snake Valley Farmers Market
DESCRIPTION:Snake Valley Farmers Market\nCome join us at the market located at the Baker Community Church Pavilion\, and discover what our local gardeners\, artisans\, bakers\, photographers\, coffee roasters have to offer.
URL:https://elynevada.net/event/snake-valley-farmers-market/2023-08-12/
LOCATION:Baker Community Church Pavilion\, 315 Saval Ave.\, Baker\, NV\, 89311\, United States
CATEGORIES:Community
ATTACH;FMTTYPE=image/jpeg:https://elynevada.net/wp-content/uploads/2022/01/The-Heart-of-Great-Basin.jpeg
END:VEVENT
BEGIN:VEVENT
DTSTART;TZID=UTC:20230805T090000
DTEND;TZID=UTC:20230805T120000
DTSTAMP:20260423T033953
CREATED:20230124T053958Z
LAST-MODIFIED:20230610T022724Z
UID:10000505-1691226000-1691236800@elynevada.net
SUMMARY:Snake Valley Farmers Market
DESCRIPTION:Snake Valley Farmers Market\nCome join us at the market located at the Baker Community Church Pavilion\, and discover what our local gardeners\, artisans\, bakers\, photographers\, coffee roasters have to offer.
URL:https://elynevada.net/event/snake-valley-farmers-market/2023-08-05/
LOCATION:Baker Community Church Pavilion\, 315 Saval Ave.\, Baker\, NV\, 89311\, United States
CATEGORIES:Community
ATTACH;FMTTYPE=image/jpeg:https://elynevada.net/wp-content/uploads/2022/01/The-Heart-of-Great-Basin.jpeg
END:VEVENT
BEGIN:VEVENT
DTSTART;TZID=UTC:20230729T090000
DTEND;TZID=UTC:20230729T120000
DTSTAMP:20260423T033953
CREATED:20230124T053958Z
LAST-MODIFIED:20230610T022724Z
UID:10000504-1690621200-1690632000@elynevada.net
SUMMARY:Snake Valley Farmers Market
DESCRIPTION:Snake Valley Farmers Market\nCome join us at the market located at the Baker Community Church Pavilion\, and discover what our local gardeners\, artisans\, bakers\, photographers\, coffee roasters have to offer.
URL:https://elynevada.net/event/snake-valley-farmers-market/2023-07-29/
LOCATION:Baker Community Church Pavilion\, 315 Saval Ave.\, Baker\, NV\, 89311\, United States
CATEGORIES:Community
ATTACH;FMTTYPE=image/jpeg:https://elynevada.net/wp-content/uploads/2022/01/The-Heart-of-Great-Basin.jpeg
END:VEVENT
BEGIN:VEVENT
DTSTART;TZID=UTC:20230722T090000
DTEND;TZID=UTC:20230722T120000
DTSTAMP:20260423T033953
CREATED:20230124T053958Z
LAST-MODIFIED:20230610T022724Z
UID:10000503-1690016400-1690027200@elynevada.net
SUMMARY:Snake Valley Farmers Market
DESCRIPTION:Snake Valley Farmers Market\nCome join us at the market located at the Baker Community Church Pavilion\, and discover what our local gardeners\, artisans\, bakers\, photographers\, coffee roasters have to offer.
URL:https://elynevada.net/event/snake-valley-farmers-market/2023-07-22/
LOCATION:Baker Community Church Pavilion\, 315 Saval Ave.\, Baker\, NV\, 89311\, United States
CATEGORIES:Community
ATTACH;FMTTYPE=image/jpeg:https://elynevada.net/wp-content/uploads/2022/01/The-Heart-of-Great-Basin.jpeg
END:VEVENT
BEGIN:VEVENT
DTSTART;TZID=UTC:20230715T090000
DTEND;TZID=UTC:20230715T120000
DTSTAMP:20260423T033953
CREATED:20230124T053958Z
LAST-MODIFIED:20230610T022724Z
UID:10000502-1689411600-1689422400@elynevada.net
SUMMARY:Snake Valley Farmers Market
DESCRIPTION:Snake Valley Farmers Market\nCome join us at the market located at the Baker Community Church Pavilion\, and discover what our local gardeners\, artisans\, bakers\, photographers\, coffee roasters have to offer.
URL:https://elynevada.net/event/snake-valley-farmers-market/2023-07-15/
LOCATION:Baker Community Church Pavilion\, 315 Saval Ave.\, Baker\, NV\, 89311\, United States
CATEGORIES:Community
ATTACH;FMTTYPE=image/jpeg:https://elynevada.net/wp-content/uploads/2022/01/The-Heart-of-Great-Basin.jpeg
END:VEVENT
BEGIN:VEVENT
DTSTART;TZID=UTC:20230708T090000
DTEND;TZID=UTC:20230708T120000
DTSTAMP:20260423T033953
CREATED:20230124T053958Z
LAST-MODIFIED:20230610T022724Z
UID:10000501-1688806800-1688817600@elynevada.net
SUMMARY:Snake Valley Farmers Market
DESCRIPTION:Snake Valley Farmers Market\nCome join us at the market located at the Baker Community Church Pavilion\, and discover what our local gardeners\, artisans\, bakers\, photographers\, coffee roasters have to offer.
URL:https://elynevada.net/event/snake-valley-farmers-market/2023-07-08/
LOCATION:Baker Community Church Pavilion\, 315 Saval Ave.\, Baker\, NV\, 89311\, United States
CATEGORIES:Community
ATTACH;FMTTYPE=image/jpeg:https://elynevada.net/wp-content/uploads/2022/01/The-Heart-of-Great-Basin.jpeg
END:VEVENT
BEGIN:VEVENT
DTSTART;TZID=UTC:20230701T090000
DTEND;TZID=UTC:20230701T120000
DTSTAMP:20260423T033953
CREATED:20230124T053958Z
LAST-MODIFIED:20230610T022724Z
UID:10000500-1688202000-1688212800@elynevada.net
SUMMARY:Snake Valley Farmers Market
DESCRIPTION:Snake Valley Farmers Market\nCome join us at the market located at the Baker Community Church Pavilion\, and discover what our local gardeners\, artisans\, bakers\, photographers\, coffee roasters have to offer.
URL:https://elynevada.net/event/snake-valley-farmers-market/2023-07-01/
LOCATION:Baker Community Church Pavilion\, 315 Saval Ave.\, Baker\, NV\, 89311\, United States
CATEGORIES:Community
ATTACH;FMTTYPE=image/jpeg:https://elynevada.net/wp-content/uploads/2022/01/The-Heart-of-Great-Basin.jpeg
END:VEVENT
BEGIN:VEVENT
DTSTART;TZID=UTC:20230624T090000
DTEND;TZID=UTC:20230624T120000
DTSTAMP:20260423T033953
CREATED:20230124T053958Z
LAST-MODIFIED:20230610T022724Z
UID:10000499-1687597200-1687608000@elynevada.net
SUMMARY:Snake Valley Farmers Market
DESCRIPTION:Snake Valley Farmers Market\nCome join us at the market located at the Baker Community Church Pavilion\, and discover what our local gardeners\, artisans\, bakers\, photographers\, coffee roasters have to offer.
URL:https://elynevada.net/event/snake-valley-farmers-market/2023-06-24/
LOCATION:Baker Community Church Pavilion\, 315 Saval Ave.\, Baker\, NV\, 89311\, United States
CATEGORIES:Community
ATTACH;FMTTYPE=image/jpeg:https://elynevada.net/wp-content/uploads/2022/01/The-Heart-of-Great-Basin.jpeg
END:VEVENT
BEGIN:VEVENT
DTSTART;TZID=UTC:20230617T090000
DTEND;TZID=UTC:20230617T120000
DTSTAMP:20260423T033953
CREATED:20230124T053958Z
LAST-MODIFIED:20230610T022724Z
UID:10000498-1686992400-1687003200@elynevada.net
SUMMARY:Snake Valley Farmers Market
DESCRIPTION:Snake Valley Farmers Market\nCome join us at the market located at the Baker Community Church Pavilion\, and discover what our local gardeners\, artisans\, bakers\, photographers\, coffee roasters have to offer.
URL:https://elynevada.net/event/snake-valley-farmers-market/2023-06-17/
LOCATION:Baker Community Church Pavilion\, 315 Saval Ave.\, Baker\, NV\, 89311\, United States
CATEGORIES:Community
ATTACH;FMTTYPE=image/jpeg:https://elynevada.net/wp-content/uploads/2022/01/The-Heart-of-Great-Basin.jpeg
END:VEVENT
BEGIN:VEVENT
DTSTART;TZID=UTC:20230610T090000
DTEND;TZID=UTC:20230610T120000
DTSTAMP:20260423T033953
CREATED:20230124T053958Z
LAST-MODIFIED:20230610T022724Z
UID:10000497-1686387600-1686398400@elynevada.net
SUMMARY:Snake Valley Farmers Market
DESCRIPTION:Snake Valley Farmers Market\nCome join us at the market located at the Baker Community Church Pavilion\, and discover what our local gardeners\, artisans\, bakers\, photographers\, coffee roasters have to offer.
URL:https://elynevada.net/event/snake-valley-farmers-market/2023-06-10/
LOCATION:Baker Community Church Pavilion\, 315 Saval Ave.\, Baker\, NV\, 89311\, United States
CATEGORIES:Community
ATTACH;FMTTYPE=image/jpeg:https://elynevada.net/wp-content/uploads/2022/01/The-Heart-of-Great-Basin.jpeg
END:VEVENT
BEGIN:VEVENT
DTSTART;TZID=UTC:20230603T090000
DTEND;TZID=UTC:20230603T120000
DTSTAMP:20260423T033953
CREATED:20230124T053958Z
LAST-MODIFIED:20230610T022724Z
UID:10000496-1685782800-1685793600@elynevada.net
SUMMARY:Snake Valley Farmers Market
DESCRIPTION:Snake Valley Farmers Market\nCome join us at the market located at the Baker Community Church Pavilion\, and discover what our local gardeners\, artisans\, bakers\, photographers\, coffee roasters have to offer.
URL:https://elynevada.net/event/snake-valley-farmers-market/2023-06-03/
LOCATION:Baker Community Church Pavilion\, 315 Saval Ave.\, Baker\, NV\, 89311\, United States
CATEGORIES:Community
ATTACH;FMTTYPE=image/jpeg:https://elynevada.net/wp-content/uploads/2022/01/The-Heart-of-Great-Basin.jpeg
END:VEVENT
BEGIN:VEVENT
DTSTART;TZID=UTC:20220805T180000
DTEND;TZID=UTC:20220805T210000
DTSTAMP:20260423T033953
CREATED:20220329T041922Z
LAST-MODIFIED:20220329T041923Z
UID:10000435-1659722400-1659733200@elynevada.net
SUMMARY:Mini-Snake Valley Festival (Cont.)
DESCRIPTION:Mini-Snake Valley Festival (Cont.)\nFriday\, August 5\, 2022:\n6pm: Chocolate Fest (details tba) \n7pm: Bing at Baker Hall \nLearn more Here: Protect Snake Valley | Festival
URL:https://elynevada.net/event/mini-snake-valley-festival-cont/
LOCATION:Baker Community Church Pavilion\, 315 Saval Ave.\, Baker\, NV\, 89311\, United States
CATEGORIES:Arts & Culture,Community,History
END:VEVENT
BEGIN:VEVENT
DTSTART;TZID=UTC:20220625T080000
DTEND;TZID=UTC:20220625T150000
DTSTAMP:20260423T033953
CREATED:20220329T034254Z
LAST-MODIFIED:20220329T034353Z
UID:10000425-1656144000-1656169200@elynevada.net
SUMMARY:Mini-Snake Valley Festival
DESCRIPTION:Mini-Snake Valley Festival\nFriday\, June 24\, 2022:\n6pm: Ice Cream Social at Baker Hall \n6pm: Live Music by The Front Porch Pickers \n7pm: Bing at Baker Hall \nSaturday\, June 25\, 2022\n8am-12pm: Yard Sale near Baker Hall \n9am-12pm: Bake Sale Near Baker Hall \n9am-12pm: Farmer’s Market at Baker Community Church (next to Baker Hall) \n10am: Parde Down Main Street \n12:30pm: Water Fight
URL:https://elynevada.net/event/mini-snake-valley-festival/2022-06-25/
LOCATION:Baker Community Church Pavilion\, 315 Saval Ave.\, Baker\, NV\, 89311\, United States
CATEGORIES:Arts & Culture,Community,History
ATTACH;FMTTYPE=image/jpeg:https://elynevada.net/wp-content/uploads/2022/03/snake-valley-festival-parade.jpg
END:VEVENT
BEGIN:VEVENT
DTSTART;TZID=UTC:20220624T060000
DTEND;TZID=UTC:20220624T190000
DTSTAMP:20260423T033953
CREATED:20220329T034254Z
LAST-MODIFIED:20220329T034353Z
UID:10000424-1656050400-1656097200@elynevada.net
SUMMARY:Mini-Snake Valley Festival
DESCRIPTION:Mini-Snake Valley Festival\nFriday\, June 24\, 2022:\n6pm: Ice Cream Social at Baker Hall \n6pm: Live Music by The Front Porch Pickers \n7pm: Bing at Baker Hall \nSaturday\, June 25\, 2022\n8am-12pm: Yard Sale near Baker Hall \n9am-12pm: Bake Sale Near Baker Hall \n9am-12pm: Farmer’s Market at Baker Community Church (next to Baker Hall) \n10am: Parde Down Main Street \n12:30pm: Water Fight
URL:https://elynevada.net/event/mini-snake-valley-festival/2022-06-24/
LOCATION:Baker Community Church Pavilion\, 315 Saval Ave.\, Baker\, NV\, 89311\, United States
CATEGORIES:Arts & Culture,Community,History
ATTACH;FMTTYPE=image/jpeg:https://elynevada.net/wp-content/uploads/2022/03/snake-valley-festival-parade.jpg
END:VEVENT
END:VCALENDAR