BEGIN:VCALENDAR
VERSION:2.0
PRODID:-//Welcome To Ely - ECPv6.15.20//NONSGML v1.0//EN
CALSCALE:GREGORIAN
METHOD:PUBLISH
X-ORIGINAL-URL:https://elynevada.net
X-WR-CALDESC:Events for Welcome To Ely
REFRESH-INTERVAL;VALUE=DURATION:PT1H
X-Robots-Tag:noindex
X-PUBLISHED-TTL:PT1H
BEGIN:VTIMEZONE
TZID:America/Los_Angeles
BEGIN:DAYLIGHT
TZOFFSETFROM:-0800
TZOFFSETTO:-0700
TZNAME:PDT
DTSTART:20230312T100000
END:DAYLIGHT
BEGIN:STANDARD
TZOFFSETFROM:-0700
TZOFFSETTO:-0800
TZNAME:PST
DTSTART:20231105T090000
END:STANDARD
BEGIN:DAYLIGHT
TZOFFSETFROM:-0800
TZOFFSETTO:-0700
TZNAME:PDT
DTSTART:20240310T100000
END:DAYLIGHT
BEGIN:STANDARD
TZOFFSETFROM:-0700
TZOFFSETTO:-0800
TZNAME:PST
DTSTART:20241103T090000
END:STANDARD
BEGIN:DAYLIGHT
TZOFFSETFROM:-0800
TZOFFSETTO:-0700
TZNAME:PDT
DTSTART:20250309T100000
END:DAYLIGHT
BEGIN:STANDARD
TZOFFSETFROM:-0700
TZOFFSETTO:-0800
TZNAME:PST
DTSTART:20251102T090000
END:STANDARD
BEGIN:DAYLIGHT
TZOFFSETFROM:-0800
TZOFFSETTO:-0700
TZNAME:PDT
DTSTART:20260308T100000
END:DAYLIGHT
BEGIN:STANDARD
TZOFFSETFROM:-0700
TZOFFSETTO:-0800
TZNAME:PST
DTSTART:20261101T090000
END:STANDARD
BEGIN:DAYLIGHT
TZOFFSETFROM:-0800
TZOFFSETTO:-0700
TZNAME:PDT
DTSTART:20270314T100000
END:DAYLIGHT
BEGIN:STANDARD
TZOFFSETFROM:-0700
TZOFFSETTO:-0800
TZNAME:PST
DTSTART:20271107T090000
END:STANDARD
END:VTIMEZONE
BEGIN:VEVENT
DTSTART;TZID=America/Los_Angeles:20260419T140000
DTEND;TZID=America/Los_Angeles:20260419T160000
DTSTAMP:20260424T053426
CREATED:20260202T191906Z
LAST-MODIFIED:20260202T191906Z
UID:10004968-1776607200-1776614400@elynevada.net
SUMMARY:GET LIT Book Club (2026)
DESCRIPTION:GET LIT Book Club (2026)\nBristlecone General Store Book Club
URL:https://elynevada.net/event/get-lit-book-club-2026/2026-04-19/
LOCATION:Bristlecone General Store\, 115 S. Baker Ave.\, Baker\, NV\, 89311\, United States
CATEGORIES:Arts & Culture,Community
ATTACH;FMTTYPE=image/jpeg:https://elynevada.net/wp-content/uploads/2026/02/GET-LIT-Book-Club-2026.jpg
ORGANIZER;CN="Bristlecone General Store":MAILTO:stay@stargazernevada.com
END:VEVENT
BEGIN:VEVENT
DTSTART;TZID=America/Los_Angeles:20260401T200000
DTEND;TZID=America/Los_Angeles:20260401T213000
DTSTAMP:20260424T053426
CREATED:20250107T204841Z
LAST-MODIFIED:20260113T231504Z
UID:10004099-1775073600-1775079000@elynevada.net
SUMMARY:GET MOONED Full Moon Hike in Baker
DESCRIPTION:GET MOONED Full Moon Hike in Baker\nA part of Baker’s “GET” series\, there are Full Moon Hikes every month. Meet at the Bristlecone General Store and you’ll venture on a 2-3 mile hike in the area with the light of the moon as your guide. \n“Full moons offer us a chance to reflect\, refresh and renew our senses.”
URL:https://elynevada.net/event/get-mooned-full-moon-hike-in-baker/2026-04-01/
LOCATION:Bristlecone General Store\, 115 S. Baker Ave.\, Baker\, NV\, 89311\, United States
CATEGORIES:Community,Sports
ATTACH;FMTTYPE=image/png:https://elynevada.net/wp-content/uploads/2025/01/GET-MOONED-2026.png
ORGANIZER;CN="Bristlecone General Store":MAILTO:stay@stargazernevada.com
END:VEVENT
BEGIN:VEVENT
DTSTART;TZID=America/Los_Angeles:20260320T160000
DTEND;TZID=America/Los_Angeles:20260320T190000
DTSTAMP:20260424T053426
CREATED:20260107T194115Z
LAST-MODIFIED:20260107T194115Z
UID:10004090-1774022400-1774033200@elynevada.net
SUMMARY:PIZZA NIGHT at the BGS
DESCRIPTION:PIZZA NIGHT at the BGS\nPIZZA NIGHT at the Bristlecone General StoreFri\, Jan 16th: 4-7pm.\nPizza Night returns.! Eat in\, Take Out. Gf & vegan options available.\nMark your calendars…\nThere will be more pizza on Feb 27\, Mar 20\, & Apr 17
URL:https://elynevada.net/event/pizza-night-at-the-bgs/2026-03-20/
LOCATION:Bristlecone General Store\, 115 S. Baker Ave.\, Baker\, NV\, 89311\, United States
CATEGORIES:Community,Party
ATTACH;FMTTYPE=image/jpeg:https://elynevada.net/wp-content/uploads/2026/01/Pizza-Night-in-Baker-January-2026.jpg
ORGANIZER;CN="Bristlecone General Store":MAILTO:stay@stargazernevada.com
END:VEVENT
BEGIN:VEVENT
DTSTART;TZID=America/Los_Angeles:20260315T140000
DTEND;TZID=America/Los_Angeles:20260315T160000
DTSTAMP:20260424T053426
CREATED:20260202T191906Z
LAST-MODIFIED:20260202T191906Z
UID:10004967-1773583200-1773590400@elynevada.net
SUMMARY:GET LIT Book Club (2026)
DESCRIPTION:GET LIT Book Club (2026)\nBristlecone General Store Book Club
URL:https://elynevada.net/event/get-lit-book-club-2026/2026-03-15/
LOCATION:Bristlecone General Store\, 115 S. Baker Ave.\, Baker\, NV\, 89311\, United States
CATEGORIES:Arts & Culture,Community
ATTACH;FMTTYPE=image/jpeg:https://elynevada.net/wp-content/uploads/2026/02/GET-LIT-Book-Club-2026.jpg
ORGANIZER;CN="Bristlecone General Store":MAILTO:stay@stargazernevada.com
END:VEVENT
BEGIN:VEVENT
DTSTART;TZID=America/Los_Angeles:20260303T183000
DTEND;TZID=America/Los_Angeles:20260303T200000
DTSTAMP:20260424T053426
CREATED:20250107T204841Z
LAST-MODIFIED:20260113T231504Z
UID:10004098-1772562600-1772568000@elynevada.net
SUMMARY:GET MOONED Full Moon Hike in Baker
DESCRIPTION:GET MOONED Full Moon Hike in Baker\nA part of Baker’s “GET” series\, there are Full Moon Hikes every month. Meet at the Bristlecone General Store and you’ll venture on a 2-3 mile hike in the area with the light of the moon as your guide. \n“Full moons offer us a chance to reflect\, refresh and renew our senses.”
URL:https://elynevada.net/event/get-mooned-full-moon-hike-in-baker/2026-03-03/
LOCATION:Bristlecone General Store\, 115 S. Baker Ave.\, Baker\, NV\, 89311\, United States
CATEGORIES:Community,Sports
ATTACH;FMTTYPE=image/png:https://elynevada.net/wp-content/uploads/2025/01/GET-MOONED-2026.png
ORGANIZER;CN="Bristlecone General Store":MAILTO:stay@stargazernevada.com
END:VEVENT
BEGIN:VEVENT
DTSTART;TZID=America/Los_Angeles:20260227T160000
DTEND;TZID=America/Los_Angeles:20260227T190000
DTSTAMP:20260424T053426
CREATED:20260107T194115Z
LAST-MODIFIED:20260107T194115Z
UID:10004089-1772208000-1772218800@elynevada.net
SUMMARY:PIZZA NIGHT at the BGS
DESCRIPTION:PIZZA NIGHT at the BGS\nPIZZA NIGHT at the Bristlecone General StoreFri\, Jan 16th: 4-7pm.\nPizza Night returns.! Eat in\, Take Out. Gf & vegan options available.\nMark your calendars…\nThere will be more pizza on Feb 27\, Mar 20\, & Apr 17
URL:https://elynevada.net/event/pizza-night-at-the-bgs/2026-02-27/
LOCATION:Bristlecone General Store\, 115 S. Baker Ave.\, Baker\, NV\, 89311\, United States
CATEGORIES:Community,Party
ATTACH;FMTTYPE=image/jpeg:https://elynevada.net/wp-content/uploads/2026/01/Pizza-Night-in-Baker-January-2026.jpg
ORGANIZER;CN="Bristlecone General Store":MAILTO:stay@stargazernevada.com
END:VEVENT
BEGIN:VEVENT
DTSTART;TZID=America/Los_Angeles:20260215T140000
DTEND;TZID=America/Los_Angeles:20260215T160000
DTSTAMP:20260424T053426
CREATED:20260202T191906Z
LAST-MODIFIED:20260202T191906Z
UID:10004966-1771164000-1771171200@elynevada.net
SUMMARY:GET LIT Book Club (2026)
DESCRIPTION:GET LIT Book Club (2026)\nBristlecone General Store Book Club
URL:https://elynevada.net/event/get-lit-book-club-2026/2026-02-15/
LOCATION:Bristlecone General Store\, 115 S. Baker Ave.\, Baker\, NV\, 89311\, United States
CATEGORIES:Arts & Culture,Community
ATTACH;FMTTYPE=image/jpeg:https://elynevada.net/wp-content/uploads/2026/02/GET-LIT-Book-Club-2026.jpg
ORGANIZER;CN="Bristlecone General Store":MAILTO:stay@stargazernevada.com
END:VEVENT
BEGIN:VEVENT
DTSTART;TZID=America/Los_Angeles:20260208T150000
DTEND;TZID=America/Los_Angeles:20260208T180000
DTSTAMP:20260424T053426
CREATED:20260202T192353Z
LAST-MODIFIED:20260202T192354Z
UID:10004975-1770562800-1770573600@elynevada.net
SUMMARY:GET ROWDY Superbowl Party
DESCRIPTION:GET ROWDY Superbowl Party\nSun\, Feb. 8th: 3pm.It’s time to GET ROWDY! Cheer on your team at our annual Super Bowl Party & Potluck. Bring a dish or snack to share. Food and beverages are also available for purchase at the store.
URL:https://elynevada.net/event/get-rowdy-superbowl-party/
LOCATION:Bristlecone General Store\, 115 S. Baker Ave.\, Baker\, NV\, 89311\, United States
CATEGORIES:Community,Party,Sports
ATTACH;FMTTYPE=image/jpeg:https://elynevada.net/wp-content/uploads/2026/02/GET-ROWDY-Super-Bowl-Party.jpg
ORGANIZER;CN="Bristlecone General Store":MAILTO:stay@stargazernevada.com
END:VEVENT
BEGIN:VEVENT
DTSTART;TZID=America/Los_Angeles:20260201T180000
DTEND;TZID=America/Los_Angeles:20260201T193000
DTSTAMP:20260424T053426
CREATED:20250107T204841Z
LAST-MODIFIED:20260113T231504Z
UID:10004097-1769968800-1769974200@elynevada.net
SUMMARY:GET MOONED Full Moon Hike in Baker
DESCRIPTION:GET MOONED Full Moon Hike in Baker\nA part of Baker’s “GET” series\, there are Full Moon Hikes every month. Meet at the Bristlecone General Store and you’ll venture on a 2-3 mile hike in the area with the light of the moon as your guide. \n“Full moons offer us a chance to reflect\, refresh and renew our senses.”
URL:https://elynevada.net/event/get-mooned-full-moon-hike-in-baker/2026-02-01/
LOCATION:Bristlecone General Store\, 115 S. Baker Ave.\, Baker\, NV\, 89311\, United States
CATEGORIES:Community,Sports
ATTACH;FMTTYPE=image/png:https://elynevada.net/wp-content/uploads/2025/01/GET-MOONED-2026.png
ORGANIZER;CN="Bristlecone General Store":MAILTO:stay@stargazernevada.com
END:VEVENT
BEGIN:VEVENT
DTSTART;TZID=America/Los_Angeles:20260125T120000
DTEND;TZID=America/Los_Angeles:20260125T153000
DTSTAMP:20260424T053426
CREATED:20260107T195112Z
LAST-MODIFIED:20260107T195112Z
UID:10004092-1769342400-1769355000@elynevada.net
SUMMARY:GET ROWDY (2026)
DESCRIPTION:GET ROWDY (2026)\nWatch the NFL Conference Championships on the big screen at the Bristlecone General Store. Kick-off is at noon.
URL:https://elynevada.net/event/get-rowdy-2026/
LOCATION:Bristlecone General Store\, 115 S. Baker Ave.\, Baker\, NV\, 89311\, United States
CATEGORIES:Community,Party
ATTACH;FMTTYPE=image/jpeg:https://elynevada.net/wp-content/uploads/2026/01/GET-ROWDY-2026.jpg
ORGANIZER;CN="Bristlecone General Store":MAILTO:stay@stargazernevada.com
END:VEVENT
BEGIN:VEVENT
DTSTART;TZID=America/Los_Angeles:20260118T140000
DTEND;TZID=America/Los_Angeles:20260118T150000
DTSTAMP:20260424T053426
CREATED:20260107T191942Z
LAST-MODIFIED:20260107T191943Z
UID:10004086-1768744800-1768748400@elynevada.net
SUMMARY:GET LIT (Jan. 2026)
DESCRIPTION:GET LIT (Jan. 2026)\nBristlecone General Store Book Club
URL:https://elynevada.net/event/get-lit-jan-2026/
LOCATION:Bristlecone General Store\, 115 S. Baker Ave.\, Baker\, NV\, 89311\, United States
CATEGORIES:Arts & Culture,Community
ATTACH;FMTTYPE=image/jpeg:https://elynevada.net/wp-content/uploads/2026/01/GET-LIT-Jan.-2026.jpg
ORGANIZER;CN="Bristlecone General Store":MAILTO:stay@stargazernevada.com
END:VEVENT
BEGIN:VEVENT
DTSTART;TZID=America/Los_Angeles:20260116T160000
DTEND;TZID=America/Los_Angeles:20260116T190000
DTSTAMP:20260424T053426
CREATED:20260107T194115Z
LAST-MODIFIED:20260107T194115Z
UID:10004088-1768579200-1768590000@elynevada.net
SUMMARY:PIZZA NIGHT at the BGS
DESCRIPTION:PIZZA NIGHT at the BGS\nPIZZA NIGHT at the Bristlecone General StoreFri\, Jan 16th: 4-7pm.\nPizza Night returns.! Eat in\, Take Out. Gf & vegan options available.\nMark your calendars…\nThere will be more pizza on Feb 27\, Mar 20\, & Apr 17
URL:https://elynevada.net/event/pizza-night-at-the-bgs/2026-01-16/
LOCATION:Bristlecone General Store\, 115 S. Baker Ave.\, Baker\, NV\, 89311\, United States
CATEGORIES:Community,Party
ATTACH;FMTTYPE=image/jpeg:https://elynevada.net/wp-content/uploads/2026/01/Pizza-Night-in-Baker-January-2026.jpg
ORGANIZER;CN="Bristlecone General Store":MAILTO:stay@stargazernevada.com
END:VEVENT
BEGIN:VEVENT
DTSTART;TZID=America/Los_Angeles:20260111T130000
DTEND;TZID=America/Los_Angeles:20260111T170000
DTSTAMP:20260424T053426
CREATED:20260107T191508Z
LAST-MODIFIED:20260107T191509Z
UID:10004085-1768136400-1768150800@elynevada.net
SUMMARY:National Puzzle Day Celebration
DESCRIPTION:National Puzzle Day Celebration\nVisit the Bristlecone General Store for their National Puzzle Day Celebration! \nThe store has partnered with Nevada Humanities & the National Puzzle Day movement to add joy and connection to life. \nPuzzles and games for all ages will be set up around the store. Come in anytime and join the cooperative fun! \nNational Puzzle Day is actually on January 29th\, but has turned into National Puzzle Month… so the General Store has made sure to celebrate!
URL:https://elynevada.net/event/national-puzzle-day-celebration/
LOCATION:Bristlecone General Store\, 115 S. Baker Ave.\, Baker\, NV\, 89311\, United States
CATEGORIES:Community,Party
ATTACH;FMTTYPE=image/jpeg:https://elynevada.net/wp-content/uploads/2026/01/National-Puzzle-Day-Celebration-2026.jpg
ORGANIZER;CN="Bristlecone General Store":MAILTO:stay@stargazernevada.com
END:VEVENT
BEGIN:VEVENT
DTSTART;TZID=America/Los_Angeles:20260103T173000
DTEND;TZID=America/Los_Angeles:20260103T190000
DTSTAMP:20260424T053426
CREATED:20250107T204841Z
LAST-MODIFIED:20260113T231504Z
UID:10004096-1767461400-1767466800@elynevada.net
SUMMARY:GET MOONED Full Moon Hike in Baker
DESCRIPTION:GET MOONED Full Moon Hike in Baker\nA part of Baker’s “GET” series\, there are Full Moon Hikes every month. Meet at the Bristlecone General Store and you’ll venture on a 2-3 mile hike in the area with the light of the moon as your guide. \n“Full moons offer us a chance to reflect\, refresh and renew our senses.”
URL:https://elynevada.net/event/get-mooned-full-moon-hike-in-baker/2026-01-03/
LOCATION:Bristlecone General Store\, 115 S. Baker Ave.\, Baker\, NV\, 89311\, United States
CATEGORIES:Community,Sports
ATTACH;FMTTYPE=image/png:https://elynevada.net/wp-content/uploads/2025/01/GET-MOONED-2026.png
ORGANIZER;CN="Bristlecone General Store":MAILTO:stay@stargazernevada.com
END:VEVENT
BEGIN:VEVENT
DTSTART;TZID=America/Los_Angeles:20251019T140000
DTEND;TZID=America/Los_Angeles:20251019T153000
DTSTAMP:20260424T053426
CREATED:20250107T205433Z
LAST-MODIFIED:20250408T182844Z
UID:10003981-1760882400-1760887800@elynevada.net
SUMMARY:GET LIT Book Club
DESCRIPTION:GET LIT Book Club\nBristlecone General Store Book Club
URL:https://elynevada.net/event/get-lit-book-club/2025-10-19/
LOCATION:Bristlecone General Store\, 115 S. Baker Ave.\, Baker\, NV\, 89311\, United States
CATEGORIES:Arts & Culture
ATTACH;FMTTYPE=image/jpeg:https://elynevada.net/wp-content/uploads/2025/01/Get-Lit-2025-First-Half.jpg
ORGANIZER;CN="Bristlecone General Store":MAILTO:stay@stargazernevada.com
END:VEVENT
BEGIN:VEVENT
DTSTART;TZID=America/Los_Angeles:20250921T140000
DTEND;TZID=America/Los_Angeles:20250921T153000
DTSTAMP:20260424T053426
CREATED:20250107T205433Z
LAST-MODIFIED:20250408T182844Z
UID:10003980-1758463200-1758468600@elynevada.net
SUMMARY:GET LIT Book Club
DESCRIPTION:GET LIT Book Club\nBristlecone General Store Book Club
URL:https://elynevada.net/event/get-lit-book-club/2025-09-21/
LOCATION:Bristlecone General Store\, 115 S. Baker Ave.\, Baker\, NV\, 89311\, United States
CATEGORIES:Arts & Culture
ATTACH;FMTTYPE=image/jpeg:https://elynevada.net/wp-content/uploads/2025/01/Get-Lit-2025-First-Half.jpg
ORGANIZER;CN="Bristlecone General Store":MAILTO:stay@stargazernevada.com
END:VEVENT
BEGIN:VEVENT
DTSTART;TZID=America/Los_Angeles:20250817T140000
DTEND;TZID=America/Los_Angeles:20250817T153000
DTSTAMP:20260424T053426
CREATED:20250107T205433Z
LAST-MODIFIED:20250408T182844Z
UID:10003979-1755439200-1755444600@elynevada.net
SUMMARY:GET LIT Book Club
DESCRIPTION:GET LIT Book Club\nBristlecone General Store Book Club
URL:https://elynevada.net/event/get-lit-book-club/2025-08-17/
LOCATION:Bristlecone General Store\, 115 S. Baker Ave.\, Baker\, NV\, 89311\, United States
CATEGORIES:Arts & Culture
ATTACH;FMTTYPE=image/jpeg:https://elynevada.net/wp-content/uploads/2025/01/Get-Lit-2025-First-Half.jpg
ORGANIZER;CN="Bristlecone General Store":MAILTO:stay@stargazernevada.com
END:VEVENT
BEGIN:VEVENT
DTSTART;TZID=America/Los_Angeles:20250720T140000
DTEND;TZID=America/Los_Angeles:20250720T153000
DTSTAMP:20260424T053426
CREATED:20250107T205433Z
LAST-MODIFIED:20250408T182844Z
UID:10003978-1753020000-1753025400@elynevada.net
SUMMARY:GET LIT Book Club
DESCRIPTION:GET LIT Book Club\nBristlecone General Store Book Club
URL:https://elynevada.net/event/get-lit-book-club/2025-07-20/
LOCATION:Bristlecone General Store\, 115 S. Baker Ave.\, Baker\, NV\, 89311\, United States
CATEGORIES:Arts & Culture
ATTACH;FMTTYPE=image/jpeg:https://elynevada.net/wp-content/uploads/2025/01/Get-Lit-2025-First-Half.jpg
ORGANIZER;CN="Bristlecone General Store":MAILTO:stay@stargazernevada.com
END:VEVENT
BEGIN:VEVENT
DTSTART;TZID=America/Los_Angeles:20250615T140000
DTEND;TZID=America/Los_Angeles:20250615T153000
DTSTAMP:20260424T053426
CREATED:20250107T205433Z
LAST-MODIFIED:20250408T182844Z
UID:10003977-1749996000-1750001400@elynevada.net
SUMMARY:GET LIT Book Club
DESCRIPTION:GET LIT Book Club\nBristlecone General Store Book Club
URL:https://elynevada.net/event/get-lit-book-club/2025-06-15/
LOCATION:Bristlecone General Store\, 115 S. Baker Ave.\, Baker\, NV\, 89311\, United States
CATEGORIES:Arts & Culture
ATTACH;FMTTYPE=image/jpeg:https://elynevada.net/wp-content/uploads/2025/01/Get-Lit-2025-First-Half.jpg
ORGANIZER;CN="Bristlecone General Store":MAILTO:stay@stargazernevada.com
END:VEVENT
BEGIN:VEVENT
DTSTART;TZID=America/Los_Angeles:20250518T140000
DTEND;TZID=America/Los_Angeles:20250518T153000
DTSTAMP:20260424T053426
CREATED:20250107T205433Z
LAST-MODIFIED:20250408T182844Z
UID:10003976-1747576800-1747582200@elynevada.net
SUMMARY:GET LIT Book Club
DESCRIPTION:GET LIT Book Club\nBristlecone General Store Book Club
URL:https://elynevada.net/event/get-lit-book-club/2025-05-18/
LOCATION:Bristlecone General Store\, 115 S. Baker Ave.\, Baker\, NV\, 89311\, United States
CATEGORIES:Arts & Culture
ATTACH;FMTTYPE=image/jpeg:https://elynevada.net/wp-content/uploads/2025/01/Get-Lit-2025-First-Half.jpg
ORGANIZER;CN="Bristlecone General Store":MAILTO:stay@stargazernevada.com
END:VEVENT
BEGIN:VEVENT
DTSTART;TZID=America/Los_Angeles:20250420T140000
DTEND;TZID=America/Los_Angeles:20250420T153000
DTSTAMP:20260424T053426
CREATED:20250107T205433Z
LAST-MODIFIED:20250408T182844Z
UID:10003119-1745157600-1745163000@elynevada.net
SUMMARY:GET LIT Book Club
DESCRIPTION:GET LIT Book Club\nBristlecone General Store Book Club
URL:https://elynevada.net/event/get-lit-book-club/2025-04-20/
LOCATION:Bristlecone General Store\, 115 S. Baker Ave.\, Baker\, NV\, 89311\, United States
CATEGORIES:Arts & Culture
ATTACH;FMTTYPE=image/jpeg:https://elynevada.net/wp-content/uploads/2025/01/Get-Lit-2025-First-Half.jpg
ORGANIZER;CN="Bristlecone General Store":MAILTO:stay@stargazernevada.com
END:VEVENT
BEGIN:VEVENT
DTSTART;TZID=America/Los_Angeles:20250316T140000
DTEND;TZID=America/Los_Angeles:20250316T153000
DTSTAMP:20260424T053426
CREATED:20250107T205433Z
LAST-MODIFIED:20250408T182844Z
UID:10003118-1742133600-1742139000@elynevada.net
SUMMARY:GET LIT Book Club
DESCRIPTION:GET LIT Book Club\nBristlecone General Store Book Club
URL:https://elynevada.net/event/get-lit-book-club/2025-03-16/
LOCATION:Bristlecone General Store\, 115 S. Baker Ave.\, Baker\, NV\, 89311\, United States
CATEGORIES:Arts & Culture
ATTACH;FMTTYPE=image/jpeg:https://elynevada.net/wp-content/uploads/2025/01/Get-Lit-2025-First-Half.jpg
ORGANIZER;CN="Bristlecone General Store":MAILTO:stay@stargazernevada.com
END:VEVENT
BEGIN:VEVENT
DTSTART;TZID=America/Los_Angeles:20250222T173000
DTEND;TZID=America/Los_Angeles:20250222T200000
DTSTAMP:20260424T053426
CREATED:20250210T232825Z
LAST-MODIFIED:20250210T232826Z
UID:10003430-1740245400-1740254400@elynevada.net
SUMMARY:MOVIE NIGHT: Wicked -- Sing-Along Version
DESCRIPTION:MOVIE NIGHT: Wicked — Sing-Along Version\nMovie night at the Bristlecone General Store! \nSAT. FEB 22nd. 5:30pm. ‘WICKED’ MOVIE NIGHT Sing-Along Version \nWear pink or green! Movie: Free. UNLIMITED Popcorn $5. \nThis movie is thrillifying and scandalacious! Show your braverism and sing-along or just rejoicify and watch the hoi polloi on the big screen. Everyone deserves a chance to fly!
URL:https://elynevada.net/event/movie-night-wicked-sing-along-version/
LOCATION:Bristlecone General Store\, 115 S. Baker Ave.\, Baker\, NV\, 89311\, United States
CATEGORIES:Arts & Culture,Community
ATTACH;FMTTYPE=image/jpeg:https://elynevada.net/wp-content/uploads/2025/02/Wicked-Movie-Night-in-Baker.jpg
ORGANIZER;CN="Bristlecone General Store":MAILTO:stay@stargazernevada.com
END:VEVENT
BEGIN:VEVENT
DTSTART;TZID=America/Los_Angeles:20250216T140000
DTEND;TZID=America/Los_Angeles:20250216T153000
DTSTAMP:20260424T053426
CREATED:20250107T205433Z
LAST-MODIFIED:20250408T182844Z
UID:10003117-1739714400-1739719800@elynevada.net
SUMMARY:GET LIT Book Club
DESCRIPTION:GET LIT Book Club\nBristlecone General Store Book Club
URL:https://elynevada.net/event/get-lit-book-club/2025-02-16/
LOCATION:Bristlecone General Store\, 115 S. Baker Ave.\, Baker\, NV\, 89311\, United States
CATEGORIES:Arts & Culture
ATTACH;FMTTYPE=image/jpeg:https://elynevada.net/wp-content/uploads/2025/01/Get-Lit-2025-First-Half.jpg
ORGANIZER;CN="Bristlecone General Store":MAILTO:stay@stargazernevada.com
END:VEVENT
BEGIN:VEVENT
DTSTART;TZID=America/Los_Angeles:20250131T170000
DTEND;TZID=America/Los_Angeles:20250131T210000
DTSTAMP:20260424T053426
CREATED:20250107T210247Z
LAST-MODIFIED:20250107T210248Z
UID:10003122-1738342800-1738357200@elynevada.net
SUMMARY:National Big Wig Day Happy Hour
DESCRIPTION:National Big Wig Day Happy Hour\nWear your finest wig and come celebrate Ted’s 80th Birthday while putting the FUN Fundraising. This event raises awareness and money for cancer research\, and for those who need wigs after an illness.
URL:https://elynevada.net/event/national-big-wig-day-happy-hour/
LOCATION:Bristlecone General Store\, 115 S. Baker Ave.\, Baker\, NV\, 89311\, United States
CATEGORIES:Arts & Culture,Community,Fundraiser,Party
ATTACH;FMTTYPE=image/jpeg:https://elynevada.net/wp-content/uploads/2025/01/Big-Wig-Thing-Baker.jpg
ORGANIZER;CN="Bristlecone General Store":MAILTO:stay@stargazernevada.com
END:VEVENT
BEGIN:VEVENT
DTSTART;TZID=America/Los_Angeles:20250126T120000
DTEND;TZID=America/Los_Angeles:20250126T170000
DTSTAMP:20260424T053426
CREATED:20250107T205751Z
LAST-MODIFIED:20250107T205752Z
UID:10003121-1737892800-1737910800@elynevada.net
SUMMARY:GET ROWDY: NFL Conference Championship Games
DESCRIPTION:GET ROWDY: NFL Conference Championship Games\nWatch the NFL Conference Championships on the Big Screen in the Bristlecone General Store. Kick-off is at noon.
URL:https://elynevada.net/event/get-rowdy-nfl-conference-championship-games/
LOCATION:Bristlecone General Store\, 115 S. Baker Ave.\, Baker\, NV\, 89311\, United States
CATEGORIES:Community,Sports
ATTACH;FMTTYPE=image/jpeg:https://elynevada.net/wp-content/uploads/2025/01/BGS-Get-Rowdy-Jan-2025.jpg
ORGANIZER;CN="Bristlecone General Store":MAILTO:stay@stargazernevada.com
END:VEVENT
BEGIN:VEVENT
DTSTART;TZID=America/Los_Angeles:20250119T140000
DTEND;TZID=America/Los_Angeles:20250119T153000
DTSTAMP:20260424T053426
CREATED:20250107T205433Z
LAST-MODIFIED:20250408T182844Z
UID:10003116-1737295200-1737300600@elynevada.net
SUMMARY:GET LIT Book Club
DESCRIPTION:GET LIT Book Club\nBristlecone General Store Book Club
URL:https://elynevada.net/event/get-lit-book-club/2025-01-19/
LOCATION:Bristlecone General Store\, 115 S. Baker Ave.\, Baker\, NV\, 89311\, United States
CATEGORIES:Arts & Culture
ATTACH;FMTTYPE=image/jpeg:https://elynevada.net/wp-content/uploads/2025/01/Get-Lit-2025-First-Half.jpg
ORGANIZER;CN="Bristlecone General Store":MAILTO:stay@stargazernevada.com
END:VEVENT
BEGIN:VEVENT
DTSTART;TZID=America/Los_Angeles:20250116T173000
DTEND;TZID=America/Los_Angeles:20250116T190000
DTSTAMP:20260424T053426
CREATED:20250107T203453Z
LAST-MODIFIED:20250107T203454Z
UID:10003109-1737048600-1737054000@elynevada.net
SUMMARY:Author Talk with Alexandra Fuller
DESCRIPTION:Author Talk with Alexandra Fuller\nAlexandra has been in Baker since November writing her next novel. Her latest book\, Fi\, is a memoir to her son who died unexpectedly at age 21. It has been acclaimed as the Top 100 Books of 2024. She will lead a reading and discussion about love\, loss\, grief and hope.
URL:https://elynevada.net/event/author-talk-with-alexandra-fuller/
LOCATION:Bristlecone General Store\, 115 S. Baker Ave.\, Baker\, NV\, 89311\, United States
ATTACH;FMTTYPE=image/jpeg:https://elynevada.net/wp-content/uploads/2025/01/Alexandra-Fuller-Author-Talk-Event.jpg
ORGANIZER;CN="Bristlecone General Store":MAILTO:stay@stargazernevada.com
END:VEVENT
BEGIN:VEVENT
DTSTART;TZID=America/Los_Angeles:20241124T210000
DTEND;TZID=America/Los_Angeles:20241124T230000
DTSTAMP:20260424T053426
CREATED:20240305T031236Z
LAST-MODIFIED:20240321T181252Z
UID:10001867-1732482000-1732489200@elynevada.net
SUMMARY:GET KNIT
DESCRIPTION:GET KNIT in Baker\nWork on a project. Learn how to knit. Exchange ideas & yarn. Chat. Drink Tea.
URL:https://elynevada.net/event/get-knit-2/2024-11-24/
LOCATION:Bristlecone General Store\, 115 S. Baker Ave.\, Baker\, NV\, 89311\, United States
CATEGORIES:Arts & Culture,Community
ATTACH;FMTTYPE=image/jpeg:https://elynevada.net/wp-content/uploads/2024/03/Get-Knit-2024.jpg
ORGANIZER;CN="Bristlecone General Store":MAILTO:stay@stargazernevada.com
END:VEVENT
BEGIN:VEVENT
DTSTART;TZID=America/Los_Angeles:20241027T210000
DTEND;TZID=America/Los_Angeles:20241027T230000
DTSTAMP:20260424T053426
CREATED:20240305T031236Z
LAST-MODIFIED:20240321T181252Z
UID:10001866-1730062800-1730070000@elynevada.net
SUMMARY:GET KNIT
DESCRIPTION:GET KNIT in Baker\nWork on a project. Learn how to knit. Exchange ideas & yarn. Chat. Drink Tea.
URL:https://elynevada.net/event/get-knit-2/2024-10-27/
LOCATION:Bristlecone General Store\, 115 S. Baker Ave.\, Baker\, NV\, 89311\, United States
CATEGORIES:Arts & Culture,Community
ATTACH;FMTTYPE=image/jpeg:https://elynevada.net/wp-content/uploads/2024/03/Get-Knit-2024.jpg
ORGANIZER;CN="Bristlecone General Store":MAILTO:stay@stargazernevada.com
END:VEVENT
END:VCALENDAR