BEGIN:VCALENDAR
VERSION:2.0
PRODID:-//Welcome To Ely - ECPv6.15.20//NONSGML v1.0//EN
CALSCALE:GREGORIAN
METHOD:PUBLISH
X-WR-CALNAME:Welcome To Ely
X-ORIGINAL-URL:https://elynevada.net
X-WR-CALDESC:Events for Welcome To Ely
REFRESH-INTERVAL;VALUE=DURATION:PT1H
X-Robots-Tag:noindex
X-PUBLISHED-TTL:PT1H
BEGIN:VTIMEZONE
TZID:America/Los_Angeles
BEGIN:DAYLIGHT
TZOFFSETFROM:-0800
TZOFFSETTO:-0700
TZNAME:PDT
DTSTART:20230312T100000
END:DAYLIGHT
BEGIN:STANDARD
TZOFFSETFROM:-0700
TZOFFSETTO:-0800
TZNAME:PST
DTSTART:20231105T090000
END:STANDARD
BEGIN:DAYLIGHT
TZOFFSETFROM:-0800
TZOFFSETTO:-0700
TZNAME:PDT
DTSTART:20240310T100000
END:DAYLIGHT
BEGIN:STANDARD
TZOFFSETFROM:-0700
TZOFFSETTO:-0800
TZNAME:PST
DTSTART:20241103T090000
END:STANDARD
BEGIN:DAYLIGHT
TZOFFSETFROM:-0800
TZOFFSETTO:-0700
TZNAME:PDT
DTSTART:20250309T100000
END:DAYLIGHT
BEGIN:STANDARD
TZOFFSETFROM:-0700
TZOFFSETTO:-0800
TZNAME:PST
DTSTART:20251102T090000
END:STANDARD
BEGIN:DAYLIGHT
TZOFFSETFROM:-0800
TZOFFSETTO:-0700
TZNAME:PDT
DTSTART:20260308T100000
END:DAYLIGHT
BEGIN:STANDARD
TZOFFSETFROM:-0700
TZOFFSETTO:-0800
TZNAME:PST
DTSTART:20261101T090000
END:STANDARD
END:VTIMEZONE
BEGIN:VTIMEZONE
TZID:UTC
BEGIN:STANDARD
TZOFFSETFROM:+0000
TZOFFSETTO:+0000
TZNAME:UTC
DTSTART:20220101T000000
END:STANDARD
END:VTIMEZONE
BEGIN:VEVENT
DTSTART;TZID=America/Los_Angeles:20250420T140000
DTEND;TZID=America/Los_Angeles:20250420T153000
DTSTAMP:20260424T070833
CREATED:20250107T205433Z
LAST-MODIFIED:20250408T182844Z
UID:10003119-1745157600-1745163000@elynevada.net
SUMMARY:GET LIT Book Club
DESCRIPTION:GET LIT Book Club\nBristlecone General Store Book Club
URL:https://elynevada.net/event/get-lit-book-club/2025-04-20/
LOCATION:Bristlecone General Store\, 115 S. Baker Ave.\, Baker\, NV\, 89311\, United States
CATEGORIES:Arts & Culture
ATTACH;FMTTYPE=image/jpeg:https://elynevada.net/wp-content/uploads/2025/01/Get-Lit-2025-First-Half.jpg
ORGANIZER;CN="Bristlecone General Store":MAILTO:stay@stargazernevada.com
END:VEVENT
BEGIN:VEVENT
DTSTART;TZID=America/Los_Angeles:20250316T140000
DTEND;TZID=America/Los_Angeles:20250316T153000
DTSTAMP:20260424T070833
CREATED:20250107T205433Z
LAST-MODIFIED:20250408T182844Z
UID:10003118-1742133600-1742139000@elynevada.net
SUMMARY:GET LIT Book Club
DESCRIPTION:GET LIT Book Club\nBristlecone General Store Book Club
URL:https://elynevada.net/event/get-lit-book-club/2025-03-16/
LOCATION:Bristlecone General Store\, 115 S. Baker Ave.\, Baker\, NV\, 89311\, United States
CATEGORIES:Arts & Culture
ATTACH;FMTTYPE=image/jpeg:https://elynevada.net/wp-content/uploads/2025/01/Get-Lit-2025-First-Half.jpg
ORGANIZER;CN="Bristlecone General Store":MAILTO:stay@stargazernevada.com
END:VEVENT
BEGIN:VEVENT
DTSTART;TZID=America/Los_Angeles:20250222T173000
DTEND;TZID=America/Los_Angeles:20250222T200000
DTSTAMP:20260424T070833
CREATED:20250210T232825Z
LAST-MODIFIED:20250210T232826Z
UID:10003430-1740245400-1740254400@elynevada.net
SUMMARY:MOVIE NIGHT: Wicked -- Sing-Along Version
DESCRIPTION:MOVIE NIGHT: Wicked — Sing-Along Version\nMovie night at the Bristlecone General Store! \nSAT. FEB 22nd. 5:30pm. ‘WICKED’ MOVIE NIGHT Sing-Along Version \nWear pink or green! Movie: Free. UNLIMITED Popcorn $5. \nThis movie is thrillifying and scandalacious! Show your braverism and sing-along or just rejoicify and watch the hoi polloi on the big screen. Everyone deserves a chance to fly!
URL:https://elynevada.net/event/movie-night-wicked-sing-along-version/
LOCATION:Bristlecone General Store\, 115 S. Baker Ave.\, Baker\, NV\, 89311\, United States
CATEGORIES:Arts & Culture,Community
ATTACH;FMTTYPE=image/jpeg:https://elynevada.net/wp-content/uploads/2025/02/Wicked-Movie-Night-in-Baker.jpg
ORGANIZER;CN="Bristlecone General Store":MAILTO:stay@stargazernevada.com
END:VEVENT
BEGIN:VEVENT
DTSTART;TZID=America/Los_Angeles:20250216T140000
DTEND;TZID=America/Los_Angeles:20250216T153000
DTSTAMP:20260424T070833
CREATED:20250107T205433Z
LAST-MODIFIED:20250408T182844Z
UID:10003117-1739714400-1739719800@elynevada.net
SUMMARY:GET LIT Book Club
DESCRIPTION:GET LIT Book Club\nBristlecone General Store Book Club
URL:https://elynevada.net/event/get-lit-book-club/2025-02-16/
LOCATION:Bristlecone General Store\, 115 S. Baker Ave.\, Baker\, NV\, 89311\, United States
CATEGORIES:Arts & Culture
ATTACH;FMTTYPE=image/jpeg:https://elynevada.net/wp-content/uploads/2025/01/Get-Lit-2025-First-Half.jpg
ORGANIZER;CN="Bristlecone General Store":MAILTO:stay@stargazernevada.com
END:VEVENT
BEGIN:VEVENT
DTSTART;TZID=America/Los_Angeles:20250131T170000
DTEND;TZID=America/Los_Angeles:20250131T210000
DTSTAMP:20260424T070833
CREATED:20250107T210247Z
LAST-MODIFIED:20250107T210248Z
UID:10003122-1738342800-1738357200@elynevada.net
SUMMARY:National Big Wig Day Happy Hour
DESCRIPTION:National Big Wig Day Happy Hour\nWear your finest wig and come celebrate Ted’s 80th Birthday while putting the FUN Fundraising. This event raises awareness and money for cancer research\, and for those who need wigs after an illness.
URL:https://elynevada.net/event/national-big-wig-day-happy-hour/
LOCATION:Bristlecone General Store\, 115 S. Baker Ave.\, Baker\, NV\, 89311\, United States
CATEGORIES:Arts & Culture,Community,Fundraiser,Party
ATTACH;FMTTYPE=image/jpeg:https://elynevada.net/wp-content/uploads/2025/01/Big-Wig-Thing-Baker.jpg
ORGANIZER;CN="Bristlecone General Store":MAILTO:stay@stargazernevada.com
END:VEVENT
BEGIN:VEVENT
DTSTART;TZID=America/Los_Angeles:20250126T120000
DTEND;TZID=America/Los_Angeles:20250126T170000
DTSTAMP:20260424T070833
CREATED:20250107T205751Z
LAST-MODIFIED:20250107T205752Z
UID:10003121-1737892800-1737910800@elynevada.net
SUMMARY:GET ROWDY: NFL Conference Championship Games
DESCRIPTION:GET ROWDY: NFL Conference Championship Games\nWatch the NFL Conference Championships on the Big Screen in the Bristlecone General Store. Kick-off is at noon.
URL:https://elynevada.net/event/get-rowdy-nfl-conference-championship-games/
LOCATION:Bristlecone General Store\, 115 S. Baker Ave.\, Baker\, NV\, 89311\, United States
CATEGORIES:Community,Sports
ATTACH;FMTTYPE=image/jpeg:https://elynevada.net/wp-content/uploads/2025/01/BGS-Get-Rowdy-Jan-2025.jpg
ORGANIZER;CN="Bristlecone General Store":MAILTO:stay@stargazernevada.com
END:VEVENT
BEGIN:VEVENT
DTSTART;TZID=America/Los_Angeles:20250119T140000
DTEND;TZID=America/Los_Angeles:20250119T153000
DTSTAMP:20260424T070833
CREATED:20250107T205433Z
LAST-MODIFIED:20250408T182844Z
UID:10003116-1737295200-1737300600@elynevada.net
SUMMARY:GET LIT Book Club
DESCRIPTION:GET LIT Book Club\nBristlecone General Store Book Club
URL:https://elynevada.net/event/get-lit-book-club/2025-01-19/
LOCATION:Bristlecone General Store\, 115 S. Baker Ave.\, Baker\, NV\, 89311\, United States
CATEGORIES:Arts & Culture
ATTACH;FMTTYPE=image/jpeg:https://elynevada.net/wp-content/uploads/2025/01/Get-Lit-2025-First-Half.jpg
ORGANIZER;CN="Bristlecone General Store":MAILTO:stay@stargazernevada.com
END:VEVENT
BEGIN:VEVENT
DTSTART;TZID=America/Los_Angeles:20250116T173000
DTEND;TZID=America/Los_Angeles:20250116T190000
DTSTAMP:20260424T070833
CREATED:20250107T203453Z
LAST-MODIFIED:20250107T203454Z
UID:10003109-1737048600-1737054000@elynevada.net
SUMMARY:Author Talk with Alexandra Fuller
DESCRIPTION:Author Talk with Alexandra Fuller\nAlexandra has been in Baker since November writing her next novel. Her latest book\, Fi\, is a memoir to her son who died unexpectedly at age 21. It has been acclaimed as the Top 100 Books of 2024. She will lead a reading and discussion about love\, loss\, grief and hope.
URL:https://elynevada.net/event/author-talk-with-alexandra-fuller/
LOCATION:Bristlecone General Store\, 115 S. Baker Ave.\, Baker\, NV\, 89311\, United States
ATTACH;FMTTYPE=image/jpeg:https://elynevada.net/wp-content/uploads/2025/01/Alexandra-Fuller-Author-Talk-Event.jpg
ORGANIZER;CN="Bristlecone General Store":MAILTO:stay@stargazernevada.com
END:VEVENT
BEGIN:VEVENT
DTSTART;TZID=America/Los_Angeles:20241124T210000
DTEND;TZID=America/Los_Angeles:20241124T230000
DTSTAMP:20260424T070833
CREATED:20240305T031236Z
LAST-MODIFIED:20240321T181252Z
UID:10001867-1732482000-1732489200@elynevada.net
SUMMARY:GET KNIT
DESCRIPTION:GET KNIT in Baker\nWork on a project. Learn how to knit. Exchange ideas & yarn. Chat. Drink Tea.
URL:https://elynevada.net/event/get-knit-2/2024-11-24/
LOCATION:Bristlecone General Store\, 115 S. Baker Ave.\, Baker\, NV\, 89311\, United States
CATEGORIES:Arts & Culture,Community
ATTACH;FMTTYPE=image/jpeg:https://elynevada.net/wp-content/uploads/2024/03/Get-Knit-2024.jpg
ORGANIZER;CN="Bristlecone General Store":MAILTO:stay@stargazernevada.com
END:VEVENT
BEGIN:VEVENT
DTSTART;TZID=America/Los_Angeles:20241027T210000
DTEND;TZID=America/Los_Angeles:20241027T230000
DTSTAMP:20260424T070833
CREATED:20240305T031236Z
LAST-MODIFIED:20240321T181252Z
UID:10001866-1730062800-1730070000@elynevada.net
SUMMARY:GET KNIT
DESCRIPTION:GET KNIT in Baker\nWork on a project. Learn how to knit. Exchange ideas & yarn. Chat. Drink Tea.
URL:https://elynevada.net/event/get-knit-2/2024-10-27/
LOCATION:Bristlecone General Store\, 115 S. Baker Ave.\, Baker\, NV\, 89311\, United States
CATEGORIES:Arts & Culture,Community
ATTACH;FMTTYPE=image/jpeg:https://elynevada.net/wp-content/uploads/2024/03/Get-Knit-2024.jpg
ORGANIZER;CN="Bristlecone General Store":MAILTO:stay@stargazernevada.com
END:VEVENT
BEGIN:VEVENT
DTSTART;TZID=America/Los_Angeles:20240922T210000
DTEND;TZID=America/Los_Angeles:20240922T230000
DTSTAMP:20260424T070833
CREATED:20240305T031236Z
LAST-MODIFIED:20240321T181252Z
UID:10001865-1727038800-1727046000@elynevada.net
SUMMARY:GET KNIT
DESCRIPTION:GET KNIT in Baker\nWork on a project. Learn how to knit. Exchange ideas & yarn. Chat. Drink Tea.
URL:https://elynevada.net/event/get-knit-2/2024-09-22/
LOCATION:Bristlecone General Store\, 115 S. Baker Ave.\, Baker\, NV\, 89311\, United States
CATEGORIES:Arts & Culture,Community
ATTACH;FMTTYPE=image/jpeg:https://elynevada.net/wp-content/uploads/2024/03/Get-Knit-2024.jpg
ORGANIZER;CN="Bristlecone General Store":MAILTO:stay@stargazernevada.com
END:VEVENT
BEGIN:VEVENT
DTSTART;TZID=America/Los_Angeles:20240825T210000
DTEND;TZID=America/Los_Angeles:20240825T230000
DTSTAMP:20260424T070833
CREATED:20240305T031236Z
LAST-MODIFIED:20240321T181252Z
UID:10001864-1724619600-1724626800@elynevada.net
SUMMARY:GET KNIT
DESCRIPTION:GET KNIT in Baker\nWork on a project. Learn how to knit. Exchange ideas & yarn. Chat. Drink Tea.
URL:https://elynevada.net/event/get-knit-2/2024-08-25/
LOCATION:Bristlecone General Store\, 115 S. Baker Ave.\, Baker\, NV\, 89311\, United States
CATEGORIES:Arts & Culture,Community
ATTACH;FMTTYPE=image/jpeg:https://elynevada.net/wp-content/uploads/2024/03/Get-Knit-2024.jpg
ORGANIZER;CN="Bristlecone General Store":MAILTO:stay@stargazernevada.com
END:VEVENT
BEGIN:VEVENT
DTSTART;TZID=America/Los_Angeles:20240728T210000
DTEND;TZID=America/Los_Angeles:20240728T230000
DTSTAMP:20260424T070833
CREATED:20240305T031236Z
LAST-MODIFIED:20240321T181252Z
UID:10001863-1722200400-1722207600@elynevada.net
SUMMARY:GET KNIT
DESCRIPTION:GET KNIT in Baker\nWork on a project. Learn how to knit. Exchange ideas & yarn. Chat. Drink Tea.
URL:https://elynevada.net/event/get-knit-2/2024-07-28/
LOCATION:Bristlecone General Store\, 115 S. Baker Ave.\, Baker\, NV\, 89311\, United States
CATEGORIES:Arts & Culture,Community
ATTACH;FMTTYPE=image/jpeg:https://elynevada.net/wp-content/uploads/2024/03/Get-Knit-2024.jpg
ORGANIZER;CN="Bristlecone General Store":MAILTO:stay@stargazernevada.com
END:VEVENT
BEGIN:VEVENT
DTSTART;TZID=America/Los_Angeles:20240630T140000
DTEND;TZID=America/Los_Angeles:20240630T160000
DTSTAMP:20260424T070833
CREATED:20240305T031236Z
LAST-MODIFIED:20240321T181252Z
UID:10001862-1719756000-1719763200@elynevada.net
SUMMARY:GET KNIT
DESCRIPTION:GET KNIT in Baker\nWork on a project. Learn how to knit. Exchange ideas & yarn. Chat. Drink Tea.
URL:https://elynevada.net/event/get-knit-2/2024-06-30/
LOCATION:Bristlecone General Store\, 115 S. Baker Ave.\, Baker\, NV\, 89311\, United States
CATEGORIES:Arts & Culture,Community
ATTACH;FMTTYPE=image/jpeg:https://elynevada.net/wp-content/uploads/2024/03/Get-Knit-2024.jpg
ORGANIZER;CN="Bristlecone General Store":MAILTO:stay@stargazernevada.com
END:VEVENT
BEGIN:VEVENT
DTSTART;TZID=America/Los_Angeles:20240623T140000
DTEND;TZID=America/Los_Angeles:20240623T160000
DTSTAMP:20260424T070833
CREATED:20240305T030418Z
LAST-MODIFIED:20240321T184410Z
UID:10002298-1719151200-1719158400@elynevada.net
SUMMARY:Get LIT
DESCRIPTION:GET LIT in Baker\nBristlecone General Store Book Club
URL:https://elynevada.net/event/get-lit-2/2024-06-23/
LOCATION:Bristlecone General Store\, 115 S. Baker Ave.\, Baker\, NV\, 89311\, United States
CATEGORIES:Arts & Culture,Community
ATTACH;FMTTYPE=image/jpeg:https://elynevada.net/wp-content/uploads/2024/03/GET-LIT-2024.jpg
ORGANIZER;CN="Bristlecone General Store":MAILTO:stay@stargazernevada.com
END:VEVENT
BEGIN:VEVENT
DTSTART;TZID=America/Los_Angeles:20240526T210000
DTEND;TZID=America/Los_Angeles:20240526T230000
DTSTAMP:20260424T070833
CREATED:20240305T031236Z
LAST-MODIFIED:20240321T181252Z
UID:10001861-1716757200-1716764400@elynevada.net
SUMMARY:GET KNIT
DESCRIPTION:GET KNIT in Baker\nWork on a project. Learn how to knit. Exchange ideas & yarn. Chat. Drink Tea.
URL:https://elynevada.net/event/get-knit-2/2024-05-26/
LOCATION:Bristlecone General Store\, 115 S. Baker Ave.\, Baker\, NV\, 89311\, United States
CATEGORIES:Arts & Culture,Community
ATTACH;FMTTYPE=image/jpeg:https://elynevada.net/wp-content/uploads/2024/03/Get-Knit-2024.jpg
ORGANIZER;CN="Bristlecone General Store":MAILTO:stay@stargazernevada.com
END:VEVENT
BEGIN:VEVENT
DTSTART;TZID=America/Los_Angeles:20240519T210000
DTEND;TZID=America/Los_Angeles:20240519T230000
DTSTAMP:20260424T070833
CREATED:20240305T030418Z
LAST-MODIFIED:20240321T184410Z
UID:10002297-1716152400-1716159600@elynevada.net
SUMMARY:Get LIT
DESCRIPTION:GET LIT in Baker\nBristlecone General Store Book Club
URL:https://elynevada.net/event/get-lit-2/2024-05-19/
LOCATION:Bristlecone General Store\, 115 S. Baker Ave.\, Baker\, NV\, 89311\, United States
CATEGORIES:Arts & Culture,Community
ATTACH;FMTTYPE=image/jpeg:https://elynevada.net/wp-content/uploads/2024/03/GET-LIT-2024.jpg
ORGANIZER;CN="Bristlecone General Store":MAILTO:stay@stargazernevada.com
END:VEVENT
BEGIN:VEVENT
DTSTART;TZID=America/Los_Angeles:20240428T210000
DTEND;TZID=America/Los_Angeles:20240428T230000
DTSTAMP:20260424T070833
CREATED:20240305T031236Z
LAST-MODIFIED:20240321T181252Z
UID:10001860-1714338000-1714345200@elynevada.net
SUMMARY:GET KNIT
DESCRIPTION:GET KNIT in Baker\nWork on a project. Learn how to knit. Exchange ideas & yarn. Chat. Drink Tea.
URL:https://elynevada.net/event/get-knit-2/2024-04-28/
LOCATION:Bristlecone General Store\, 115 S. Baker Ave.\, Baker\, NV\, 89311\, United States
CATEGORIES:Arts & Culture,Community
ATTACH;FMTTYPE=image/jpeg:https://elynevada.net/wp-content/uploads/2024/03/Get-Knit-2024.jpg
ORGANIZER;CN="Bristlecone General Store":MAILTO:stay@stargazernevada.com
END:VEVENT
BEGIN:VEVENT
DTSTART;TZID=America/Los_Angeles:20240427T190000
DTEND;TZID=America/Los_Angeles:20240427T210000
DTSTAMP:20260424T070833
CREATED:20240402T194000Z
LAST-MODIFIED:20240402T194001Z
UID:10002531-1714244400-1714251600@elynevada.net
SUMMARY:Schellraiser Pre-Party with Spike McGuire in Baker
DESCRIPTION:Schellraiser Pre-Party with Spike McGuire in Baker\nCome get hyped up for Schellraiser Music Festival at our Preparty event in Baker\, Nevada Saturday\, April 27th! \nMusic at 7pm – All Ages Welcome – Free Event!\n@ Bristlecone General Store – 115 S. Baker Ave\, Baker\, NV \nFeaturing live music by Spike McGuire; coming all the way from western Nevada to entertain us with his folk music magic!\nFood and drinks available at The Bristlecone General Store. \nMake it a full weekend of fun and explore what Great Basin National Park (only a 5 minute drive from Baker) has to offer! Stay at one of the inn’s or camp out at one of the many camp grounds! \nFor camping and lodging information please go\nhttps://www.greatbasinpark.com/where-to-stay \nAbout Spike\nSpike McGuire is an internationally touring musician that has performed in 16 states and 5 countries as well as a GraphTech Guitar Labs endorsed. He is known for his work as founder of Loud As Folk. On the rich spectrum of folk music McGuire resides decidedly closer to Pete Seger than Peter\, Paul\, and Mary and has spent the last decade and a half drawing parallels between the ethos of punk rock and the spirit of folk music by building community and engaging listeners with his message. The lessons McGuire learned on the road now serve him well in his position of Executive Director at Brewery Arts Center in Carson City\, NV.
URL:https://elynevada.net/event/schellraiser-pre-party-with-spike-mcguire-in-baker/
LOCATION:Bristlecone General Store\, 115 S. Baker Ave.\, Baker\, NV\, 89311\, United States
CATEGORIES:Arts & Culture,Concert
ATTACH;FMTTYPE=image/png:https://elynevada.net/wp-content/uploads/2024/04/Pre-Party-Spike_IGflyer.png
ORGANIZER;CN="Middle of Everywhere":MAILTO:https://m.me/104506860953168?fbclid=IwAR2-YiQ62aa-wzko87QDaqqW1yfecknDwMUelIbYrBvWzrSSPHMpKrExlrE
END:VEVENT
BEGIN:VEVENT
DTSTART;TZID=America/Los_Angeles:20240424T200000
DTEND;TZID=America/Los_Angeles:20240424T210000
DTSTAMP:20260424T070833
CREATED:20240321T181318Z
LAST-MODIFIED:20240321T181318Z
UID:10001869-1713988800-1713992400@elynevada.net
SUMMARY:GET MOONED in Baker!
DESCRIPTION:GET MOONED in BAKER\, NV!\nBaker is adding MORE to our “GET” series with Full Moon Hikes each month!! Meet at the Bristlecone General Store and we’ll venture on a 2-3 mile hike in the area with the light of the moon as our guide. \nHere’s what we have scheduled so far:\nThurs\, January 25: 6:30pm\nSat\, February 24: 7:00pm\nSun\, March 24: 7:30pm\nWed\, April 24: 8:30pm \n“Full moons offer us a chance to reflect\, refresh and renew our senses.”
URL:https://elynevada.net/event/get-mooned-in-baker-2/2024-04-24/
LOCATION:Bristlecone General Store\, 115 S. Baker Ave.\, Baker\, NV\, 89311\, United States
CATEGORIES:Arts & Culture,Community,Sports
ATTACH;FMTTYPE=image/jpeg:https://elynevada.net/wp-content/uploads/2024/01/Get-Mooned-in-Baker_2024.jpg
ORGANIZER;CN="Bristlecone General Store":MAILTO:stay@stargazernevada.com
END:VEVENT
BEGIN:VEVENT
DTSTART;TZID=America/Los_Angeles:20240421T210000
DTEND;TZID=America/Los_Angeles:20240421T230000
DTSTAMP:20260424T070833
CREATED:20240305T030418Z
LAST-MODIFIED:20240321T184410Z
UID:10002296-1713733200-1713740400@elynevada.net
SUMMARY:Get LIT
DESCRIPTION:GET LIT in Baker\nBristlecone General Store Book Club
URL:https://elynevada.net/event/get-lit-2/2024-04-21/
LOCATION:Bristlecone General Store\, 115 S. Baker Ave.\, Baker\, NV\, 89311\, United States
CATEGORIES:Arts & Culture,Community
ATTACH;FMTTYPE=image/jpeg:https://elynevada.net/wp-content/uploads/2024/03/GET-LIT-2024.jpg
ORGANIZER;CN="Bristlecone General Store":MAILTO:stay@stargazernevada.com
END:VEVENT
BEGIN:VEVENT
DTSTART;TZID=America/Los_Angeles:20240324T210000
DTEND;TZID=America/Los_Angeles:20240324T230000
DTSTAMP:20260424T070833
CREATED:20240305T031236Z
LAST-MODIFIED:20240321T181252Z
UID:10001859-1711314000-1711321200@elynevada.net
SUMMARY:GET KNIT
DESCRIPTION:GET KNIT in Baker\nWork on a project. Learn how to knit. Exchange ideas & yarn. Chat. Drink Tea.
URL:https://elynevada.net/event/get-knit-2/2024-03-24/
LOCATION:Bristlecone General Store\, 115 S. Baker Ave.\, Baker\, NV\, 89311\, United States
CATEGORIES:Arts & Culture,Community
ATTACH;FMTTYPE=image/jpeg:https://elynevada.net/wp-content/uploads/2024/03/Get-Knit-2024.jpg
ORGANIZER;CN="Bristlecone General Store":MAILTO:stay@stargazernevada.com
END:VEVENT
BEGIN:VEVENT
DTSTART;TZID=America/Los_Angeles:20240324T193000
DTEND;TZID=America/Los_Angeles:20240324T203000
DTSTAMP:20260424T070833
CREATED:20240321T181318Z
LAST-MODIFIED:20240321T181318Z
UID:10001868-1711308600-1711312200@elynevada.net
SUMMARY:GET MOONED in Baker!
DESCRIPTION:GET MOONED in BAKER\, NV!\nBaker is adding MORE to our “GET” series with Full Moon Hikes each month!! Meet at the Bristlecone General Store and we’ll venture on a 2-3 mile hike in the area with the light of the moon as our guide. \nHere’s what we have scheduled so far:\nThurs\, January 25: 6:30pm\nSat\, February 24: 7:00pm\nSun\, March 24: 7:30pm\nWed\, April 24: 8:30pm \n“Full moons offer us a chance to reflect\, refresh and renew our senses.”
URL:https://elynevada.net/event/get-mooned-in-baker-2/2024-03-24/
LOCATION:Bristlecone General Store\, 115 S. Baker Ave.\, Baker\, NV\, 89311\, United States
CATEGORIES:Arts & Culture,Community,Sports
ATTACH;FMTTYPE=image/jpeg:https://elynevada.net/wp-content/uploads/2024/01/Get-Mooned-in-Baker_2024.jpg
ORGANIZER;CN="Bristlecone General Store":MAILTO:stay@stargazernevada.com
END:VEVENT
BEGIN:VEVENT
DTSTART;TZID=America/Los_Angeles:20240322T170000
DTEND;TZID=America/Los_Angeles:20240322T190000
DTSTAMP:20260424T070833
CREATED:20240305T031709Z
LAST-MODIFIED:20240321T181108Z
UID:10001816-1711126800-1711134000@elynevada.net
SUMMARY:World Water Day Happy Hour
DESCRIPTION:World Water Day Happy Hour\nFundraiser for the Great Basin Water Network
URL:https://elynevada.net/event/world-water-day-happy-hour/
LOCATION:Bristlecone General Store\, 115 S. Baker Ave.\, Baker\, NV\, 89311\, United States
CATEGORIES:Community
ATTACH;FMTTYPE=image/jpeg:https://elynevada.net/wp-content/uploads/2024/03/World-Water-Day-Happy-Hour-Baker.jpg
ORGANIZER;CN="Bristlecone General Store":MAILTO:stay@stargazernevada.com
END:VEVENT
BEGIN:VEVENT
DTSTART;TZID=America/Los_Angeles:20240317T210000
DTEND;TZID=America/Los_Angeles:20240317T230000
DTSTAMP:20260424T070833
CREATED:20240305T030418Z
LAST-MODIFIED:20240321T184410Z
UID:10002295-1710709200-1710716400@elynevada.net
SUMMARY:Get LIT
DESCRIPTION:GET LIT in Baker\nBristlecone General Store Book Club
URL:https://elynevada.net/event/get-lit-2/2024-03-17/
LOCATION:Bristlecone General Store\, 115 S. Baker Ave.\, Baker\, NV\, 89311\, United States
CATEGORIES:Arts & Culture,Community
ATTACH;FMTTYPE=image/jpeg:https://elynevada.net/wp-content/uploads/2024/03/GET-LIT-2024.jpg
ORGANIZER;CN="Bristlecone General Store":MAILTO:stay@stargazernevada.com
END:VEVENT
BEGIN:VEVENT
DTSTART;TZID=UTC:20240310T140000
DTEND;TZID=UTC:20240310T160000
DTSTAMP:20260424T070834
CREATED:20240305T032034Z
LAST-MODIFIED:20240305T032035Z
UID:10001817-1710079200-1710086400@elynevada.net
SUMMARY:GET BIT
DESCRIPTION:GET BIT in Baker\nIn honor of the 100th Anniversary of the Milky Way Candy Bar\, the Bristlecone Geneal Store is having a Recipe Challenge! \nMake a tasty treat with the candy bar\, or\, with chocolate\, caramel & nougat\, and let’s sample the sweetness of life! \nThere will also be an interactive art project to celebrate our Milky Way Galaxy!
URL:https://elynevada.net/event/get-bit-2/
LOCATION:Bristlecone General Store\, 115 S. Baker Ave.\, Baker\, NV\, 89311\, United States
CATEGORIES:Arts & Culture,Community
ATTACH;FMTTYPE=image/jpeg:https://elynevada.net/wp-content/uploads/2024/03/GET-BIT-Milky-Way-thing.jpg
ORGANIZER;CN="Bristlecone General Store":MAILTO:stay@stargazernevada.com
END:VEVENT
BEGIN:VEVENT
DTSTART;TZID=UTC:20240224T190000
DTEND;TZID=UTC:20240224T200000
DTSTAMP:20260424T070834
CREATED:20240103T062337Z
LAST-MODIFIED:20240119T045011Z
UID:10000622-1708801200-1708804800@elynevada.net
SUMMARY:GET MOONED in Baker!
DESCRIPTION:GET MOONED in BAKER\, NV!\nBaker is adding MORE to our “GET” series with Full Moon Hikes each month!! Meet at the Bristlecone General Store and we’ll venture on a 2-3 mile hike in the area with the light of the moon as our guide. \nHere’s what we have scheduled so far:\nThurs\, January 25: 6:30pm\nSat\, February 24: 7:00pm\nSun\, March 24: 7:30pm\nWed\, April 24: 8:30pm \n“Full moons offer us a chance to reflect\, refresh and renew our senses.”
URL:https://elynevada.net/event/get-mooned-in-baker/2024-02-24/
LOCATION:Bristlecone General Store\, 115 S. Baker Ave.\, Baker\, NV\, 89311\, United States
CATEGORIES:Arts & Culture,Community,Sports
ATTACH;FMTTYPE=image/jpeg:https://elynevada.net/wp-content/uploads/2024/01/Get-Mooned-in-Baker_2024.jpg
ORGANIZER;CN="Bristlecone General Store":MAILTO:stay@stargazernevada.com
END:VEVENT
BEGIN:VEVENT
DTSTART;TZID=UTC:20240125T183000
DTEND;TZID=UTC:20240125T200000
DTSTAMP:20260424T070834
CREATED:20240103T062337Z
LAST-MODIFIED:20240119T045011Z
UID:10000621-1706207400-1706212800@elynevada.net
SUMMARY:GET MOONED in Baker!
DESCRIPTION:GET MOONED in BAKER\, NV!\nBaker is adding MORE to our “GET” series with Full Moon Hikes each month!! Meet at the Bristlecone General Store and we’ll venture on a 2-3 mile hike in the area with the light of the moon as our guide. \nHere’s what we have scheduled so far:\nThurs\, January 25: 6:30pm\nSat\, February 24: 7:00pm\nSun\, March 24: 7:30pm\nWed\, April 24: 8:30pm \n“Full moons offer us a chance to reflect\, refresh and renew our senses.”
URL:https://elynevada.net/event/get-mooned-in-baker/2024-01-25/
LOCATION:Bristlecone General Store\, 115 S. Baker Ave.\, Baker\, NV\, 89311\, United States
CATEGORIES:Arts & Culture,Community,Sports
ATTACH;FMTTYPE=image/jpeg:https://elynevada.net/wp-content/uploads/2024/01/Get-Mooned-in-Baker_2024.jpg
ORGANIZER;CN="Bristlecone General Store":MAILTO:stay@stargazernevada.com
END:VEVENT
BEGIN:VEVENT
DTSTART;TZID=UTC:20231119T140000
DTEND;TZID=UTC:20231119T160000
DTSTAMP:20260424T070834
CREATED:20231107T040305Z
LAST-MODIFIED:20231107T040307Z
UID:10000588-1700402400-1700409600@elynevada.net
SUMMARY:GET LIT: Nov. 2023
DESCRIPTION:GET LIT: Nov. 2023 \nJoin the latest book discussion on Sunday\, November 19th\, 2pm at the Bristlecone General Store. This time we will read Canoeing With The Cree by famed journalist Eric Sevareid (he spent more than a decade as a television correspondent on CBS Evening News.)\n\nThe book describes the adventure of Sevareid and his fellow high school friend. Walter Port\, as they embark on a 2\,250 mile canoe trip from Minneapolis to York Factory on the Hudson Bay. They did this as teenage novices without the aid of motors\, communication or even good maps. The journey took them four months\, and included shooting hundreds of rapids and portaging through wilderness. Although this was Sevareid’s first book\, it clearly displays his descriptive powers.\nCopies of the book are available at the BGS. For more information call (775) 234-7323.
URL:https://elynevada.net/event/get-lit-nov-2023/
LOCATION:Bristlecone General Store\, 115 S. Baker Ave.\, Baker\, NV\, 89311\, United States
CATEGORIES:Arts & Culture,Community
ATTACH;FMTTYPE=image/jpeg:https://elynevada.net/wp-content/uploads/2023/11/GET-LIT-Nov-2023.jpg
ORGANIZER;CN="Bristlecone General Store":MAILTO:stay@stargazernevada.com
END:VEVENT
BEGIN:VEVENT
DTSTART;TZID=UTC:20230921T170000
DTEND;TZID=UTC:20230921T190000
DTSTAMP:20260424T070834
CREATED:20230615T141921Z
LAST-MODIFIED:20230615T141923Z
UID:10000570-1695315600-1695322800@elynevada.net
SUMMARY:Barn Dance & Pie Potluck
DESCRIPTION:Barn Dance & Pie Potluck\nKick up your heels and celebrate the fall equinox with pie and dancing! \n$10 donation \nFREE if you bring a pie! \nBackyard in Baker at the Bristlecone General Store!
URL:https://elynevada.net/event/barn-dance-pie-potluck/
LOCATION:Bristlecone General Store\, 115 S. Baker Ave.\, Baker\, NV\, 89311\, United States
CATEGORIES:Arts & Culture
ORGANIZER;CN="Bristlecone General Store":MAILTO:stay@stargazernevada.com
END:VEVENT
END:VCALENDAR