BEGIN:VCALENDAR
VERSION:2.0
PRODID:-//Welcome To Ely - ECPv6.15.20//NONSGML v1.0//EN
CALSCALE:GREGORIAN
METHOD:PUBLISH
X-WR-CALNAME:Welcome To Ely
X-ORIGINAL-URL:https://elynevada.net
X-WR-CALDESC:Events for Welcome To Ely
REFRESH-INTERVAL;VALUE=DURATION:PT1H
X-Robots-Tag:noindex
X-PUBLISHED-TTL:PT1H
BEGIN:VTIMEZONE
TZID:America/Los_Angeles
BEGIN:DAYLIGHT
TZOFFSETFROM:-0800
TZOFFSETTO:-0700
TZNAME:PDT
DTSTART:20240310T100000
END:DAYLIGHT
BEGIN:STANDARD
TZOFFSETFROM:-0700
TZOFFSETTO:-0800
TZNAME:PST
DTSTART:20241103T090000
END:STANDARD
BEGIN:DAYLIGHT
TZOFFSETFROM:-0800
TZOFFSETTO:-0700
TZNAME:PDT
DTSTART:20250309T100000
END:DAYLIGHT
BEGIN:STANDARD
TZOFFSETFROM:-0700
TZOFFSETTO:-0800
TZNAME:PST
DTSTART:20251102T090000
END:STANDARD
BEGIN:DAYLIGHT
TZOFFSETFROM:-0800
TZOFFSETTO:-0700
TZNAME:PDT
DTSTART:20260308T100000
END:DAYLIGHT
BEGIN:STANDARD
TZOFFSETFROM:-0700
TZOFFSETTO:-0800
TZNAME:PST
DTSTART:20261101T090000
END:STANDARD
END:VTIMEZONE
BEGIN:VTIMEZONE
TZID:UTC
BEGIN:STANDARD
TZOFFSETFROM:+0000
TZOFFSETTO:+0000
TZNAME:UTC
DTSTART:20220101T000000
END:STANDARD
END:VTIMEZONE
BEGIN:VEVENT
DTSTART;TZID=America/Los_Angeles:20251213T180000
DTEND;TZID=America/Los_Angeles:20251213T220000
DTSTAMP:20260423T025654
CREATED:20241113T003450Z
LAST-MODIFIED:20251119T004817Z
UID:10003079-1765648800-1765663200@elynevada.net
SUMMARY:3rd Annual Fezziwig Ball
DESCRIPTION:3rd Annual Fezziwig Ball\nCelebrate proper Christmas cheer in the absolute best fashion at the 3rd Annual Fezziwig Ball! \nThis party of the season takes place on December 13th\, 6pm-10pm with the halls of the Centennial Fine Arts Building fully decked. \nFezziwig is a character from Charles Dickens’ A Christmas Carol. As Scrooge’s old boss\, Fezziwig is meant to depict the absolute opposite of the well-known Christmas crank. Jolly\, giving\, and full of life\, Fezziwig adored the holiday season and threw his very own Christmas Ball every year. The Ghost of Christmas Past takes Scrooge back to one of these parties where he sees himself as a young man\, in love with Christmas and having the best time. \nA page straight out of the book\, this year’s Centennial Fine Arts’ Fezziwig Ball is meant to capture the same jovial magic. \nPeriod costume attire encouraged! Think Dickensian\, mid-19th century garb. What is most important is that you have fun! This is the most wonderful time of the year\, after all. \nLook forward to the Elderblossoms performing. A live five-piece band\, they will be providing the ambience and music for the evening. \nTickets are $50 per person. One ticket includes your food\, drinks\, and more! \nTickets can be purchased at Economy Drug\, the White Pine Chamber of Commerce\, and the Bristlecone Convention Center. \nDiscover all the ways to bring in the Holiday Season in Ely and White Pine HERE!\n\nThis Event is put on by the White Pine Community Choir Association. Learn more about them and their mission HERE!
URL:https://elynevada.net/event/2nd-annual-fezziwig-ball/
LOCATION:Centennial Fine Arts Building\, 910 East Aultman Street\, Ely\, NV\, 89301\, United States
CATEGORIES:Arts & Culture,Community
ATTACH;FMTTYPE=image/jpeg:https://elynevada.net/wp-content/uploads/2024/11/Fezziwig-Ball_2025_1640x856.jpg
END:VEVENT
BEGIN:VEVENT
DTSTART;TZID=UTC:20231216T180000
DTEND;TZID=UTC:20231216T220000
DTSTAMP:20260423T025654
CREATED:20231122T060746Z
LAST-MODIFIED:20231122T110624Z
UID:10000596-1702749600-1702764000@elynevada.net
SUMMARY:Fezziwig Ball
DESCRIPTION:Fezziwig Ball\nCelebrate proper Christmas cheer in the absolute best fashion at the Fezziwig Ball! \nThis party of the season takes place on December 16th\, 6pm-10pm with the halls of the Centennial Fine Arts Building fully decked. \nFezziwig is a character from Charles Dickens’ A Christmas Carol. As Scrooge’s old boss\, Fezziwig is meant to depict the absolute opposite of the well-known Christmas crank. Jolly\, giving\, and full of life\, Fezziwig adored the holiday season and threw his very own Christmas Ball every year. The Ghost of Christmas Past takes Scrooge back to one of these parties where he sees himself as a young man\, in love with Christmas and having the best time. \nA page straight out of the book\, this year’s Centennial Fine Arts’ Fezziwig Ball is meant to capture the same jovial magic. \nPeriod costume attire encouraged! Think Dickensian\, mid-19th century garb. What is most important is that you have fun! This is the most wonderful time of the year\, after all. \nLook forward to the Elderblossoms performing. A live five-piece band\, they will be providing the ambience and music for the evening. \nTickets are $35 per person. One ticket includes your food\, drinks\, and more! \nTickets can be purchased at Economy Drug\, the White Pine Chamber of Commerce\, and the Bristlecone Convention Center. \nDiscover all the ways to bring in the Holiday Season in Ely and White Pine HERE!\n\nThis Event is put on by the White Pine Community Choir Association. Learn more about them and their mission HERE!
URL:https://elynevada.net/event/fezziwig-ball/
LOCATION:Centennial Fine Arts Building\, 910 East Aultman Street\, Ely\, NV\, 89301\, United States
CATEGORIES:Arts & Culture,Community
ATTACH;FMTTYPE=image/jpeg:https://elynevada.net/wp-content/uploads/2023/11/Fezziwig-Ball_2023_1640x856web.jpg
END:VEVENT
BEGIN:VEVENT
DTSTART;TZID=UTC:20231110T190000
DTEND;TZID=UTC:20231110T210000
DTSTAMP:20260423T025654
CREATED:20231107T082505Z
LAST-MODIFIED:20231107T083006Z
UID:10000590-1699642800-1699650000@elynevada.net
SUMMARY:Spike McGuire Album Release Tour
DESCRIPTION:Spike McGuire Album Release Tour\nEarlier this year\, Spike McGuire received a grant from the Nevada Arts Council and the National Endowment For The Arts to record a live solo album. The record officially releases on Nevada Day and this is one of six release shows taking place at historic venues across the state.\n\nJoining McGuire in this musical celebration will be special guests Greg Gilmore and Rachael McElhiney.\n\nTickets are $10. For tickets please call (775) 289 3720\nAll ticket sales go toward supporting the Centennial Fine Arts Building and will aid in the repairs necessary to preserve the historic landmark.\n\nThe show is ALL AGES. Doors open at 6:30 pm\, with the show starting at 7 pm.
URL:https://elynevada.net/event/spike-mcguire-album-release-tour/
LOCATION:Centennial Fine Arts Building\, 910 East Aultman Street\, Ely\, NV\, 89301\, United States
CATEGORIES:Arts & Culture,Community,Concert
ATTACH;FMTTYPE=image/jpeg:https://elynevada.net/wp-content/uploads/2023/11/SPIKE_ELY_FB-WITH-TEXT.jpg
ORGANIZER;CN="White PIne County Tourism and Recreation":MAILTO:nicole.collard@elynevada.net
END:VEVENT
END:VCALENDAR