BEGIN:VCALENDAR
VERSION:2.0
PRODID:-//Welcome To Ely - ECPv6.15.20//NONSGML v1.0//EN
CALSCALE:GREGORIAN
METHOD:PUBLISH
X-ORIGINAL-URL:https://elynevada.net
X-WR-CALDESC:Events for Welcome To Ely
REFRESH-INTERVAL;VALUE=DURATION:PT1H
X-Robots-Tag:noindex
X-PUBLISHED-TTL:PT1H
BEGIN:VTIMEZONE
TZID:UTC
BEGIN:STANDARD
TZOFFSETFROM:+0000
TZOFFSETTO:+0000
TZNAME:UTC
DTSTART:20180101T000000
END:STANDARD
END:VTIMEZONE
BEGIN:VEVENT
DTSTART;TZID=UTC:20191016T130000
DTEND;TZID=UTC:20191016T160000
DTSTAMP:20260423T085145
CREATED:20190920T062941Z
LAST-MODIFIED:20190920T062941Z
UID:10000140-1571230800-1571241600@elynevada.net
SUMMARY:National Chamber Day Open House
DESCRIPTION:
URL:https://elynevada.net/event/national-chamber-day-open-house/
LOCATION:Chamber Office\, 636 E Aultman St\, Ely\, NV\, 89301\, United States
CATEGORIES:Community
ORGANIZER;CN="White Pine Chamber of Commerce":MAILTO:wpcc@whitepinechamber.com
END:VEVENT
END:VCALENDAR