BEGIN:VCALENDAR
VERSION:2.0
PRODID:-//Welcome To Ely - ECPv6.15.20//NONSGML v1.0//EN
CALSCALE:GREGORIAN
METHOD:PUBLISH
X-ORIGINAL-URL:https://elynevada.net
X-WR-CALDESC:Events for Welcome To Ely
REFRESH-INTERVAL;VALUE=DURATION:PT1H
X-Robots-Tag:noindex
X-PUBLISHED-TTL:PT1H
BEGIN:VTIMEZONE
TZID:America/Los_Angeles
BEGIN:DAYLIGHT
TZOFFSETFROM:-0800
TZOFFSETTO:-0700
TZNAME:PDT
DTSTART:20250309T100000
END:DAYLIGHT
BEGIN:STANDARD
TZOFFSETFROM:-0700
TZOFFSETTO:-0800
TZNAME:PST
DTSTART:20251102T090000
END:STANDARD
BEGIN:DAYLIGHT
TZOFFSETFROM:-0800
TZOFFSETTO:-0700
TZNAME:PDT
DTSTART:20260308T100000
END:DAYLIGHT
BEGIN:STANDARD
TZOFFSETFROM:-0700
TZOFFSETTO:-0800
TZNAME:PST
DTSTART:20261101T090000
END:STANDARD
BEGIN:DAYLIGHT
TZOFFSETFROM:-0800
TZOFFSETTO:-0700
TZNAME:PDT
DTSTART:20270314T100000
END:DAYLIGHT
BEGIN:STANDARD
TZOFFSETFROM:-0700
TZOFFSETTO:-0800
TZNAME:PST
DTSTART:20271107T090000
END:STANDARD
END:VTIMEZONE
BEGIN:VEVENT
DTSTART;TZID=America/Los_Angeles:20260509T073000
DTEND;TZID=America/Los_Angeles:20260509T140000
DTSTAMP:20260422T191214
CREATED:20260323T182247Z
LAST-MODIFIED:20260323T182247Z
UID:10005001-1778311800-1778335200@elynevada.net
SUMMARY:3rd Annual Save Comins Lake Pike-Out
DESCRIPTION:3rd Annual Save Comins Lake Pike-Out\nJoin NDOW for the 3rd Annual Save Comins Lake Pike-Out! We are calling on local anglers to volunteer to fish out as many Northern Pike from Comins Lake as we can. \nNorthern Pike are aquatic invasive species (AIS) that negatively impact the Comins Lake fishery.\n\nAnglers volunteering for the event will be entered in age-group categories for a chance to win 1st\, 2nd and 3rd place prizes for biggest pike caught (lbs) and most pike caught. Age-group categories are (1) 5 to 9 years old (2) 10 to 15 years old and (3) 16+ years old. Please bring your own fishing gear and tackle.\n\nOfficial Start Time: 7:00 AMPrize Presentations: 1:30 PM\n\nTO REGISTER: All participants must register to be eligible for the prize categories and registration is FREE. Entry is limited for each group\, be sure to register ASAP via the links below.\n\nYOUTH Registration: Save Comins Lake Pike-Out\n\nAdult Registration: 2026 Save Comins Lake Pike-Out | Nevada Department of Wildlife
URL:https://elynevada.net/event/3rd-annual-save-comins-lake-pike-out/
LOCATION:Comins Lake\, Lake in Nevada\, Ely\, NV\, United States
CATEGORIES:Community,Sports
ATTACH;FMTTYPE=image/jpeg:https://elynevada.net/wp-content/uploads/2026/03/2026-Pike-Out-Flyer-1.jpg
END:VEVENT
END:VCALENDAR