BEGIN:VCALENDAR
VERSION:2.0
PRODID:-//Welcome To Ely - ECPv6.15.20//NONSGML v1.0//EN
CALSCALE:GREGORIAN
METHOD:PUBLISH
X-ORIGINAL-URL:https://elynevada.net
X-WR-CALDESC:Events for Welcome To Ely
REFRESH-INTERVAL;VALUE=DURATION:PT1H
X-Robots-Tag:noindex
X-PUBLISHED-TTL:PT1H
BEGIN:VTIMEZONE
TZID:UTC
BEGIN:STANDARD
TZOFFSETFROM:+0000
TZOFFSETTO:+0000
TZNAME:UTC
DTSTART:20230101T000000
END:STANDARD
END:VTIMEZONE
BEGIN:VEVENT
DTSTART;TZID=UTC:20240229T170000
DTEND;TZID=UTC:20240229T183000
DTSTAMP:20260423T105946
CREATED:20240215T041311Z
LAST-MODIFIED:20240215T041314Z
UID:10001438-1709226000-1709231400@elynevada.net
SUMMARY:DEN PTO Community Chili Cook Off & Bingo
DESCRIPTION:DEN PTO Community Chili Cook Off & Bingo\nOur Annual Chili Cook Off & Bingo Night is back with a fun twist!!\nCalling all White Pine Food Vendors! Enter YOUR chili for the chance of Bragging Rights to “the Best Chili in White Pine”!\nChili will need to be dropped off between 4:40 and 5pm in the DEN Cafeteria. Judging will be done by the community in attendance and will begin promptly at 5:05pm\, so don’t be late! After judging\, hot dogs and popcorn will be provided for free\, and bingo will be available for a fee.\nWho will be the Chili Cook Off Champ? We can’t wait to see!!
URL:https://elynevada.net/event/den-pto-community-chili-cook-off-bingo/
LOCATION:David E. Norman Elementary\, 1001 E 11th Street\, Ely\, NV\, United States
CATEGORIES:Community
ATTACH;FMTTYPE=image/jpeg:https://elynevada.net/wp-content/uploads/2024/02/DEN-PTO-Chili-Cookoff.jpg
END:VEVENT
END:VCALENDAR