BEGIN:VCALENDAR
VERSION:2.0
PRODID:-//Welcome To Ely - ECPv6.15.20//NONSGML v1.0//EN
CALSCALE:GREGORIAN
METHOD:PUBLISH
X-ORIGINAL-URL:https://elynevada.net
X-WR-CALDESC:Events for Welcome To Ely
REFRESH-INTERVAL;VALUE=DURATION:PT1H
X-Robots-Tag:noindex
X-PUBLISHED-TTL:PT1H
BEGIN:VTIMEZONE
TZID:UTC
BEGIN:STANDARD
TZOFFSETFROM:+0000
TZOFFSETTO:+0000
TZNAME:UTC
DTSTART:20180101T000000
END:STANDARD
END:VTIMEZONE
BEGIN:VEVENT
DTSTART;TZID=UTC:20240302T170000
DTEND;TZID=UTC:20240302T220000
DTSTAMP:20260423T072804
CREATED:20191217T082449Z
LAST-MODIFIED:20240119T043350Z
UID:10000665-1709398800-1709416800@elynevada.net
SUMMARY:Crab Crack - 2024
DESCRIPTION:Make sure you’re not wearing your Saturday best during this year’s Crab Crack on February 3rd and March 2nd at the Ely Elks Lodge\, because attempting to be dainty is a losing strategy at this type of event. For most people\, this is another great gathering at the table with some friends and family. \nThis event serves 500 pounds of crab that is shipped to Ocean Beauty Distributors in Salt Lake from Fishhawk Fisheries in Astoria\, Oregon. Volunteers from the lodge drive to Salt Lake to pick up the frozen crab on Wednesday before the event. The crab is thawed and served at just the right temperature. Along with the crab\, 60 pounds of coleslaw and 50 loaves of garlic bread\, cocktail sauce and 39 pounds of melted butter is also served with dinner. \nYou arrive to your seat\, and a plate of crab legs\, a “crab cracker”\, and bib awaits each guest. \n$55 per ticket \n$70 for steak and crab \nYou see many guests holding a conversation while cracking open crab legs\, pulling the meat off with their hands popping it in their mouth and continuing on their journey of disassembling a crab leg for all of the meat it has to offer.  Some choose to wear the bib that is provided and others try to maintain their fashion trend by opting out on the bib option. \nThe volunteers keep circling the tables with bowls of crab\, waiting for you to flag them over for another set of crab legs. \nContact Gale Bartlett for more information and tickets at (775) 293 – 0107.
URL:https://elynevada.net/event/crab-crack-2020/2024-03-02/
LOCATION:Elks Lodge\, 694 Campton Street\, Ely\, NV\, 89301\, United States
CATEGORIES:History
ATTACH;FMTTYPE=image/jpeg:https://elynevada.net/wp-content/uploads/2019/12/Crab-Crack-First-one-2024.jpg
ORGANIZER;CN="Ely Elks Lodge":MAILTO:elyelks1469@att.net
END:VEVENT
BEGIN:VEVENT
DTSTART;TZID=UTC:20240203T170000
DTEND;TZID=UTC:20240203T220000
DTSTAMP:20260423T072804
CREATED:20191217T082449Z
LAST-MODIFIED:20240119T043350Z
UID:10000664-1706979600-1706997600@elynevada.net
SUMMARY:Crab Crack - 2024
DESCRIPTION:Make sure you’re not wearing your Saturday best during this year’s Crab Crack on February 3rd and March 2nd at the Ely Elks Lodge\, because attempting to be dainty is a losing strategy at this type of event. For most people\, this is another great gathering at the table with some friends and family. \nThis event serves 500 pounds of crab that is shipped to Ocean Beauty Distributors in Salt Lake from Fishhawk Fisheries in Astoria\, Oregon. Volunteers from the lodge drive to Salt Lake to pick up the frozen crab on Wednesday before the event. The crab is thawed and served at just the right temperature. Along with the crab\, 60 pounds of coleslaw and 50 loaves of garlic bread\, cocktail sauce and 39 pounds of melted butter is also served with dinner. \nYou arrive to your seat\, and a plate of crab legs\, a “crab cracker”\, and bib awaits each guest. \n$55 per ticket \n$70 for steak and crab \nYou see many guests holding a conversation while cracking open crab legs\, pulling the meat off with their hands popping it in their mouth and continuing on their journey of disassembling a crab leg for all of the meat it has to offer.  Some choose to wear the bib that is provided and others try to maintain their fashion trend by opting out on the bib option. \nThe volunteers keep circling the tables with bowls of crab\, waiting for you to flag them over for another set of crab legs. \nContact Gale Bartlett for more information and tickets at (775) 293 – 0107.
URL:https://elynevada.net/event/crab-crack-2020/2024-02-03/
LOCATION:Elks Lodge\, 694 Campton Street\, Ely\, NV\, 89301\, United States
CATEGORIES:History
ATTACH;FMTTYPE=image/jpeg:https://elynevada.net/wp-content/uploads/2019/12/Crab-Crack-First-one-2024.jpg
ORGANIZER;CN="Ely Elks Lodge":MAILTO:elyelks1469@att.net
END:VEVENT
BEGIN:VEVENT
DTSTART;TZID=UTC:20191109T170000
DTEND;TZID=UTC:20191109T210000
DTSTAMP:20260423T072804
CREATED:20191010T082135Z
LAST-MODIFIED:20191010T082143Z
UID:10000199-1573318800-1573333200@elynevada.net
SUMMARY:Veteran's Appreciation Dinner
DESCRIPTION:Come and appreciate our veteran’s with this Veteran’s Appreciation Dinner\, November 9 Veteran’s Day weekend from 5 p.m. to 9 p.m at the Ely Elks Lodge. It’s the perfect lead-up for Veteran’s Day celebrated the following Monday.
URL:https://elynevada.net/event/veterans-appreciation-dinner/
LOCATION:Elks Lodge\, 694 Campton Street\, Ely\, NV\, 89301\, United States
CATEGORIES:Community
END:VEVENT
BEGIN:VEVENT
DTSTART;VALUE=DATE:20191009
DTEND;VALUE=DATE:20191010
DTSTAMP:20260423T072804
CREATED:20190920T055239Z
LAST-MODIFIED:20190920T055244Z
UID:10000027-1570579200-1570665599@elynevada.net
SUMMARY:Great Basin Water Network Open House
DESCRIPTION:
URL:https://elynevada.net/event/great-basin-water-network-open-house/
LOCATION:Elks Lodge\, 694 Campton Street\, Ely\, NV\, 89301\, United States
CATEGORIES:Community
ORGANIZER;CN="Great Basin Water Network":MAILTO:info4gbwn@gmail.com
END:VEVENT
BEGIN:VEVENT
DTSTART;TZID=UTC:20190918T170000
DTEND;TZID=UTC:20190918T200000
DTSTAMP:20260423T072804
CREATED:20190924T063712Z
LAST-MODIFIED:20190924T063716Z
UID:10000138-1568826000-1568836800@elynevada.net
SUMMARY:EMT/FD Appreciation Dinner
DESCRIPTION:EMT/FD Appreciation Dinner at the Ely Elks Lodge beginning from 5 pm to 8 pm.
URL:https://elynevada.net/event/emt-fd-appreciation-dinner/
LOCATION:Elks Lodge\, 694 Campton Street\, Ely\, NV\, 89301\, United States
CATEGORIES:Community
END:VEVENT
BEGIN:VEVENT
DTSTART;TZID=UTC:20190818T110000
DTEND;TZID=UTC:20190818T120000
DTSTAMP:20260423T072804
CREATED:20190801T051358Z
LAST-MODIFIED:20190801T051405Z
UID:10000004-1566126000-1566129600@elynevada.net
SUMMARY:T-Rex & Mascot Shuffle
DESCRIPTION:Join us at the White Pine County Horse Races on Sunday\, August 18th for some great entertainment! Event will begin at 11:30 am. Bring your own costume\, there is no fee or age limit! You can dash\, you can walk\, you can dance\, you can talk. Just make it down the track 50 yards! You’ll have to register with a name for your character- get creative! \nTo register contact Wayne Cameron either via email at wpcc@whitepinechamber.com or call him at (775)289-8877. \nSee you at the races!!!
URL:https://elynevada.net/event/t-rex-mascot-shuffle/
LOCATION:Elks Lodge\, 694 Campton Street\, Ely\, NV\, 89301\, United States
CATEGORIES:Community,Races
ORGANIZER;CN="White Pine Chamber of Commerce":MAILTO:wpcc@whitepinechamber.com
END:VEVENT
END:VCALENDAR