BEGIN:VCALENDAR
VERSION:2.0
PRODID:-//Welcome To Ely - ECPv6.15.20//NONSGML v1.0//EN
CALSCALE:GREGORIAN
METHOD:PUBLISH
X-WR-CALNAME:Welcome To Ely
X-ORIGINAL-URL:https://elynevada.net
X-WR-CALDESC:Events for Welcome To Ely
REFRESH-INTERVAL;VALUE=DURATION:PT1H
X-Robots-Tag:noindex
X-PUBLISHED-TTL:PT1H
BEGIN:VTIMEZONE
TZID:UTC
BEGIN:STANDARD
TZOFFSETFROM:+0000
TZOFFSETTO:+0000
TZNAME:UTC
DTSTART:20180101T000000
END:STANDARD
END:VTIMEZONE
BEGIN:VEVENT
DTSTART;TZID=UTC:20190907T060000
DTEND;TZID=UTC:20190907T140000
DTSTAMP:20260423T073605
CREATED:20190815T210457Z
LAST-MODIFIED:20190815T210508Z
UID:10000068-1567836000-1567864800@elynevada.net
SUMMARY:Day At The Airport
DESCRIPTION:“Day At The Airport” event held at the Ely Airport\, Yelland Field. \nThe day includes Las Vegas Warbirds ride and display\, ReMax hot air balloon rides\, drone flight demonstration\, food vendors all day\, and so much more throughout the day. Best of all\, its free!
URL:https://elynevada.net/event/day-at-the-airport/
LOCATION:Ely Airport\, 1470 N McGill Hwy\, Ely\, NV\, 89301\, United States
CATEGORIES:Community
ATTACH;FMTTYPE=application/pdf:https://elynevada.net/wp-content/uploads/2019/08/CC_DAY@THEAIRPORT_11.25X17.25_FINAL_BLEEDS-1.pdf
END:VEVENT
END:VCALENDAR