BEGIN:VCALENDAR
VERSION:2.0
PRODID:-//Welcome To Ely - ECPv6.15.20//NONSGML v1.0//EN
CALSCALE:GREGORIAN
METHOD:PUBLISH
X-WR-CALNAME:Welcome To Ely
X-ORIGINAL-URL:https://elynevada.net
X-WR-CALDESC:Events for Welcome To Ely
REFRESH-INTERVAL;VALUE=DURATION:PT1H
X-Robots-Tag:noindex
X-PUBLISHED-TTL:PT1H
BEGIN:VTIMEZONE
TZID:UTC
BEGIN:STANDARD
TZOFFSETFROM:+0000
TZOFFSETTO:+0000
TZNAME:UTC
DTSTART:20210101T000000
END:STANDARD
END:VTIMEZONE
BEGIN:VEVENT
DTSTART;TZID=UTC:20220528T180000
DTEND;TZID=UTC:20220528T200000
DTSTAMP:20260423T092304
CREATED:20220506T014031Z
LAST-MODIFIED:20220506T015449Z
UID:10000213-1653760800-1653768000@elynevada.net
SUMMARY:Taproot Spring Artists/Creatives Event Series
DESCRIPTION:Taproot Spring Artists/Creatives Event Series\nOur local Ely Taproot coffee shop presents their Taproot Spring Artists/Creatives Event Series! These are activities happening through the month of May for your education and fun. A full list of events can be found below. \n\nMay 7th: Electronic Music & Maximizing Creativity with Ian Cadger\nMay 14th: Crochet Off the Hook Designs with Alexandria Mabson\nMay 21st: Painting Unique Canvases with Trista Merriam (Bring Your Own Canvas)\nMay 28th: DJ Any Genra with Ian Cadger\n\nEly Taproot serves a “delightful combination of Espresso Coffee\, Fresh fruit Smoothies\, Boba Tea\, and Ice cream Desserts. [They] strive at making the best most flavorful treat with the best ingredients.” \nLearn More About Taproot HERE! Discover More Events on our Calendar HERE!
URL:https://elynevada.net/event/taproot-spring-artists-creatives-event-series/2022-05-28/
LOCATION:Ely Taproot\, 301 Aultman St\, Ely\, NV\, 89301\, United States
CATEGORIES:Arts & Culture,Community
ATTACH;FMTTYPE=image/png:https://elynevada.net/wp-content/uploads/2022/05/Taproot-Spring-Event-Series-2.png
ORGANIZER;CN="Ely Taproot":MAILTO:elytaproot@gmail.com
END:VEVENT
BEGIN:VEVENT
DTSTART;TZID=UTC:20220521T180000
DTEND;TZID=UTC:20220521T200000
DTSTAMP:20260423T092304
CREATED:20220506T014031Z
LAST-MODIFIED:20220506T015449Z
UID:10000212-1653156000-1653163200@elynevada.net
SUMMARY:Taproot Spring Artists/Creatives Event Series
DESCRIPTION:Taproot Spring Artists/Creatives Event Series\nOur local Ely Taproot coffee shop presents their Taproot Spring Artists/Creatives Event Series! These are activities happening through the month of May for your education and fun. A full list of events can be found below. \n\nMay 7th: Electronic Music & Maximizing Creativity with Ian Cadger\nMay 14th: Crochet Off the Hook Designs with Alexandria Mabson\nMay 21st: Painting Unique Canvases with Trista Merriam (Bring Your Own Canvas)\nMay 28th: DJ Any Genra with Ian Cadger\n\nEly Taproot serves a “delightful combination of Espresso Coffee\, Fresh fruit Smoothies\, Boba Tea\, and Ice cream Desserts. [They] strive at making the best most flavorful treat with the best ingredients.” \nLearn More About Taproot HERE! Discover More Events on our Calendar HERE!
URL:https://elynevada.net/event/taproot-spring-artists-creatives-event-series/2022-05-21/
LOCATION:Ely Taproot\, 301 Aultman St\, Ely\, NV\, 89301\, United States
CATEGORIES:Arts & Culture,Community
ATTACH;FMTTYPE=image/png:https://elynevada.net/wp-content/uploads/2022/05/Taproot-Spring-Event-Series-2.png
ORGANIZER;CN="Ely Taproot":MAILTO:elytaproot@gmail.com
END:VEVENT
BEGIN:VEVENT
DTSTART;TZID=UTC:20220514T180000
DTEND;TZID=UTC:20220514T200000
DTSTAMP:20260423T092304
CREATED:20220506T014031Z
LAST-MODIFIED:20220506T015449Z
UID:10000211-1652551200-1652558400@elynevada.net
SUMMARY:Taproot Spring Artists/Creatives Event Series
DESCRIPTION:Taproot Spring Artists/Creatives Event Series\nOur local Ely Taproot coffee shop presents their Taproot Spring Artists/Creatives Event Series! These are activities happening through the month of May for your education and fun. A full list of events can be found below. \n\nMay 7th: Electronic Music & Maximizing Creativity with Ian Cadger\nMay 14th: Crochet Off the Hook Designs with Alexandria Mabson\nMay 21st: Painting Unique Canvases with Trista Merriam (Bring Your Own Canvas)\nMay 28th: DJ Any Genra with Ian Cadger\n\nEly Taproot serves a “delightful combination of Espresso Coffee\, Fresh fruit Smoothies\, Boba Tea\, and Ice cream Desserts. [They] strive at making the best most flavorful treat with the best ingredients.” \nLearn More About Taproot HERE! Discover More Events on our Calendar HERE!
URL:https://elynevada.net/event/taproot-spring-artists-creatives-event-series/2022-05-14/
LOCATION:Ely Taproot\, 301 Aultman St\, Ely\, NV\, 89301\, United States
CATEGORIES:Arts & Culture,Community
ATTACH;FMTTYPE=image/png:https://elynevada.net/wp-content/uploads/2022/05/Taproot-Spring-Event-Series-2.png
ORGANIZER;CN="Ely Taproot":MAILTO:elytaproot@gmail.com
END:VEVENT
BEGIN:VEVENT
DTSTART;TZID=UTC:20220507T180000
DTEND;TZID=UTC:20220507T200000
DTSTAMP:20260423T092304
CREATED:20220506T014031Z
LAST-MODIFIED:20220506T015449Z
UID:10000210-1651946400-1651953600@elynevada.net
SUMMARY:Taproot Spring Artists/Creatives Event Series
DESCRIPTION:Taproot Spring Artists/Creatives Event Series\nOur local Ely Taproot coffee shop presents their Taproot Spring Artists/Creatives Event Series! These are activities happening through the month of May for your education and fun. A full list of events can be found below. \n\nMay 7th: Electronic Music & Maximizing Creativity with Ian Cadger\nMay 14th: Crochet Off the Hook Designs with Alexandria Mabson\nMay 21st: Painting Unique Canvases with Trista Merriam (Bring Your Own Canvas)\nMay 28th: DJ Any Genra with Ian Cadger\n\nEly Taproot serves a “delightful combination of Espresso Coffee\, Fresh fruit Smoothies\, Boba Tea\, and Ice cream Desserts. [They] strive at making the best most flavorful treat with the best ingredients.” \nLearn More About Taproot HERE! Discover More Events on our Calendar HERE!
URL:https://elynevada.net/event/taproot-spring-artists-creatives-event-series/2022-05-07/
LOCATION:Ely Taproot\, 301 Aultman St\, Ely\, NV\, 89301\, United States
CATEGORIES:Arts & Culture,Community
ATTACH;FMTTYPE=image/png:https://elynevada.net/wp-content/uploads/2022/05/Taproot-Spring-Event-Series-2.png
ORGANIZER;CN="Ely Taproot":MAILTO:elytaproot@gmail.com
END:VEVENT
END:VCALENDAR