BEGIN:VCALENDAR
VERSION:2.0
PRODID:-//Welcome To Ely - ECPv6.15.20//NONSGML v1.0//EN
CALSCALE:GREGORIAN
METHOD:PUBLISH
X-ORIGINAL-URL:https://elynevada.net
X-WR-CALDESC:Events for Welcome To Ely
REFRESH-INTERVAL;VALUE=DURATION:PT1H
X-Robots-Tag:noindex
X-PUBLISHED-TTL:PT1H
BEGIN:VTIMEZONE
TZID:America/Los_Angeles
BEGIN:DAYLIGHT
TZOFFSETFROM:-0800
TZOFFSETTO:-0700
TZNAME:PDT
DTSTART:20170312T100000
END:DAYLIGHT
BEGIN:STANDARD
TZOFFSETFROM:-0700
TZOFFSETTO:-0800
TZNAME:PST
DTSTART:20171105T090000
END:STANDARD
BEGIN:DAYLIGHT
TZOFFSETFROM:-0800
TZOFFSETTO:-0700
TZNAME:PDT
DTSTART:20180311T100000
END:DAYLIGHT
BEGIN:STANDARD
TZOFFSETFROM:-0700
TZOFFSETTO:-0800
TZNAME:PST
DTSTART:20181104T090000
END:STANDARD
BEGIN:DAYLIGHT
TZOFFSETFROM:-0800
TZOFFSETTO:-0700
TZNAME:PDT
DTSTART:20190310T100000
END:DAYLIGHT
BEGIN:STANDARD
TZOFFSETFROM:-0700
TZOFFSETTO:-0800
TZNAME:PST
DTSTART:20191103T090000
END:STANDARD
BEGIN:DAYLIGHT
TZOFFSETFROM:-0800
TZOFFSETTO:-0700
TZNAME:PDT
DTSTART:20200308T100000
END:DAYLIGHT
BEGIN:STANDARD
TZOFFSETFROM:-0700
TZOFFSETTO:-0800
TZNAME:PST
DTSTART:20201101T090000
END:STANDARD
BEGIN:DAYLIGHT
TZOFFSETFROM:-0800
TZOFFSETTO:-0700
TZNAME:PDT
DTSTART:20210314T100000
END:DAYLIGHT
BEGIN:STANDARD
TZOFFSETFROM:-0700
TZOFFSETTO:-0800
TZNAME:PST
DTSTART:20211107T090000
END:STANDARD
BEGIN:DAYLIGHT
TZOFFSETFROM:-0800
TZOFFSETTO:-0700
TZNAME:PDT
DTSTART:20220313T100000
END:DAYLIGHT
BEGIN:STANDARD
TZOFFSETFROM:-0700
TZOFFSETTO:-0800
TZNAME:PST
DTSTART:20221106T090000
END:STANDARD
BEGIN:DAYLIGHT
TZOFFSETFROM:-0800
TZOFFSETTO:-0700
TZNAME:PDT
DTSTART:20230312T100000
END:DAYLIGHT
BEGIN:STANDARD
TZOFFSETFROM:-0700
TZOFFSETTO:-0800
TZNAME:PST
DTSTART:20231105T090000
END:STANDARD
BEGIN:DAYLIGHT
TZOFFSETFROM:-0800
TZOFFSETTO:-0700
TZNAME:PDT
DTSTART:20240310T100000
END:DAYLIGHT
BEGIN:STANDARD
TZOFFSETFROM:-0700
TZOFFSETTO:-0800
TZNAME:PST
DTSTART:20241103T090000
END:STANDARD
BEGIN:DAYLIGHT
TZOFFSETFROM:-0800
TZOFFSETTO:-0700
TZNAME:PDT
DTSTART:20250309T100000
END:DAYLIGHT
BEGIN:STANDARD
TZOFFSETFROM:-0700
TZOFFSETTO:-0800
TZNAME:PST
DTSTART:20251102T090000
END:STANDARD
BEGIN:DAYLIGHT
TZOFFSETFROM:-0800
TZOFFSETTO:-0700
TZNAME:PDT
DTSTART:20260308T100000
END:DAYLIGHT
BEGIN:STANDARD
TZOFFSETFROM:-0700
TZOFFSETTO:-0800
TZNAME:PST
DTSTART:20261101T090000
END:STANDARD
END:VTIMEZONE
BEGIN:VTIMEZONE
TZID:UTC
BEGIN:STANDARD
TZOFFSETFROM:+0000
TZOFFSETTO:+0000
TZNAME:UTC
DTSTART:20180101T000000
END:STANDARD
END:VTIMEZONE
BEGIN:VEVENT
DTSTART;TZID=America/Los_Angeles:20250726T180000
DTEND;TZID=America/Los_Angeles:20250726T210000
DTSTAMP:20260423T014514
CREATED:20250606T183740Z
LAST-MODIFIED:20250718T213553Z
UID:10004032-1753552800-1753563600@elynevada.net
SUMMARY:Ely Lions 100th Year Anniversary Celebration
DESCRIPTION:Ely Lions 100th Year Anniversary Celebration\nThe Ely Lions Club was founded in 1925\, so dress in your best Roaring ’20s attire and celebrate the Ely Lions 100th Anniversary with dinner\, drinks\, live music and more.\nParty will be held at the Nevada Northern Railway East Ely Depot Freight Barn.
URL:https://elynevada.net/event/ely-lions-100th-year-anniversary-celebration/
LOCATION:Freight Barn East Ely Depot\, 1100 Avenue A\, Ely\, NV\, 89301\, United States
CATEGORIES:Party
ATTACH;FMTTYPE=image/jpeg:https://elynevada.net/wp-content/uploads/2025/06/Lions-anniversary-costume-party-cover.jpg
ORGANIZER;CN="Ely Lions Club":MAILTO:elylions@hotmail.com
END:VEVENT
BEGIN:VEVENT
DTSTART;TZID=UTC:20230714T173000
DTEND;TZID=UTC:20230714T210000
DTSTAMP:20260423T014514
CREATED:20220701T061436Z
LAST-MODIFIED:20230602T054110Z
UID:10000457-1689355800-1689368400@elynevada.net
SUMMARY:BBQ\, Brew & Auction Too
DESCRIPTION:BBQ\, Brew & Auction Too\nWe hope to see you at the Smokin’ Good BBQ\, presented by Chapter C\, P.E.O. and is a fundraiser for scholarships and projects. Reserve your seat and get your tickets now! Tickets are available at the White Pine Chamber of Commerce\, Economy Drug\, or any Chapter C. P.E.O. Member. \nWhen? Friday\, July 14\, 2023 \nDrinks at 5:30 p.m. \nDinner starts at 6:00 p.m. \nWhere? The Nevada Northern Railway Barn \nTickets are $30 per Person. Tickets include 1 drink ticket for wine or beer\, BBQ dinner\, auction\, souvenir mug and raffle tickets.
URL:https://elynevada.net/event/bbq-brew-auction-too/
LOCATION:Freight Barn East Ely Depot\, 1100 Avenue A\, Ely\, NV\, 89301\, United States
CATEGORIES:Community
END:VEVENT
BEGIN:VEVENT
DTSTART;TZID=UTC:20190510T130000
DTEND;TZID=UTC:20190510T200000
DTSTAMP:20260423T014514
CREATED:20190416T095706Z
LAST-MODIFIED:20190416T095722Z
UID:10000130-1557493200-1557518400@elynevada.net
SUMMARY:150th Anniversary of Transcontinental Railroad Celebration
DESCRIPTION:On May 10th\, 150 years ago the Transcontinental Railroad was completed connecting the nation from coast to coast forever changing the way we moved around the country. Ely will join the rest of the country in celebrating this momentous historic event in it’s own way on May 10\, 2019 with live music\, train rides\, exhibitions\, talks and more. The first train leaves at 1 pm and returns just in time for the “Joining Of The Rails Ceremony” where both locomotives will pull up nose-to-nose and a copper spike will be driven just like at Promontory Point 150 years ago. A double locomotive train ride will go out at 4:30 pm and return just in time for a FREE concert at the Freight Barn starting at 6:30 pm with the Bar D Wranglers from Durango\, Colorado. The evening will be filled with music\, stories\, and comedy from the old west.
URL:https://elynevada.net/event/150th-anniversary-of-transcontinental-railroad-celebration/
LOCATION:Freight Barn East Ely Depot\, 1100 Avenue A\, Ely\, NV\, 89301\, United States
CATEGORIES:Arts & Culture,History
ATTACH;FMTTYPE=image/jpeg:https://elynevada.net/wp-content/uploads/2019/04/cc_150thAnniv_Poster_8.5x11-e1555383386313.jpg
END:VEVENT
BEGIN:VEVENT
DTSTART;TZID=America/Los_Angeles:20181025T190000
DTEND;TZID=America/Los_Angeles:20181025T210000
DTSTAMP:20260423T014514
CREATED:20181017T023252Z
LAST-MODIFIED:20181017T024906Z
UID:10000032-1540494000-1540501200@elynevada.net
SUMMARY:Fall Food Drive w/ Southern Drawl Band
DESCRIPTION:Get ready to kick up your heels for a great cause. Southern Drawl Band from Nashville\, Tennessee is coming to the Freight Barn\, located at the railway\, on Thursday October 25th from 7pm – 9pm. This is a food drive/fundraiser where White Pine County Tour and Rec has partnered with White Pine County Social Services and the C.A.C.H (Committee Against Child Hunger) program to fill the food pantries for our local children and seniors going into the holiday season. This concert is FREE to patrons who donate needed nonperishable items requested by the 2 organizations. Suggested value of $20. Cash donations will be accepted as well and there will be a 50/50 raffle to benefit both organizations. Check out the band in the posts below. You are not going to want to miss this show. Bring the entire family out for this community concert that kicks off the Nevada Day/Halloween weekend of events.
URL:https://elynevada.net/event/southerndrawlband/
LOCATION:Freight Barn East Ely Depot\, 1100 Avenue A\, Ely\, NV\, 89301\, United States
CATEGORIES:Arts & Culture
ATTACH;FMTTYPE=image/jpeg:https://elynevada.net/wp-content/uploads/2018/10/1921103_832871403409175_2104595753_o.jpg
END:VEVENT
END:VCALENDAR