BEGIN:VCALENDAR
VERSION:2.0
PRODID:-//Welcome To Ely - ECPv6.15.20//NONSGML v1.0//EN
CALSCALE:GREGORIAN
METHOD:PUBLISH
X-ORIGINAL-URL:https://elynevada.net
X-WR-CALDESC:Events for Welcome To Ely
REFRESH-INTERVAL;VALUE=DURATION:PT1H
X-Robots-Tag:noindex
X-PUBLISHED-TTL:PT1H
BEGIN:VTIMEZONE
TZID:America/Los_Angeles
BEGIN:DAYLIGHT
TZOFFSETFROM:-0800
TZOFFSETTO:-0700
TZNAME:PDT
DTSTART:20230312T100000
END:DAYLIGHT
BEGIN:STANDARD
TZOFFSETFROM:-0700
TZOFFSETTO:-0800
TZNAME:PST
DTSTART:20231105T090000
END:STANDARD
BEGIN:DAYLIGHT
TZOFFSETFROM:-0800
TZOFFSETTO:-0700
TZNAME:PDT
DTSTART:20240310T100000
END:DAYLIGHT
BEGIN:STANDARD
TZOFFSETFROM:-0700
TZOFFSETTO:-0800
TZNAME:PST
DTSTART:20241103T090000
END:STANDARD
BEGIN:DAYLIGHT
TZOFFSETFROM:-0800
TZOFFSETTO:-0700
TZNAME:PDT
DTSTART:20250309T100000
END:DAYLIGHT
BEGIN:STANDARD
TZOFFSETFROM:-0700
TZOFFSETTO:-0800
TZNAME:PST
DTSTART:20251102T090000
END:STANDARD
END:VTIMEZONE
BEGIN:VEVENT
DTSTART;TZID=America/Los_Angeles:20240322T190000
DTEND;TZID=America/Los_Angeles:20240322T210000
DTSTAMP:20260423T081345
CREATED:20240305T035854Z
LAST-MODIFIED:20240321T181124Z
UID:10001818-1711134000-1711141200@elynevada.net
SUMMARY:Annual Music Night
DESCRIPTION:Annual Music Night\nAnnual Music Night at the Kinnear Library/Cultural Center
URL:https://elynevada.net/event/annual-music-night/
LOCATION:Kinnear Library/Cultural Center\, 4 North Fourth Street\, Mcgill\, NV\, 89318\, United States
CATEGORIES:Arts & Culture
ATTACH;FMTTYPE=image/jpeg:https://elynevada.net/wp-content/uploads/2024/03/Rough-Kinear-Library-poster-2024.jpg
END:VEVENT
END:VCALENDAR