BEGIN:VCALENDAR
VERSION:2.0
PRODID:-//Welcome To Ely - ECPv6.15.20//NONSGML v1.0//EN
CALSCALE:GREGORIAN
METHOD:PUBLISH
X-ORIGINAL-URL:https://elynevada.net
X-WR-CALDESC:Events for Welcome To Ely
REFRESH-INTERVAL;VALUE=DURATION:PT1H
X-Robots-Tag:noindex
X-PUBLISHED-TTL:PT1H
BEGIN:VTIMEZONE
TZID:America/Los_Angeles
BEGIN:DAYLIGHT
TZOFFSETFROM:-0800
TZOFFSETTO:-0700
TZNAME:PDT
DTSTART:20230312T100000
END:DAYLIGHT
BEGIN:STANDARD
TZOFFSETFROM:-0700
TZOFFSETTO:-0800
TZNAME:PST
DTSTART:20231105T090000
END:STANDARD
BEGIN:DAYLIGHT
TZOFFSETFROM:-0800
TZOFFSETTO:-0700
TZNAME:PDT
DTSTART:20240310T100000
END:DAYLIGHT
BEGIN:STANDARD
TZOFFSETFROM:-0700
TZOFFSETTO:-0800
TZNAME:PST
DTSTART:20241103T090000
END:STANDARD
BEGIN:DAYLIGHT
TZOFFSETFROM:-0800
TZOFFSETTO:-0700
TZNAME:PDT
DTSTART:20250309T100000
END:DAYLIGHT
BEGIN:STANDARD
TZOFFSETFROM:-0700
TZOFFSETTO:-0800
TZNAME:PST
DTSTART:20251102T090000
END:STANDARD
END:VTIMEZONE
BEGIN:VTIMEZONE
TZID:UTC
BEGIN:STANDARD
TZOFFSETFROM:+0000
TZOFFSETTO:+0000
TZNAME:UTC
DTSTART:20210101T000000
END:STANDARD
END:VTIMEZONE
BEGIN:VEVENT
DTSTART;VALUE=DATE:20240830
DTEND;VALUE=DATE:20240902
DTSTAMP:20260423T100704
CREATED:20200710T060533Z
LAST-MODIFIED:20240813T174120Z
UID:10000131-1724976000-1725235199@elynevada.net
SUMMARY:McGill's Annual Labor Day Weekend
DESCRIPTION:McGill’s Annual Labor Day Weekend\nCome join the White Pine Community in McGill to celebrate McGill’s Annual Labor Day weekend. \n \nWe will be kicking off the festivities with a parade on Main Street. Line up for the parade will be behind the McGill grade school at 5:30 p.m. . The parade will start at 4th and Avenue G and go to 4th and Avenue K where the street dance will begin. There will be locals selling food! The McGill volunteer fire department will have a full bar set up for your enjoyment. Please drink responsibly. The street dance will go from 6:30 p.m. to 11 pm. \nSaturday at the McGill Swimming Pool there will be the annual “Big Splash” town barbecue starting at 11 a.m. The McGill town council has provided free hot dogs and hamburgers for the community . We will also have vendor booths\, a bounce house for all kids to enjoy and other activities. Please remember the McGill Swimming Pool is free and they have they’re big splash for the end of summer with all kind of games for children. \nSunday starting at 4:00 p.m. at the McGill baseball park we will have our softball game McGill fire department vs White Pine County Sheriff’s Office. There is a $2 gate fee all proceeds will go to the MRA for the ballpark fund. Fireworks will be provided by Great Basin Pyrotechnics at 9 p.m. at the McGill ballpark. We hope to see you all there! \n \nFind Out What More To Do In White Pine HERE!
URL:https://elynevada.net/event/mcgills-annual-labor-day-weekend/
LOCATION:McGill\, Nevada\, McGill\, NV\, 89318\, United States
CATEGORIES:Arts & Culture,Community,History
ATTACH;FMTTYPE=image/png:https://elynevada.net/wp-content/uploads/2020/07/Copy-of-Untitled-Design-9.png
END:VEVENT
BEGIN:VEVENT
DTSTART;TZID=UTC:20220904T160000
DTEND;TZID=UTC:20220904T213000
DTSTAMP:20260423T100704
CREATED:20220816T033106Z
LAST-MODIFIED:20220817T033032Z
UID:10000472-1662307200-1662327000@elynevada.net
SUMMARY:McGill Labor Day Celebration
DESCRIPTION:McGill Labor Day Celebration\nCome join the White Pine Community for the McGill Labor Day Celebration! \nThe festivities will be kicked of with a parade on Main Street. Line up for the parade will be behind the McGill grade school at 5:30 p.m. The parade will start at 4th and Avenue G and go to 4th and Avenue K where the street dance will begin. There will be locals selling food! The McGill Volunteer Fire Department will have a full bar set up for your enjoyment. Please drink responsibly. The street dance will go from 6:30 p.m. to 11 pm. \nSaturday at the McGill Swimming Pool there will be the annual “Big Splash” town barbecue starting at 11 a.m. The McGill town council has provided free hot dogs and hamburgers for the community. There will also have vendor booths\, a bounce house for all kids to enjoy and other activities. Please remember the McGill Swimming Pool is free and they have they’re big splash for the end of summer with all kinds of games for children. \nSunday starting at 4:00 p.m. at the McGill baseball park we will have our softball game McGill fire department vs White Pine County Sheriff’s Office. There is a $2 gate fee all proceeds will go to the MRA for the ballpark fund. Fireworks will be provided by Great Basin Pyrotechnics at 9 p.m.\, shooting from the Kennecott tailings just below McGill and to the west. People can still gather at the baseball fields for possibly a good view. We hope to see you all there! \nLearn More About White Pine County HERE!
URL:https://elynevada.net/event/mcgill-labor-day-celebration/2022-09-04/
LOCATION:McGill\, Nevada\, McGill\, NV\, 89318\, United States
CATEGORIES:Community
ATTACH;FMTTYPE=image/png:https://elynevada.net/wp-content/uploads/2022/08/McGill-Labor-Day-Celebration-1.png
END:VEVENT
BEGIN:VEVENT
DTSTART;TZID=UTC:20220903T110000
DTEND;TZID=UTC:20220903T180000
DTSTAMP:20260423T100704
CREATED:20220816T033106Z
LAST-MODIFIED:20220817T033032Z
UID:10000471-1662202800-1662228000@elynevada.net
SUMMARY:McGill Labor Day Celebration
DESCRIPTION:McGill Labor Day Celebration\nCome join the White Pine Community for the McGill Labor Day Celebration! \nThe festivities will be kicked of with a parade on Main Street. Line up for the parade will be behind the McGill grade school at 5:30 p.m. The parade will start at 4th and Avenue G and go to 4th and Avenue K where the street dance will begin. There will be locals selling food! The McGill Volunteer Fire Department will have a full bar set up for your enjoyment. Please drink responsibly. The street dance will go from 6:30 p.m. to 11 pm. \nSaturday at the McGill Swimming Pool there will be the annual “Big Splash” town barbecue starting at 11 a.m. The McGill town council has provided free hot dogs and hamburgers for the community. There will also have vendor booths\, a bounce house for all kids to enjoy and other activities. Please remember the McGill Swimming Pool is free and they have they’re big splash for the end of summer with all kinds of games for children. \nSunday starting at 4:00 p.m. at the McGill baseball park we will have our softball game McGill fire department vs White Pine County Sheriff’s Office. There is a $2 gate fee all proceeds will go to the MRA for the ballpark fund. Fireworks will be provided by Great Basin Pyrotechnics at 9 p.m.\, shooting from the Kennecott tailings just below McGill and to the west. People can still gather at the baseball fields for possibly a good view. We hope to see you all there! \nLearn More About White Pine County HERE!
URL:https://elynevada.net/event/mcgill-labor-day-celebration/2022-09-03/
LOCATION:McGill\, Nevada\, McGill\, NV\, 89318\, United States
CATEGORIES:Community
ATTACH;FMTTYPE=image/png:https://elynevada.net/wp-content/uploads/2022/08/McGill-Labor-Day-Celebration-1.png
END:VEVENT
BEGIN:VEVENT
DTSTART;TZID=UTC:20220902T173000
DTEND;TZID=UTC:20220902T230000
DTSTAMP:20260423T100704
CREATED:20220816T033106Z
LAST-MODIFIED:20220817T033032Z
UID:10000470-1662139800-1662159600@elynevada.net
SUMMARY:McGill Labor Day Celebration
DESCRIPTION:McGill Labor Day Celebration\nCome join the White Pine Community for the McGill Labor Day Celebration! \nThe festivities will be kicked of with a parade on Main Street. Line up for the parade will be behind the McGill grade school at 5:30 p.m. The parade will start at 4th and Avenue G and go to 4th and Avenue K where the street dance will begin. There will be locals selling food! The McGill Volunteer Fire Department will have a full bar set up for your enjoyment. Please drink responsibly. The street dance will go from 6:30 p.m. to 11 pm. \nSaturday at the McGill Swimming Pool there will be the annual “Big Splash” town barbecue starting at 11 a.m. The McGill town council has provided free hot dogs and hamburgers for the community. There will also have vendor booths\, a bounce house for all kids to enjoy and other activities. Please remember the McGill Swimming Pool is free and they have they’re big splash for the end of summer with all kinds of games for children. \nSunday starting at 4:00 p.m. at the McGill baseball park we will have our softball game McGill fire department vs White Pine County Sheriff’s Office. There is a $2 gate fee all proceeds will go to the MRA for the ballpark fund. Fireworks will be provided by Great Basin Pyrotechnics at 9 p.m.\, shooting from the Kennecott tailings just below McGill and to the west. People can still gather at the baseball fields for possibly a good view. We hope to see you all there! \nLearn More About White Pine County HERE!
URL:https://elynevada.net/event/mcgill-labor-day-celebration/2022-09-02/
LOCATION:McGill\, Nevada\, McGill\, NV\, 89318\, United States
CATEGORIES:Community
ATTACH;FMTTYPE=image/png:https://elynevada.net/wp-content/uploads/2022/08/McGill-Labor-Day-Celebration-1.png
END:VEVENT
END:VCALENDAR