BEGIN:VCALENDAR
VERSION:2.0
PRODID:-//Welcome To Ely - ECPv6.15.20//NONSGML v1.0//EN
CALSCALE:GREGORIAN
METHOD:PUBLISH
X-WR-CALNAME:Welcome To Ely
X-ORIGINAL-URL:https://elynevada.net
X-WR-CALDESC:Events for Welcome To Ely
REFRESH-INTERVAL;VALUE=DURATION:PT1H
X-Robots-Tag:noindex
X-PUBLISHED-TTL:PT1H
BEGIN:VTIMEZONE
TZID:America/Los_Angeles
BEGIN:DAYLIGHT
TZOFFSETFROM:-0800
TZOFFSETTO:-0700
TZNAME:PDT
DTSTART:20240310T100000
END:DAYLIGHT
BEGIN:STANDARD
TZOFFSETFROM:-0700
TZOFFSETTO:-0800
TZNAME:PST
DTSTART:20241103T090000
END:STANDARD
BEGIN:DAYLIGHT
TZOFFSETFROM:-0800
TZOFFSETTO:-0700
TZNAME:PDT
DTSTART:20250309T100000
END:DAYLIGHT
BEGIN:STANDARD
TZOFFSETFROM:-0700
TZOFFSETTO:-0800
TZNAME:PST
DTSTART:20251102T090000
END:STANDARD
BEGIN:DAYLIGHT
TZOFFSETFROM:-0800
TZOFFSETTO:-0700
TZNAME:PDT
DTSTART:20260308T100000
END:DAYLIGHT
BEGIN:STANDARD
TZOFFSETFROM:-0700
TZOFFSETTO:-0800
TZNAME:PST
DTSTART:20261101T090000
END:STANDARD
END:VTIMEZONE
BEGIN:VTIMEZONE
TZID:UTC
BEGIN:STANDARD
TZOFFSETFROM:+0000
TZOFFSETTO:+0000
TZNAME:UTC
DTSTART:20210101T000000
END:STANDARD
END:VTIMEZONE
BEGIN:VEVENT
DTSTART;TZID=America/Los_Angeles:20250627T210000
DTEND;TZID=America/Los_Angeles:20250627T230000
DTSTAMP:20260423T101010
CREATED:20250605T193225Z
LAST-MODIFIED:20250609T174846Z
UID:10004028-1751058000-1751065200@elynevada.net
SUMMARY:In Real Light Projection Art
DESCRIPTION:In Real Light Projection Art\nMark your calendars for multiple dates this month for In Real Light Projection Art! Witness White Pine County from a different lens with projection art on historic buildings throughout the county. \nThese are unique art exhibitions and social events made to be seen in person! \nDates and Locations: \nJune 13th\, 9:00pm – Ely Renaissance Village \nJune 20th\, 9:00pm – Ward Charcoal Ovens \nJune 27th\, 9:00pm – Stargazer Inn\, Baker \nJuly 5th\, 9:00pm – Nevada Northern Railway \nThese projection art events are designed and provided by artist and curator Brett Phares of aweStruct. \nAbout Brett Phares: \naweStruct was founded by Brett Phares\, an artist and curator working in immersive art and the built environment. With over 20 years in interactive media\, he’s led projects globally and co-founded the acclaimed Digital Graffiti festival. He holds advanced degrees from Hunter College\, Stony Brook University\, and has pursued studies in innovation and public health at MIT Sloan and Harvard Medical School\, highlighting his expertise in cultural experience design and community wellbeing. \n \n  \nFollow Updates\, Details\, and Videos About these events on our Facebook HERE!\n\nWe're Planning a 4-Day Independence Festival for July! Learn More About Red\, White Pine\, and Blue HERE!
URL:https://elynevada.net/event/in-real-light-projection-art-3/
LOCATION:Stargazer Inn\, 115 S. Baker Ave.\, Baker\, NV\, 89311\, United States
CATEGORIES:Arts & Culture,Community
ATTACH;FMTTYPE=image/jpeg:https://elynevada.net/wp-content/uploads/2025/06/In-Real-Light-Stargazer-Inn-Event-Cover.jpg
ORGANIZER;CN="White PIne County Tourism and Recreation":MAILTO:nicole.collard@elynevada.net
END:VEVENT
BEGIN:VEVENT
DTSTART;TZID=UTC:20230122T140000
DTEND;TZID=UTC:20230122T160000
DTSTAMP:20260423T101010
CREATED:20221108T064418Z
LAST-MODIFIED:20230119T074346Z
UID:10000518-1674396000-1674403200@elynevada.net
SUMMARY:GET BIT
DESCRIPTION:GET BIT: January at Bristlecone General Store in Baker\nCelebrate Chinese New Year with some festive activities and tasty samples of Chinese cuisine\, and wine. \n. WEAR RED! (New Year Good Luck color) \nPLUS… \nWe’ll have a 🔥 New Year’s Bonfire 🔥 in the backyard at 4pm. Bring something you want to release into the fire! (Letting go can be a liberating experience!)
URL:https://elynevada.net/event/get-bit/
LOCATION:Stargazer Inn\, 115 S. Baker Ave.\, Baker\, NV\, 89311\, United States
CATEGORIES:Arts & Culture,Community
ORGANIZER;CN="Bristlecone General Store":MAILTO:stay@stargazernevada.com
END:VEVENT
BEGIN:VEVENT
DTSTART;TZID=UTC:20221113T140000
DTEND;TZID=UTC:20221113T160000
DTSTAMP:20260423T101010
CREATED:20221108T063314Z
LAST-MODIFIED:20221108T063317Z
UID:10000495-1668348000-1668355200@elynevada.net
SUMMARY:GET KNIT
DESCRIPTION:Get Knit: Knitting & Craft Circle. Make a holiday craft to bring home (and drink wine!)
URL:https://elynevada.net/event/get-knit/
LOCATION:Stargazer Inn\, 115 S. Baker Ave.\, Baker\, NV\, 89311\, United States
CATEGORIES:Arts & Culture,Community
ORGANIZER;CN="Bristlecone General Store":MAILTO:stay@stargazernevada.com
END:VEVENT
END:VCALENDAR