BEGIN:VCALENDAR
VERSION:2.0
PRODID:-//Welcome To Ely - ECPv6.15.20//NONSGML v1.0//EN
CALSCALE:GREGORIAN
METHOD:PUBLISH
X-WR-CALNAME:Welcome To Ely
X-ORIGINAL-URL:https://elynevada.net
X-WR-CALDESC:Events for Welcome To Ely
REFRESH-INTERVAL;VALUE=DURATION:PT1H
X-Robots-Tag:noindex
X-PUBLISHED-TTL:PT1H
BEGIN:VTIMEZONE
TZID:UTC
BEGIN:STANDARD
TZOFFSETFROM:+0000
TZOFFSETTO:+0000
TZNAME:UTC
DTSTART:20180101T000000
END:STANDARD
END:VTIMEZONE
BEGIN:VEVENT
DTSTART;TZID=UTC:20190907T120000
DTEND;TZID=UTC:20190907T150000
DTSTAMP:20260423T044650
CREATED:20190814T072136Z
LAST-MODIFIED:20190814T072149Z
UID:10000054-1567857600-1567868400@elynevada.net
SUMMARY:The Whispering Elms
DESCRIPTION:14th Annual Whispering Elms Horseshoe Tournament. \nCome on out to the Whispering Elms in Baker\, Nevada. The horseshoe tournament begins at 12pm. Be ready to enjoy food and fun!
URL:https://elynevada.net/event/the-whispering-elms/
LOCATION:The Whispering Elms\, 12 Baker Ave.\, Baker\, NV\, 89311\, United States
CATEGORIES:Community,Sports
ATTACH;FMTTYPE=image/jpeg:https://elynevada.net/wp-content/uploads/2019/08/67876750_2500811886647329_4337026025239085056_n.jpg
END:VEVENT
END:VCALENDAR