BEGIN:VCALENDAR
VERSION:2.0
PRODID:-//Welcome To Ely - ECPv6.15.20//NONSGML v1.0//EN
CALSCALE:GREGORIAN
METHOD:PUBLISH
X-WR-CALNAME:Welcome To Ely
X-ORIGINAL-URL:https://elynevada.net
X-WR-CALDESC:Events for Welcome To Ely
REFRESH-INTERVAL;VALUE=DURATION:PT1H
X-Robots-Tag:noindex
X-PUBLISHED-TTL:PT1H
BEGIN:VTIMEZONE
TZID:America/Los_Angeles
BEGIN:DAYLIGHT
TZOFFSETFROM:-0800
TZOFFSETTO:-0700
TZNAME:PDT
DTSTART:20230312T100000
END:DAYLIGHT
BEGIN:STANDARD
TZOFFSETFROM:-0700
TZOFFSETTO:-0800
TZNAME:PST
DTSTART:20231105T090000
END:STANDARD
BEGIN:DAYLIGHT
TZOFFSETFROM:-0800
TZOFFSETTO:-0700
TZNAME:PDT
DTSTART:20240310T100000
END:DAYLIGHT
BEGIN:STANDARD
TZOFFSETFROM:-0700
TZOFFSETTO:-0800
TZNAME:PST
DTSTART:20241103T090000
END:STANDARD
BEGIN:DAYLIGHT
TZOFFSETFROM:-0800
TZOFFSETTO:-0700
TZNAME:PDT
DTSTART:20250309T100000
END:DAYLIGHT
BEGIN:STANDARD
TZOFFSETFROM:-0700
TZOFFSETTO:-0800
TZNAME:PST
DTSTART:20251102T090000
END:STANDARD
BEGIN:DAYLIGHT
TZOFFSETFROM:-0800
TZOFFSETTO:-0700
TZNAME:PDT
DTSTART:20260308T100000
END:DAYLIGHT
BEGIN:STANDARD
TZOFFSETFROM:-0700
TZOFFSETTO:-0800
TZNAME:PST
DTSTART:20261101T090000
END:STANDARD
END:VTIMEZONE
BEGIN:VEVENT
DTSTART;TZID=America/Los_Angeles:20251011T080000
DTEND;TZID=America/Los_Angeles:20251011T160000
DTSTAMP:20260422T221208
CREATED:20250902T194527Z
LAST-MODIFIED:20250902T194544Z
UID:10004053-1760169600-1760198400@elynevada.net
SUMMARY:Ward Mtn. Ramble Disc Golf Tournament
DESCRIPTION:Ward Mtn. Ramble Disc Golf Tournament\nThe second annual PDGA sanctioned Ward Mtn. Ramble Disc Golf Tournament at Ward Mountain Disc Golf Course in Ely\, Nevada! \nWhite Pine County Tourism and Recreation and the Ely Disc Golf Club are hosting 2 rounds of 18 holes in one day. Escape the heat and come to this high elevation mountain course at a great time of year. \nThis event is a fundraiser for continued course improvements. Player’s Packs include great prizes\, including a tournament stamp Prodigy event disc\, sponsor gifts\, and a ticket for a steam train ride at the Nevada Northern Railway. \nRegister in advance online at Disc Golf Scene: https://bit.ly/412hNw0 \n \nElyNevada.net for visitor information.
URL:https://elynevada.net/event/ward-mtn-ramble-disc-golf-tournament/
LOCATION:Ward Mountain BLM Recreation Area\, Co Rte 44A\, Ruth\, NV\, 89319\, United States
CATEGORIES:Community,Fundraiser,Sports
ATTACH;FMTTYPE=image/jpeg:https://elynevada.net/wp-content/uploads/2025/09/CC_WARD_MTN_RAMBLE_DISC_FACEBOOK_9.1.25.jpg
ORGANIZER;CN="White PIne County Tourism and Recreation":MAILTO:nicole.collard@elynevada.net
END:VEVENT
BEGIN:VEVENT
DTSTART;TZID=America/Los_Angeles:20250621T060000
DTEND;TZID=America/Los_Angeles:20250621T120000
DTSTAMP:20260422T221208
CREATED:20250128T211518Z
LAST-MODIFIED:20250128T211519Z
UID:10003429-1750485600-1750507200@elynevada.net
SUMMARY:Ward Mountain Trail Run 2025
DESCRIPTION:Ward Mountain Trail Run 2025\nThe Ward Mountain Trail Run 2025 on June 21st starts and ends at the Ward Mountain Campground in Ely\, Nevada. Choose from 2+\, 5+\, 8+\,13+ and new 26 mile courses that wind through mostly sing-track trails of Ward Mountain. You don’t want to miss this race with outstanding trails and scenery! Register quickly because this event closes at 100 participants!\nDogs will be permitted for an extra $5. One dog per participant of 13 years or older. Specific rules apply for those running with dogs.\nFor event details visit our website at:www.elyoutdoorenthusiasts.org
URL:https://elynevada.net/event/ward-mountain-trail-run-2025/
LOCATION:Ward Mountain BLM Recreation Area\, Co Rte 44A\, Ruth\, NV\, 89319\, United States
CATEGORIES:Community,Sports
ATTACH;FMTTYPE=image/jpeg:https://elynevada.net/wp-content/uploads/2025/01/Ward-Mountain-Rail-Run-2025.jpg
END:VEVENT
BEGIN:VEVENT
DTSTART;TZID=America/Los_Angeles:20240720T080000
DTEND;TZID=America/Los_Angeles:20240720T160000
DTSTAMP:20260422T221208
CREATED:20240619T211125Z
LAST-MODIFIED:20240619T211128Z
UID:10002830-1721462400-1721491200@elynevada.net
SUMMARY:Ward Mountain Ramble Disc Golf Tournament
DESCRIPTION:Ward Mountain Ramble Disc Golf Tournament\nThe inaugural PDGA sanctioned Ward Mountain Ramble Disc Golf Tournament at Ward Mountain Disc Golf Course in Ely\, Nevada! \nWhite Pine County Tourism and Recreation and Ely Disc Golf Club is hosting 2 rounds of 18 holes in one day. Escape the heat and come to this high elevation mountain course at a great time of year. \nThis event is a fundraiser for continued course improvements. Great players pack includes a tournament stamp Prodigy event disc\, sponsor gifts\, and a ticket for a steam train ride at the Nevada Northern Railway. \nRegister in advance online on Disc Golf Scene HERE! \nElyNevada.net for visitor information.
URL:https://elynevada.net/event/ward-mountain-ramble-disc-golf-tournament/
LOCATION:Ward Mountain BLM Recreation Area\, Co Rte 44A\, Ruth\, NV\, 89319\, United States
CATEGORIES:Community,Sports
ATTACH;FMTTYPE=image/png:https://elynevada.net/wp-content/uploads/2024/06/Ward-Mountain-Ramble-Disc-Golf-Tournament_Facebook-Cover.png
END:VEVENT
END:VCALENDAR