BEGIN:VCALENDAR
VERSION:2.0
PRODID:-//Welcome To Ely - ECPv6.15.20//NONSGML v1.0//EN
CALSCALE:GREGORIAN
METHOD:PUBLISH
X-WR-CALNAME:Welcome To Ely
X-ORIGINAL-URL:https://elynevada.net
X-WR-CALDESC:Events for Welcome To Ely
REFRESH-INTERVAL;VALUE=DURATION:PT1H
X-Robots-Tag:noindex
X-PUBLISHED-TTL:PT1H
BEGIN:VTIMEZONE
TZID:America/Los_Angeles
BEGIN:DAYLIGHT
TZOFFSETFROM:-0800
TZOFFSETTO:-0700
TZNAME:PDT
DTSTART:20240310T100000
END:DAYLIGHT
BEGIN:STANDARD
TZOFFSETFROM:-0700
TZOFFSETTO:-0800
TZNAME:PST
DTSTART:20241103T090000
END:STANDARD
BEGIN:DAYLIGHT
TZOFFSETFROM:-0800
TZOFFSETTO:-0700
TZNAME:PDT
DTSTART:20250309T100000
END:DAYLIGHT
BEGIN:STANDARD
TZOFFSETFROM:-0700
TZOFFSETTO:-0800
TZNAME:PST
DTSTART:20251102T090000
END:STANDARD
BEGIN:DAYLIGHT
TZOFFSETFROM:-0800
TZOFFSETTO:-0700
TZNAME:PDT
DTSTART:20260308T100000
END:DAYLIGHT
BEGIN:STANDARD
TZOFFSETFROM:-0700
TZOFFSETTO:-0800
TZNAME:PST
DTSTART:20261101T090000
END:STANDARD
END:VTIMEZONE
BEGIN:VEVENT
DTSTART;TZID=America/Los_Angeles:20250711T100000
DTEND;TZID=America/Los_Angeles:20250711T110000
DTSTAMP:20260424T205401
CREATED:20250228T002349Z
LAST-MODIFIED:20250228T002350Z
UID:10003837-1752228000-1752231600@elynevada.net
SUMMARY:WPC Library Chess Club
DESCRIPTION:WPC Library Chess Club\nSecond Friday
URL:https://elynevada.net/event/wpc-library-chess-club/2025-07-11/
LOCATION:White Pine County Library\, 950 Campton St\, Ely\, NV\, 89301\, United States
CATEGORIES:Community
ATTACH;FMTTYPE=image/jpeg:https://elynevada.net/wp-content/uploads/2024/02/liiiiiiiiiiiiiiiiibbbbbbbbbbbbbbbrrrrrrraaaaaaarrrrrrrrryyyyyyyyyyy.jpg
END:VEVENT
BEGIN:VEVENT
DTSTART;TZID=America/Los_Angeles:20250708T100000
DTEND;TZID=America/Los_Angeles:20250708T110000
DTSTAMP:20260424T205401
CREATED:20250227T234924Z
LAST-MODIFIED:20250227T234925Z
UID:10003776-1751968800-1751972400@elynevada.net
SUMMARY:Leaping Learners
DESCRIPTION:Leaping Learners\nAges 3 – 4 \nA Traditional Preschool Story Hour \n10am – 11am
URL:https://elynevada.net/event/leaping-learners-3/2025-07-08/
LOCATION:White Pine County Library\, 950 Campton St\, Ely\, NV\, 89301\, United States
CATEGORIES:Community
ATTACH;FMTTYPE=image/jpeg:https://elynevada.net/wp-content/uploads/2024/02/liiiiiiiiiiiiiiiiibbbbbbbbbbbbbbbrrrrrrraaaaaaarrrrrrrrryyyyyyyyyyy.jpg
END:VEVENT
BEGIN:VEVENT
DTSTART;TZID=America/Los_Angeles:20250701T100000
DTEND;TZID=America/Los_Angeles:20250701T110000
DTSTAMP:20260424T205401
CREATED:20250227T234924Z
LAST-MODIFIED:20250227T234925Z
UID:10003775-1751364000-1751367600@elynevada.net
SUMMARY:Leaping Learners
DESCRIPTION:Leaping Learners\nAges 3 – 4 \nA Traditional Preschool Story Hour \n10am – 11am
URL:https://elynevada.net/event/leaping-learners-3/2025-07-01/
LOCATION:White Pine County Library\, 950 Campton St\, Ely\, NV\, 89301\, United States
CATEGORIES:Community
ATTACH;FMTTYPE=image/jpeg:https://elynevada.net/wp-content/uploads/2024/02/liiiiiiiiiiiiiiiiibbbbbbbbbbbbbbbrrrrrrraaaaaaarrrrrrrrryyyyyyyyyyy.jpg
END:VEVENT
BEGIN:VEVENT
DTSTART;TZID=America/Los_Angeles:20250627T100000
DTEND;TZID=America/Los_Angeles:20250627T110000
DTSTAMP:20260424T205401
CREATED:20250228T003642Z
LAST-MODIFIED:20250228T003643Z
UID:10003856-1751018400-1751022000@elynevada.net
SUMMARY:WPC Library Lego Club
DESCRIPTION:WPC Library Lego Club\nFOURTH FRIDAY
URL:https://elynevada.net/event/wpc-library-lego-club/2025-06-27/
LOCATION:White Pine County Library\, 950 Campton St\, Ely\, NV\, 89301\, United States
CATEGORIES:Community
ATTACH;FMTTYPE=image/jpeg:https://elynevada.net/wp-content/uploads/2024/02/liiiiiiiiiiiiiiiiibbbbbbbbbbbbbbbrrrrrrraaaaaaarrrrrrrrryyyyyyyyyyy.jpg
END:VEVENT
BEGIN:VEVENT
DTSTART;TZID=America/Los_Angeles:20250624T100000
DTEND;TZID=America/Los_Angeles:20250624T110000
DTSTAMP:20260424T205401
CREATED:20250227T234924Z
LAST-MODIFIED:20250227T234925Z
UID:10003774-1750759200-1750762800@elynevada.net
SUMMARY:Leaping Learners
DESCRIPTION:Leaping Learners\nAges 3 – 4 \nA Traditional Preschool Story Hour \n10am – 11am
URL:https://elynevada.net/event/leaping-learners-3/2025-06-24/
LOCATION:White Pine County Library\, 950 Campton St\, Ely\, NV\, 89301\, United States
CATEGORIES:Community
ATTACH;FMTTYPE=image/jpeg:https://elynevada.net/wp-content/uploads/2024/02/liiiiiiiiiiiiiiiiibbbbbbbbbbbbbbbrrrrrrraaaaaaarrrrrrrrryyyyyyyyyyy.jpg
END:VEVENT
BEGIN:VEVENT
DTSTART;TZID=America/Los_Angeles:20250620T100000
DTEND;TZID=America/Los_Angeles:20250620T110000
DTSTAMP:20260424T205401
CREATED:20250228T003259Z
LAST-MODIFIED:20250228T003300Z
UID:10003852-1750413600-1750417200@elynevada.net
SUMMARY:WPC Library Game Day
DESCRIPTION:WPC Library Game Day\nTHIRD FRIDAY
URL:https://elynevada.net/event/wpc-library-game-day/2025-06-20/
LOCATION:White Pine County Library\, 950 Campton St\, Ely\, NV\, 89301\, United States
CATEGORIES:Community
ATTACH;FMTTYPE=image/jpeg:https://elynevada.net/wp-content/uploads/2024/02/liiiiiiiiiiiiiiiiibbbbbbbbbbbbbbbrrrrrrraaaaaaarrrrrrrrryyyyyyyyyyy.jpg
END:VEVENT
BEGIN:VEVENT
DTSTART;TZID=America/Los_Angeles:20250617T100000
DTEND;TZID=America/Los_Angeles:20250617T110000
DTSTAMP:20260424T205401
CREATED:20250227T234924Z
LAST-MODIFIED:20250227T234925Z
UID:10003773-1750154400-1750158000@elynevada.net
SUMMARY:Leaping Learners
DESCRIPTION:Leaping Learners\nAges 3 – 4 \nA Traditional Preschool Story Hour \n10am – 11am
URL:https://elynevada.net/event/leaping-learners-3/2025-06-17/
LOCATION:White Pine County Library\, 950 Campton St\, Ely\, NV\, 89301\, United States
CATEGORIES:Community
ATTACH;FMTTYPE=image/jpeg:https://elynevada.net/wp-content/uploads/2024/02/liiiiiiiiiiiiiiiiibbbbbbbbbbbbbbbrrrrrrraaaaaaarrrrrrrrryyyyyyyyyyy.jpg
END:VEVENT
BEGIN:VEVENT
DTSTART;TZID=America/Los_Angeles:20250613T100000
DTEND;TZID=America/Los_Angeles:20250613T110000
DTSTAMP:20260424T205401
CREATED:20250228T002349Z
LAST-MODIFIED:20250228T002350Z
UID:10003836-1749808800-1749812400@elynevada.net
SUMMARY:WPC Library Chess Club
DESCRIPTION:WPC Library Chess Club\nSecond Friday
URL:https://elynevada.net/event/wpc-library-chess-club/2025-06-13/
LOCATION:White Pine County Library\, 950 Campton St\, Ely\, NV\, 89301\, United States
CATEGORIES:Community
ATTACH;FMTTYPE=image/jpeg:https://elynevada.net/wp-content/uploads/2024/02/liiiiiiiiiiiiiiiiibbbbbbbbbbbbbbbrrrrrrraaaaaaarrrrrrrrryyyyyyyyyyy.jpg
END:VEVENT
BEGIN:VEVENT
DTSTART;TZID=America/Los_Angeles:20250610T100000
DTEND;TZID=America/Los_Angeles:20250610T110000
DTSTAMP:20260424T205401
CREATED:20250227T234924Z
LAST-MODIFIED:20250227T234925Z
UID:10003772-1749549600-1749553200@elynevada.net
SUMMARY:Leaping Learners
DESCRIPTION:Leaping Learners\nAges 3 – 4 \nA Traditional Preschool Story Hour \n10am – 11am
URL:https://elynevada.net/event/leaping-learners-3/2025-06-10/
LOCATION:White Pine County Library\, 950 Campton St\, Ely\, NV\, 89301\, United States
CATEGORIES:Community
ATTACH;FMTTYPE=image/jpeg:https://elynevada.net/wp-content/uploads/2024/02/liiiiiiiiiiiiiiiiibbbbbbbbbbbbbbbrrrrrrraaaaaaarrrrrrrrryyyyyyyyyyy.jpg
END:VEVENT
BEGIN:VEVENT
DTSTART;TZID=America/Los_Angeles:20250606T100000
DTEND;TZID=America/Los_Angeles:20250606T110000
DTSTAMP:20260424T205401
CREATED:20250228T002018Z
LAST-MODIFIED:20250228T002019Z
UID:10003832-1749204000-1749207600@elynevada.net
SUMMARY:WPC Library Craft Club
DESCRIPTION:WPC Library Craft Club\nFIRST FRIDAY\nA New Craft Every Month!
URL:https://elynevada.net/event/wpc-library-craft-club/2025-06-06/
LOCATION:White Pine County Library\, 950 Campton St\, Ely\, NV\, 89301\, United States
CATEGORIES:Arts & Culture,Community
ATTACH;FMTTYPE=image/jpeg:https://elynevada.net/wp-content/uploads/2024/02/liiiiiiiiiiiiiiiiibbbbbbbbbbbbbbbrrrrrrraaaaaaarrrrrrrrryyyyyyyyyyy.jpg
END:VEVENT
BEGIN:VEVENT
DTSTART;TZID=America/Los_Angeles:20250605T154500
DTEND;TZID=America/Los_Angeles:20250605T164500
DTSTAMP:20260424T205401
CREATED:20250227T233612Z
LAST-MODIFIED:20250227T233902Z
UID:10003727-1749138300-1749141900@elynevada.net
SUMMARY:A.T.L.A.S. Club
DESCRIPTION:A.T.L.A.S. Club\nAges 8-10
URL:https://elynevada.net/event/atlas-club-2-2/2025-06-05/
LOCATION:White Pine County Library\, 950 Campton St\, Ely\, NV\, 89301\, United States
CATEGORIES:Community
ATTACH;FMTTYPE=image/jpeg:https://elynevada.net/wp-content/uploads/2024/02/liiiiiiiiiiiiiiiiibbbbbbbbbbbbbbbrrrrrrraaaaaaarrrrrrrrryyyyyyyyyyy.jpg
END:VEVENT
BEGIN:VEVENT
DTSTART;TZID=America/Los_Angeles:20250605T120000
DTEND;TZID=America/Los_Angeles:20250605T130000
DTSTAMP:20260424T205401
CREATED:20250227T235930Z
LAST-MODIFIED:20250227T235931Z
UID:10003828-1749124800-1749128400@elynevada.net
SUMMARY:All Abilities Club
DESCRIPTION:All Abilities Club\nAdults with special needs welcome the community to join them in a club where everyone is welcome \n1st Thursday of Every Month \n12pm – 1pm
URL:https://elynevada.net/event/all-abilities-club/2025-06-05/
LOCATION:White Pine County Library\, 950 Campton St\, Ely\, NV\, 89301\, United States
CATEGORIES:Community
ATTACH;FMTTYPE=image/jpeg:https://elynevada.net/wp-content/uploads/2024/02/liiiiiiiiiiiiiiiiibbbbbbbbbbbbbbbrrrrrrraaaaaaarrrrrrrrryyyyyyyyyyy.jpg
END:VEVENT
BEGIN:VEVENT
DTSTART;TZID=America/Los_Angeles:20250604T153000
DTEND;TZID=America/Los_Angeles:20250604T180000
DTSTAMP:20260424T205401
CREATED:20240321T181558Z
LAST-MODIFIED:20250227T233310Z
UID:10003707-1749051000-1749060000@elynevada.net
SUMMARY:Tech Club
DESCRIPTION:Tech Club\nAges 7-10: 3:45 – 4:45 PM \nAges 11+: 4:45 – 5:45 PM \n 
URL:https://elynevada.net/event/tech-club-2/2025-06-04/
LOCATION:White Pine County Library\, 950 Campton St\, Ely\, NV\, 89301\, United States
CATEGORIES:Community
ATTACH;FMTTYPE=image/jpeg:https://elynevada.net/wp-content/uploads/2024/02/liiiiiiiiiiiiiiiiibbbbbbbbbbbbbbbrrrrrrraaaaaaarrrrrrrrryyyyyyyyyyy.jpg
END:VEVENT
BEGIN:VEVENT
DTSTART;TZID=America/Los_Angeles:20250603T153000
DTEND;TZID=America/Los_Angeles:20250603T180000
DTSTAMP:20260424T205401
CREATED:20250227T233715Z
LAST-MODIFIED:20250227T233716Z
UID:10003740-1748964600-1748973600@elynevada.net
SUMMARY:Roaring Readers
DESCRIPTION:Roaring Readers\nAges 5-7: 3:35-4:45 PM
URL:https://elynevada.net/event/roaring-readers-2-2/2025-06-03/
LOCATION:White Pine County Library\, 950 Campton St\, Ely\, NV\, 89301\, United States
CATEGORIES:Community
ATTACH;FMTTYPE=image/jpeg:https://elynevada.net/wp-content/uploads/2024/02/liiiiiiiiiiiiiiiiibbbbbbbbbbbbbbbrrrrrrraaaaaaarrrrrrrrryyyyyyyyyyy.jpg
END:VEVENT
BEGIN:VEVENT
DTSTART;TZID=America/Los_Angeles:20250603T153000
DTEND;TZID=America/Los_Angeles:20250603T170000
DTSTAMP:20260424T205401
CREATED:20250227T234032Z
LAST-MODIFIED:20250227T234153Z
UID:10003753-1748964600-1748970000@elynevada.net
SUMMARY:11 & Up Club
DESCRIPTION:11 & Up Club\n3:45 – 5 PM
URL:https://elynevada.net/event/11up-club-2-2/2025-06-03/
LOCATION:White Pine County Library\, 950 Campton St\, Ely\, NV\, 89301\, United States
CATEGORIES:Community
ATTACH;FMTTYPE=image/jpeg:https://elynevada.net/wp-content/uploads/2024/02/liiiiiiiiiiiiiiiiibbbbbbbbbbbbbbbrrrrrrraaaaaaarrrrrrrrryyyyyyyyyyy.jpg
END:VEVENT
BEGIN:VEVENT
DTSTART;TZID=America/Los_Angeles:20250603T100000
DTEND;TZID=America/Los_Angeles:20250603T110000
DTSTAMP:20260424T205401
CREATED:20250227T234924Z
LAST-MODIFIED:20250227T234925Z
UID:10003771-1748944800-1748948400@elynevada.net
SUMMARY:Leaping Learners
DESCRIPTION:Leaping Learners\nAges 3 – 4 \nA Traditional Preschool Story Hour \n10am – 11am
URL:https://elynevada.net/event/leaping-learners-3/2025-06-03/
LOCATION:White Pine County Library\, 950 Campton St\, Ely\, NV\, 89301\, United States
CATEGORIES:Community
ATTACH;FMTTYPE=image/jpeg:https://elynevada.net/wp-content/uploads/2024/02/liiiiiiiiiiiiiiiiibbbbbbbbbbbbbbbrrrrrrraaaaaaarrrrrrrrryyyyyyyyyyy.jpg
END:VEVENT
BEGIN:VEVENT
DTSTART;TZID=America/Los_Angeles:20250602T100000
DTEND;TZID=America/Los_Angeles:20250602T110000
DTSTAMP:20260424T205401
CREATED:20240321T181418Z
LAST-MODIFIED:20250227T232739Z
UID:10003697-1748858400-1748862000@elynevada.net
SUMMARY:Bouncing Bookworms
DESCRIPTION:Bouncing Bookworms\nAges 0-2: 10 – 11 AM
URL:https://elynevada.net/event/baby-bounce-2/2025-06-02/
LOCATION:White Pine County Library\, 950 Campton St\, Ely\, NV\, 89301\, United States
CATEGORIES:Community
ATTACH;FMTTYPE=image/jpeg:https://elynevada.net/wp-content/uploads/2024/02/liiiiiiiiiiiiiiiiibbbbbbbbbbbbbbbrrrrrrraaaaaaarrrrrrrrryyyyyyyyyyy.jpg
END:VEVENT
BEGIN:VEVENT
DTSTART;TZID=America/Los_Angeles:20250529T154500
DTEND;TZID=America/Los_Angeles:20250529T164500
DTSTAMP:20260424T205401
CREATED:20250227T233612Z
LAST-MODIFIED:20250227T233902Z
UID:10003725-1748533500-1748537100@elynevada.net
SUMMARY:A.T.L.A.S. Club
DESCRIPTION:A.T.L.A.S. Club\nAges 8-10
URL:https://elynevada.net/event/atlas-club-2-2/2025-05-29/
LOCATION:White Pine County Library\, 950 Campton St\, Ely\, NV\, 89301\, United States
CATEGORIES:Community
ATTACH;FMTTYPE=image/jpeg:https://elynevada.net/wp-content/uploads/2024/02/liiiiiiiiiiiiiiiiibbbbbbbbbbbbbbbrrrrrrraaaaaaarrrrrrrrryyyyyyyyyyy.jpg
END:VEVENT
BEGIN:VEVENT
DTSTART;TZID=America/Los_Angeles:20250528T153000
DTEND;TZID=America/Los_Angeles:20250528T180000
DTSTAMP:20260424T205401
CREATED:20240321T181558Z
LAST-MODIFIED:20250227T233310Z
UID:10003706-1748446200-1748455200@elynevada.net
SUMMARY:Tech Club
DESCRIPTION:Tech Club\nAges 7-10: 3:45 – 4:45 PM \nAges 11+: 4:45 – 5:45 PM \n 
URL:https://elynevada.net/event/tech-club-2/2025-05-28/
LOCATION:White Pine County Library\, 950 Campton St\, Ely\, NV\, 89301\, United States
CATEGORIES:Community
ATTACH;FMTTYPE=image/jpeg:https://elynevada.net/wp-content/uploads/2024/02/liiiiiiiiiiiiiiiiibbbbbbbbbbbbbbbrrrrrrraaaaaaarrrrrrrrryyyyyyyyyyy.jpg
END:VEVENT
BEGIN:VEVENT
DTSTART;TZID=America/Los_Angeles:20250527T153000
DTEND;TZID=America/Los_Angeles:20250527T180000
DTSTAMP:20260424T205401
CREATED:20250227T233715Z
LAST-MODIFIED:20250227T233716Z
UID:10003739-1748359800-1748368800@elynevada.net
SUMMARY:Roaring Readers
DESCRIPTION:Roaring Readers\nAges 5-7: 3:35-4:45 PM
URL:https://elynevada.net/event/roaring-readers-2-2/2025-05-27/
LOCATION:White Pine County Library\, 950 Campton St\, Ely\, NV\, 89301\, United States
CATEGORIES:Community
ATTACH;FMTTYPE=image/jpeg:https://elynevada.net/wp-content/uploads/2024/02/liiiiiiiiiiiiiiiiibbbbbbbbbbbbbbbrrrrrrraaaaaaarrrrrrrrryyyyyyyyyyy.jpg
END:VEVENT
BEGIN:VEVENT
DTSTART;TZID=America/Los_Angeles:20250527T153000
DTEND;TZID=America/Los_Angeles:20250527T170000
DTSTAMP:20260424T205401
CREATED:20250227T234032Z
LAST-MODIFIED:20250227T234153Z
UID:10003752-1748359800-1748365200@elynevada.net
SUMMARY:11 & Up Club
DESCRIPTION:11 & Up Club\n3:45 – 5 PM
URL:https://elynevada.net/event/11up-club-2-2/2025-05-27/
LOCATION:White Pine County Library\, 950 Campton St\, Ely\, NV\, 89301\, United States
CATEGORIES:Community
ATTACH;FMTTYPE=image/jpeg:https://elynevada.net/wp-content/uploads/2024/02/liiiiiiiiiiiiiiiiibbbbbbbbbbbbbbbrrrrrrraaaaaaarrrrrrrrryyyyyyyyyyy.jpg
END:VEVENT
BEGIN:VEVENT
DTSTART;TZID=America/Los_Angeles:20250527T100000
DTEND;TZID=America/Los_Angeles:20250527T110000
DTSTAMP:20260424T205401
CREATED:20250227T234924Z
LAST-MODIFIED:20250227T234925Z
UID:10003770-1748340000-1748343600@elynevada.net
SUMMARY:Leaping Learners
DESCRIPTION:Leaping Learners\nAges 3 – 4 \nA Traditional Preschool Story Hour \n10am – 11am
URL:https://elynevada.net/event/leaping-learners-3/2025-05-27/
LOCATION:White Pine County Library\, 950 Campton St\, Ely\, NV\, 89301\, United States
CATEGORIES:Community
ATTACH;FMTTYPE=image/jpeg:https://elynevada.net/wp-content/uploads/2024/02/liiiiiiiiiiiiiiiiibbbbbbbbbbbbbbbrrrrrrraaaaaaarrrrrrrrryyyyyyyyyyy.jpg
END:VEVENT
BEGIN:VEVENT
DTSTART;TZID=America/Los_Angeles:20250526T100000
DTEND;TZID=America/Los_Angeles:20250526T110000
DTSTAMP:20260424T205401
CREATED:20240321T181418Z
LAST-MODIFIED:20250227T232739Z
UID:10003696-1748253600-1748257200@elynevada.net
SUMMARY:Bouncing Bookworms
DESCRIPTION:Bouncing Bookworms\nAges 0-2: 10 – 11 AM
URL:https://elynevada.net/event/baby-bounce-2/2025-05-26/
LOCATION:White Pine County Library\, 950 Campton St\, Ely\, NV\, 89301\, United States
CATEGORIES:Community
ATTACH;FMTTYPE=image/jpeg:https://elynevada.net/wp-content/uploads/2024/02/liiiiiiiiiiiiiiiiibbbbbbbbbbbbbbbrrrrrrraaaaaaarrrrrrrrryyyyyyyyyyy.jpg
END:VEVENT
BEGIN:VEVENT
DTSTART;TZID=America/Los_Angeles:20250523T100000
DTEND;TZID=America/Los_Angeles:20250523T110000
DTSTAMP:20260424T205401
CREATED:20250228T003642Z
LAST-MODIFIED:20250228T003643Z
UID:10003855-1747994400-1747998000@elynevada.net
SUMMARY:WPC Library Lego Club
DESCRIPTION:WPC Library Lego Club\nFOURTH FRIDAY
URL:https://elynevada.net/event/wpc-library-lego-club/2025-05-23/
LOCATION:White Pine County Library\, 950 Campton St\, Ely\, NV\, 89301\, United States
CATEGORIES:Community
ATTACH;FMTTYPE=image/jpeg:https://elynevada.net/wp-content/uploads/2024/02/liiiiiiiiiiiiiiiiibbbbbbbbbbbbbbbrrrrrrraaaaaaarrrrrrrrryyyyyyyyyyy.jpg
END:VEVENT
BEGIN:VEVENT
DTSTART;TZID=America/Los_Angeles:20250522T154500
DTEND;TZID=America/Los_Angeles:20250522T164500
DTSTAMP:20260424T205401
CREATED:20250227T233612Z
LAST-MODIFIED:20250227T233902Z
UID:10003723-1747928700-1747932300@elynevada.net
SUMMARY:A.T.L.A.S. Club
DESCRIPTION:A.T.L.A.S. Club\nAges 8-10
URL:https://elynevada.net/event/atlas-club-2-2/2025-05-22/
LOCATION:White Pine County Library\, 950 Campton St\, Ely\, NV\, 89301\, United States
CATEGORIES:Community
ATTACH;FMTTYPE=image/jpeg:https://elynevada.net/wp-content/uploads/2024/02/liiiiiiiiiiiiiiiiibbbbbbbbbbbbbbbrrrrrrraaaaaaarrrrrrrrryyyyyyyyyyy.jpg
END:VEVENT
BEGIN:VEVENT
DTSTART;TZID=America/Los_Angeles:20250521T153000
DTEND;TZID=America/Los_Angeles:20250521T180000
DTSTAMP:20260424T205401
CREATED:20240321T181558Z
LAST-MODIFIED:20250227T233310Z
UID:10003705-1747841400-1747850400@elynevada.net
SUMMARY:Tech Club
DESCRIPTION:Tech Club\nAges 7-10: 3:45 – 4:45 PM \nAges 11+: 4:45 – 5:45 PM \n 
URL:https://elynevada.net/event/tech-club-2/2025-05-21/
LOCATION:White Pine County Library\, 950 Campton St\, Ely\, NV\, 89301\, United States
CATEGORIES:Community
ATTACH;FMTTYPE=image/jpeg:https://elynevada.net/wp-content/uploads/2024/02/liiiiiiiiiiiiiiiiibbbbbbbbbbbbbbbrrrrrrraaaaaaarrrrrrrrryyyyyyyyyyy.jpg
END:VEVENT
BEGIN:VEVENT
DTSTART;TZID=America/Los_Angeles:20250520T153000
DTEND;TZID=America/Los_Angeles:20250520T180000
DTSTAMP:20260424T205401
CREATED:20250227T233715Z
LAST-MODIFIED:20250227T233716Z
UID:10003738-1747755000-1747764000@elynevada.net
SUMMARY:Roaring Readers
DESCRIPTION:Roaring Readers\nAges 5-7: 3:35-4:45 PM
URL:https://elynevada.net/event/roaring-readers-2-2/2025-05-20/
LOCATION:White Pine County Library\, 950 Campton St\, Ely\, NV\, 89301\, United States
CATEGORIES:Community
ATTACH;FMTTYPE=image/jpeg:https://elynevada.net/wp-content/uploads/2024/02/liiiiiiiiiiiiiiiiibbbbbbbbbbbbbbbrrrrrrraaaaaaarrrrrrrrryyyyyyyyyyy.jpg
END:VEVENT
BEGIN:VEVENT
DTSTART;TZID=America/Los_Angeles:20250520T153000
DTEND;TZID=America/Los_Angeles:20250520T170000
DTSTAMP:20260424T205401
CREATED:20250227T234032Z
LAST-MODIFIED:20250227T234153Z
UID:10003751-1747755000-1747760400@elynevada.net
SUMMARY:11 & Up Club
DESCRIPTION:11 & Up Club\n3:45 – 5 PM
URL:https://elynevada.net/event/11up-club-2-2/2025-05-20/
LOCATION:White Pine County Library\, 950 Campton St\, Ely\, NV\, 89301\, United States
CATEGORIES:Community
ATTACH;FMTTYPE=image/jpeg:https://elynevada.net/wp-content/uploads/2024/02/liiiiiiiiiiiiiiiiibbbbbbbbbbbbbbbrrrrrrraaaaaaarrrrrrrrryyyyyyyyyyy.jpg
END:VEVENT
BEGIN:VEVENT
DTSTART;TZID=America/Los_Angeles:20250520T100000
DTEND;TZID=America/Los_Angeles:20250520T110000
DTSTAMP:20260424T205401
CREATED:20250227T234924Z
LAST-MODIFIED:20250227T234925Z
UID:10003769-1747735200-1747738800@elynevada.net
SUMMARY:Leaping Learners
DESCRIPTION:Leaping Learners\nAges 3 – 4 \nA Traditional Preschool Story Hour \n10am – 11am
URL:https://elynevada.net/event/leaping-learners-3/2025-05-20/
LOCATION:White Pine County Library\, 950 Campton St\, Ely\, NV\, 89301\, United States
CATEGORIES:Community
ATTACH;FMTTYPE=image/jpeg:https://elynevada.net/wp-content/uploads/2024/02/liiiiiiiiiiiiiiiiibbbbbbbbbbbbbbbrrrrrrraaaaaaarrrrrrrrryyyyyyyyyyy.jpg
END:VEVENT
BEGIN:VEVENT
DTSTART;TZID=America/Los_Angeles:20250519T100000
DTEND;TZID=America/Los_Angeles:20250519T110000
DTSTAMP:20260424T205401
CREATED:20240321T181418Z
LAST-MODIFIED:20250227T232739Z
UID:10003695-1747648800-1747652400@elynevada.net
SUMMARY:Bouncing Bookworms
DESCRIPTION:Bouncing Bookworms\nAges 0-2: 10 – 11 AM
URL:https://elynevada.net/event/baby-bounce-2/2025-05-19/
LOCATION:White Pine County Library\, 950 Campton St\, Ely\, NV\, 89301\, United States
CATEGORIES:Community
ATTACH;FMTTYPE=image/jpeg:https://elynevada.net/wp-content/uploads/2024/02/liiiiiiiiiiiiiiiiibbbbbbbbbbbbbbbrrrrrrraaaaaaarrrrrrrrryyyyyyyyyyy.jpg
END:VEVENT
END:VCALENDAR