BEGIN:VCALENDAR
VERSION:2.0
PRODID:-//Welcome To Ely - ECPv6.15.20//NONSGML v1.0//EN
CALSCALE:GREGORIAN
METHOD:PUBLISH
X-ORIGINAL-URL:https://elynevada.net
X-WR-CALDESC:Events for Welcome To Ely
REFRESH-INTERVAL;VALUE=DURATION:PT1H
X-Robots-Tag:noindex
X-PUBLISHED-TTL:PT1H
BEGIN:VTIMEZONE
TZID:UTC
BEGIN:STANDARD
TZOFFSETFROM:+0000
TZOFFSETTO:+0000
TZNAME:UTC
DTSTART:20200101T000000
END:STANDARD
END:VTIMEZONE
BEGIN:VEVENT
DTSTART;TZID=UTC:20211209T180000
DTEND;TZID=UTC:20211209T193000
DTSTAMP:20260423T005734
CREATED:20211207T065931Z
LAST-MODIFIED:20211207T065932Z
UID:10000415-1639072800-1639078200@elynevada.net
SUMMARY:Family Engagement Activities
DESCRIPTION:Family Engagement Activities\nHappening Thursday\, December 9th\, from 6-7:30PM at the White Pine Middle School Gym. All are welcome for this family event with all proceeds going to children in need. \nThis a Kindness Crew Family Event with environmental themed crafts\, a childhood cancer service project\, and there will be arts\, crafts\, games\, a raffle\, and more!
URL:https://elynevada.net/event/family-engagement-activities/
LOCATION:White Pine Middle School\, 844 East Aultman St.\, Ely\, NV\, 89301\, United States
CATEGORIES:Community
ATTACH;FMTTYPE=image/jpeg:https://elynevada.net/wp-content/uploads/2021/12/CC_KINDCREW_POSTER_KARA_FBOOKHEADER_12.3.21.jpg
END:VEVENT
BEGIN:VEVENT
DTSTART;TZID=UTC:20210808T090000
DTEND;TZID=UTC:20210808T160000
DTSTAMP:20260423T005734
CREATED:20190730T062911Z
LAST-MODIFIED:20210714T085056Z
UID:10000020-1628413200-1628438400@elynevada.net
SUMMARY:Sagebrush Quilt Show
DESCRIPTION:Sagebrush Quilt Show\nThe Sagebrush Quilt Show will be having their annual show the first weekend in August and this year with promises to be bigger and better. These talented women have been working all year preparing for the guild’s yearly show. The show opens Friday at 9:00 am to 6:00 pm\, and Saturday 9:00 am to 4:00 pm. A regular “Show n’ Tell” is daily at noon for the quilters and visitors. Bring in your quilts with their stories to share! Admission is $3.00 (except for children under 10\, who receive free admission). Friends and families are always welcome! \n \nThe Sagebrush Quilters are a group of quilters that meet every Thursday evening beginning at 4:00 p.m. and the 2nd Saturday of each month for “all day quilting” at St. Bartholomew’s Episcopal Church\, 209 W. 7th Street in Ely\, Nevada. \nDiscover More Events the Same Weekend HERE!
URL:https://elynevada.net/event/sagebrush-quilt-show/2021-08-08/
LOCATION:White Pine Middle School\, 844 East Aultman St.\, Ely\, NV\, 89301\, United States
CATEGORIES:Arts & Culture,Community
ATTACH;FMTTYPE=image/jpeg:https://elynevada.net/wp-content/uploads/2019/07/quilters-banner.jpg
END:VEVENT
BEGIN:VEVENT
DTSTART;TZID=UTC:20210807T090000
DTEND;TZID=UTC:20210807T180000
DTSTAMP:20260423T005734
CREATED:20190730T062911Z
LAST-MODIFIED:20210714T085056Z
UID:10000019-1628326800-1628359200@elynevada.net
SUMMARY:Sagebrush Quilt Show
DESCRIPTION:Sagebrush Quilt Show\nThe Sagebrush Quilt Show will be having their annual show the first weekend in August and this year with promises to be bigger and better. These talented women have been working all year preparing for the guild’s yearly show. The show opens Friday at 9:00 am to 6:00 pm\, and Saturday 9:00 am to 4:00 pm. A regular “Show n’ Tell” is daily at noon for the quilters and visitors. Bring in your quilts with their stories to share! Admission is $3.00 (except for children under 10\, who receive free admission). Friends and families are always welcome! \n \nThe Sagebrush Quilters are a group of quilters that meet every Thursday evening beginning at 4:00 p.m. and the 2nd Saturday of each month for “all day quilting” at St. Bartholomew’s Episcopal Church\, 209 W. 7th Street in Ely\, Nevada. \nDiscover More Events the Same Weekend HERE!
URL:https://elynevada.net/event/sagebrush-quilt-show/2021-08-07/
LOCATION:White Pine Middle School\, 844 East Aultman St.\, Ely\, NV\, 89301\, United States
CATEGORIES:Arts & Culture,Community
ATTACH;FMTTYPE=image/jpeg:https://elynevada.net/wp-content/uploads/2019/07/quilters-banner.jpg
END:VEVENT
BEGIN:VEVENT
DTSTART;TZID=UTC:20210806T090000
DTEND;TZID=UTC:20210806T180000
DTSTAMP:20260423T005734
CREATED:20190730T062911Z
LAST-MODIFIED:20210714T085056Z
UID:10000018-1628240400-1628272800@elynevada.net
SUMMARY:Sagebrush Quilt Show
DESCRIPTION:Sagebrush Quilt Show\nThe Sagebrush Quilt Show will be having their annual show the first weekend in August and this year with promises to be bigger and better. These talented women have been working all year preparing for the guild’s yearly show. The show opens Friday at 9:00 am to 6:00 pm\, and Saturday 9:00 am to 4:00 pm. A regular “Show n’ Tell” is daily at noon for the quilters and visitors. Bring in your quilts with their stories to share! Admission is $3.00 (except for children under 10\, who receive free admission). Friends and families are always welcome! \n \nThe Sagebrush Quilters are a group of quilters that meet every Thursday evening beginning at 4:00 p.m. and the 2nd Saturday of each month for “all day quilting” at St. Bartholomew’s Episcopal Church\, 209 W. 7th Street in Ely\, Nevada. \nDiscover More Events the Same Weekend HERE!
URL:https://elynevada.net/event/sagebrush-quilt-show/2021-08-06/
LOCATION:White Pine Middle School\, 844 East Aultman St.\, Ely\, NV\, 89301\, United States
CATEGORIES:Arts & Culture,Community
ATTACH;FMTTYPE=image/jpeg:https://elynevada.net/wp-content/uploads/2019/07/quilters-banner.jpg
END:VEVENT
END:VCALENDAR