BEGIN:VCALENDAR
VERSION:2.0
PRODID:-//Welcome To Ely - ECPv6.15.20//NONSGML v1.0//EN
CALSCALE:GREGORIAN
METHOD:PUBLISH
X-WR-CALNAME:Welcome To Ely
X-ORIGINAL-URL:https://elynevada.net
X-WR-CALDESC:Events for Welcome To Ely
REFRESH-INTERVAL;VALUE=DURATION:PT1H
X-Robots-Tag:noindex
X-PUBLISHED-TTL:PT1H
BEGIN:VTIMEZONE
TZID:America/Los_Angeles
BEGIN:DAYLIGHT
TZOFFSETFROM:-0800
TZOFFSETTO:-0700
TZNAME:PDT
DTSTART:20230312T100000
END:DAYLIGHT
BEGIN:STANDARD
TZOFFSETFROM:-0700
TZOFFSETTO:-0800
TZNAME:PST
DTSTART:20231105T090000
END:STANDARD
BEGIN:DAYLIGHT
TZOFFSETFROM:-0800
TZOFFSETTO:-0700
TZNAME:PDT
DTSTART:20240310T100000
END:DAYLIGHT
BEGIN:STANDARD
TZOFFSETFROM:-0700
TZOFFSETTO:-0800
TZNAME:PST
DTSTART:20241103T090000
END:STANDARD
BEGIN:DAYLIGHT
TZOFFSETFROM:-0800
TZOFFSETTO:-0700
TZNAME:PDT
DTSTART:20250309T100000
END:DAYLIGHT
BEGIN:STANDARD
TZOFFSETFROM:-0700
TZOFFSETTO:-0800
TZNAME:PST
DTSTART:20251102T090000
END:STANDARD
END:VTIMEZONE
BEGIN:VTIMEZONE
TZID:UTC
BEGIN:STANDARD
TZOFFSETFROM:+0000
TZOFFSETTO:+0000
TZNAME:UTC
DTSTART:20180101T000000
END:STANDARD
END:VTIMEZONE
BEGIN:VEVENT
DTSTART;TZID=America/Los_Angeles:20240621T170000
DTEND;TZID=America/Los_Angeles:20240621T230000
DTSTAMP:20260422T233836
CREATED:20210514T051401Z
LAST-MODIFIED:20240322T204216Z
UID:10002518-1718989200-1719010800@elynevada.net
SUMMARY:Ely Rock and Gem Swap - 2024
DESCRIPTION:Ely Rock and Gem Swap\nStop by the White Pine Public Museum on June 21st and 22nd for the Ely Rock and Gem Swap! Examine\, buy\, sell\, and trade crystals and sediments from vendors found all over the west.\n\nThere is a $7.00 entry fee which includes access to the museum.\n\nContact the Museum by Phone: (775) 289-4710\n\nContact the Museum by Email: wpmuseumnv@gmail.com\n\n\n\nAbout the White Pine Public Museum\n“Organized by the Ely Business and Professional Women’s Club in August\, 1959. Originally the exhibits were on loan or donated through the generosity of the citizens of White Pine County. The McGill Drug Store was donated to the museum by the Culbert family and we are now known as the White Pine Public Museum and Historical McGill Drug Store. \n“We are a non-profit 501(c) (3) organization. The museum promotes the diverse stories and history of our area for the education and benefit of all generations. In 1982 a 12\,000 year-old giant Short Faced Cave Bear was discovered in Spring Valley by local cavers and is on display in our museum. Other indoor exhibits include a Lincoln Highway display\, Native American artifacts\, and mining history and geology in White Pine County and Great Basin Area. You can visit the Cherry Creek depot\, a 1 room school house\, log cabins and other outdoor exhibits including mining equipment\, a caboose\, and other artifacts. \n“The Historical McGill Drug Store is a time capsule and remains as it was in the heydays of the town of McGill\, including many products “on the shelf” from many years ago. This is a satellite museum\, and can be scheduled periodically for tours by contacting the White Pine Public Museum at (775)-289-4710. \n“Funding depends on membership fees\, donations\, our gift shop sales\, and grants. Volunteers and two part-time staff operate our museum. School field trips are welcome and can be scheduled by calling the museum. When you visit our museum to learn\, discover\, entertain\, or escape you will revisit the history\, cultural diversity\, and nostalgia of simpler times and the hard times in the lives of miners\, ranchers\, and pioneers.” \nDiscover More Museums and Historical Sites in White Pine County HERE!
URL:https://elynevada.net/event/ely-rock-and-gem-swap-2021/2024-06-21/
LOCATION:White Pine Public Museum\, 2000 East Aultman Street\, Ely\, NV\, 89301\, United States
CATEGORIES:Arts & Culture,Community,History
ATTACH;FMTTYPE=image/jpeg:https://elynevada.net/wp-content/uploads/2021/05/Orange-And-Pink-Abstract-Retro-Music-Poster-Facebook-Cover.jpg
ORGANIZER;CN="White Pine Public Museum":MAILTO:wpmusuemnv@gmail.com
END:VEVENT
BEGIN:VEVENT
DTSTART;TZID=UTC:20231013T170000
DTEND;TZID=UTC:20231013T203000
DTSTAMP:20260422T233836
CREATED:20230906T011907Z
LAST-MODIFIED:20230906T011909Z
UID:10000586-1697216400-1697229000@elynevada.net
SUMMARY:They Walk Among Us
DESCRIPTION:They Walk Among Us\nYou will not want to miss They Walk Among Us at the White Pine Public Museum! Set your calendar for October 13\, 2023 from 5:00 p.m. to 8:00 p.m. \nGuest Speaker Tara Klass will speaking and providing her expert knowledge on UFOs in Nevada. \nLook forward to an “Unkown Element Dinner”\, open bar with Alien Drinks and costumes are encouraged. Consider this a party and you must be 21 years old or older to attend. \nTickets are $40 Per Person\, which includes the dinner and open bar. \nThis event is just one of many a part of our Ring of Fire Eclipse Festival. Learn more about our county wide celebration HERE! \nFor more info call the WPPM at (775) 289-4710 or email wpmuseumnv@gmail.com \nThe White Pine Chamber of Commerce’s bonfire at the railyard is to follow the talk. Feel free to take the NNRY Ping Pong Train to easily access both museums!
URL:https://elynevada.net/event/they-walk-among-us/
LOCATION:White Pine Public Museum\, 2000 East Aultman Street\, Ely\, NV\, 89301\, United States
CATEGORIES:Arts & Culture,Community,History
ATTACH;FMTTYPE=image/jpeg:https://elynevada.net/wp-content/uploads/2023/09/They-Walk-Among-Us_2023_1640x856.jpg
ORGANIZER;CN="White Pine Public Museum":MAILTO:wpmusuemnv@gmail.com
END:VEVENT
BEGIN:VEVENT
DTSTART;TZID=UTC:20210418T130000
DTEND;TZID=UTC:20210418T130000
DTSTAMP:20260422T233836
CREATED:20210323T014902Z
LAST-MODIFIED:20210323T014903Z
UID:10000388-1618750800-1618750800@elynevada.net
SUMMARY:The Majestic Bristlecone: Tales of Perseverance
DESCRIPTION:The Majestic Bristlecone: Tales of Perseverance\nJoin Gretchen Baker\, Ecologist at Great Basin National Park\, for her presentation The Majestic Bristlecone: Tales of Perseverance on April 18th at the White Pine Public Museum.\n\nDiscover how these remarkable trees (only recognized as their own species in the 1960s) persist in a harsh environment through their tough life cycle. Learn how trees have been cored to discover their age and enjoy beautiful photos of bristlecone pines. A question and answer period will follow the presentation.\n\nIncluded in Museum Admission:\n$7.00 Agers 13 and Up\n$4.00 Ages 5-12\nLearn More about the White Pine Public Museum and More HERE!\nDiscover More Things To Do In White Pine County HERE!
URL:https://elynevada.net/event/the-majestic-bristlecone-tales-of-perseverance/
LOCATION:White Pine Public Museum\, 2000 East Aultman Street\, Ely\, NV\, 89301\, United States
CATEGORIES:Arts & Culture,Community,History
ATTACH;FMTTYPE=image/png:https://elynevada.net/wp-content/uploads/2021/03/The-Magestic-Bristlecone.png
ORGANIZER;CN="White Pine Public Museum":MAILTO:wpmusuemnv@gmail.com
END:VEVENT
BEGIN:VEVENT
DTSTART;TZID=UTC:20200628T100000
DTEND;TZID=UTC:20200628T160000
DTSTAMP:20260422T233836
CREATED:20200613T053205Z
LAST-MODIFIED:20200613T053213Z
UID:10000126-1593338400-1593360000@elynevada.net
SUMMARY:Ely Rock & Gem Swap
DESCRIPTION:Ely Rock & Gem Swap\nStop by the White Pine Public Museum on June 27th – 28th for the Ely Rock & Gem Swap! Examine\, buy\, sell\, and trade crystals and sediments from vendors found all over the west.\n\nThere is a $5.00 entry fee which includes access to the museum.\n\nMuseum Phone: (775)289-4710\n\nMuseum Email: wpmuseumnv@gmail.com\n\nDiscover More White Pine Museums by Clicking HERE!
URL:https://elynevada.net/event/ely-rock-gem-swap/2020-06-28/
LOCATION:White Pine Public Museum\, 2000 East Aultman Street\, Ely\, NV\, 89301\, United States
CATEGORIES:Arts & Culture,Community,History
ATTACH;FMTTYPE=image/jpeg:https://elynevada.net/wp-content/uploads/2020/06/CC_ELYROCKGEMSHOW_6.114.jpg
ORGANIZER;CN="White Pine Public Museum":MAILTO:wpmusuemnv@gmail.com
END:VEVENT
BEGIN:VEVENT
DTSTART;TZID=UTC:20200627T100000
DTEND;TZID=UTC:20200627T160000
DTSTAMP:20260422T233836
CREATED:20200613T053205Z
LAST-MODIFIED:20200613T053213Z
UID:10000125-1593252000-1593273600@elynevada.net
SUMMARY:Ely Rock & Gem Swap
DESCRIPTION:Ely Rock & Gem Swap\nStop by the White Pine Public Museum on June 27th – 28th for the Ely Rock & Gem Swap! Examine\, buy\, sell\, and trade crystals and sediments from vendors found all over the west.\n\nThere is a $5.00 entry fee which includes access to the museum.\n\nMuseum Phone: (775)289-4710\n\nMuseum Email: wpmuseumnv@gmail.com\n\nDiscover More White Pine Museums by Clicking HERE!
URL:https://elynevada.net/event/ely-rock-gem-swap/2020-06-27/
LOCATION:White Pine Public Museum\, 2000 East Aultman Street\, Ely\, NV\, 89301\, United States
CATEGORIES:Arts & Culture,Community,History
ATTACH;FMTTYPE=image/jpeg:https://elynevada.net/wp-content/uploads/2020/06/CC_ELYROCKGEMSHOW_6.114.jpg
ORGANIZER;CN="White Pine Public Museum":MAILTO:wpmusuemnv@gmail.com
END:VEVENT
BEGIN:VEVENT
DTSTART;TZID=UTC:20200111T140000
DTEND;TZID=UTC:20200111T180000
DTSTAMP:20260422T233836
CREATED:20200103T020243Z
LAST-MODIFIED:20200103T020246Z
UID:10000061-1578751200-1578765600@elynevada.net
SUMMARY:WPPM Annual Gathering
DESCRIPTION:The White Pine Public Museum invites you to join them for their annual gathering on January 11th at 2:00 p.m. at the Public Museum showcasing “The Life and History of Burlesque Dancing” presented by Dustin Wax. Refreshments will be served. Show up early to secure your seat!
URL:https://elynevada.net/event/wppm-annual-gathering/
LOCATION:White Pine Public Museum\, 2000 East Aultman Street\, Ely\, NV\, 89301\, United States
CATEGORIES:Community
ATTACH;FMTTYPE=image/jpeg:https://elynevada.net/wp-content/uploads/2020/01/Capture.jpg
ORGANIZER;CN="White Pine Public Museum":MAILTO:wpmusuemnv@gmail.com
END:VEVENT
BEGIN:VEVENT
DTSTART;TZID=UTC:20190907T110000
DTEND;TZID=UTC:20190907T170000
DTSTAMP:20260422T233836
CREATED:20190821T102421Z
LAST-MODIFIED:20190821T102426Z
UID:10000067-1567854000-1567875600@elynevada.net
SUMMARY:Cave Bear Dedication
DESCRIPTION:We would like to announce we will be having a dedication of our Cave Bear September 7th at 11 am\, with Dennis Hone as a guest speaker. Mark it on your calendar and please join us for this special event.
URL:https://elynevada.net/event/cave-bear-dedication/
LOCATION:White Pine Public Museum\, 2000 East Aultman Street\, Ely\, NV\, 89301\, United States
CATEGORIES:Arts & Culture
ATTACH;FMTTYPE=image/png:https://elynevada.net/wp-content/uploads/2019/08/Screenshot-2019-08-20-at-8.11.50-PM.png
ORGANIZER;CN="White Pine Public Museum":MAILTO:wpmusuemnv@gmail.com
END:VEVENT
END:VCALENDAR