BEGIN:VCALENDAR
VERSION:2.0
PRODID:-//Welcome To Ely - ECPv6.15.20//NONSGML v1.0//EN
CALSCALE:GREGORIAN
METHOD:PUBLISH
X-WR-CALNAME:Welcome To Ely
X-ORIGINAL-URL:https://elynevada.net
X-WR-CALDESC:Events for Welcome To Ely
REFRESH-INTERVAL;VALUE=DURATION:PT1H
X-Robots-Tag:noindex
X-PUBLISHED-TTL:PT1H
BEGIN:VTIMEZONE
TZID:America/Los_Angeles
BEGIN:DAYLIGHT
TZOFFSETFROM:-0800
TZOFFSETTO:-0700
TZNAME:PDT
DTSTART:20230312T100000
END:DAYLIGHT
BEGIN:STANDARD
TZOFFSETFROM:-0700
TZOFFSETTO:-0800
TZNAME:PST
DTSTART:20231105T090000
END:STANDARD
BEGIN:DAYLIGHT
TZOFFSETFROM:-0800
TZOFFSETTO:-0700
TZNAME:PDT
DTSTART:20240310T100000
END:DAYLIGHT
BEGIN:STANDARD
TZOFFSETFROM:-0700
TZOFFSETTO:-0800
TZNAME:PST
DTSTART:20241103T090000
END:STANDARD
BEGIN:DAYLIGHT
TZOFFSETFROM:-0800
TZOFFSETTO:-0700
TZNAME:PDT
DTSTART:20250309T100000
END:DAYLIGHT
BEGIN:STANDARD
TZOFFSETFROM:-0700
TZOFFSETTO:-0800
TZNAME:PST
DTSTART:20251102T090000
END:STANDARD
END:VTIMEZONE
BEGIN:VTIMEZONE
TZID:UTC
BEGIN:STANDARD
TZOFFSETFROM:+0000
TZOFFSETTO:+0000
TZNAME:UTC
DTSTART:20190101T000000
END:STANDARD
END:VTIMEZONE
BEGIN:VEVENT
DTSTART;TZID=America/Los_Angeles:20240623T080000
DTEND;TZID=America/Los_Angeles:20240623T130000
DTSTAMP:20260423T044134
CREATED:20240201T055640Z
LAST-MODIFIED:20240528T224504Z
UID:10002521-1719129600-1719147600@elynevada.net
SUMMARY:State Championship Shoots
DESCRIPTION:State Championship Shoots\nAll marksmen should have June 22nd and 23rd in their sights for Steptoe Valley Trap\, Skeet and Target Club’s Nevada State Championship Rifle Shoot! \n(Details Are Subject to Change and Will Be Updated) \nOverall Targets Hit $100\nCourse of Fire will be Available\n\n$30 For One Day Event / $50 for Both Days\nBoth Days Sign-Up at 7am / Shoot at 8am\n\nRaffle Ticket with Each Entry on Saturday\nLunch is Provided\n\nFor More Information Contact\nBill Ricci (775) 717-9304\nBryant Barnson (775) 293-3054\nCody Bliss (775) 296-0077
URL:https://elynevada.net/event/state-championship-shoots/2024-06-23/
LOCATION:White Pine Shooting Range\, Ely\, NV\, 89301\, United States
ATTACH;FMTTYPE=image/jpeg:https://elynevada.net/wp-content/uploads/2024/01/Nevada-State-Championship-Rifle-Shoot_2024_1640x856.jpg
ORGANIZER;CN="Steptoe Valley Trap%2C Skeet & Target Club":MAILTO:https://m.me/SVTST?fbclid=IwAR14ZsKDRy8acHhy_NvkKeQEybWoERP2h8Wpep1U5PUpQlmv1B4-FVvptSo
END:VEVENT
BEGIN:VEVENT
DTSTART;TZID=America/Los_Angeles:20240622T070000
DTEND;TZID=America/Los_Angeles:20240622T120000
DTSTAMP:20260423T044134
CREATED:20240201T055640Z
LAST-MODIFIED:20240528T224504Z
UID:10002821-1719039600-1719057600@elynevada.net
SUMMARY:State Championship Shoots
DESCRIPTION:State Championship Shoots\nAll marksmen should have June 22nd and 23rd in their sights for Steptoe Valley Trap\, Skeet and Target Club’s Nevada State Championship Rifle Shoot! \n(Details Are Subject to Change and Will Be Updated) \nOverall Targets Hit $100\nCourse of Fire will be Available\n\n$30 For One Day Event / $50 for Both Days\nBoth Days Sign-Up at 7am / Shoot at 8am\n\nRaffle Ticket with Each Entry on Saturday\nLunch is Provided\n\nFor More Information Contact\nBill Ricci (775) 717-9304\nBryant Barnson (775) 293-3054\nCody Bliss (775) 296-0077
URL:https://elynevada.net/event/state-championship-shoots/2024-06-22/
LOCATION:White Pine Shooting Range\, Ely\, NV\, 89301\, United States
ATTACH;FMTTYPE=image/jpeg:https://elynevada.net/wp-content/uploads/2024/01/Nevada-State-Championship-Rifle-Shoot_2024_1640x856.jpg
ORGANIZER;CN="Steptoe Valley Trap%2C Skeet & Target Club":MAILTO:https://m.me/SVTST?fbclid=IwAR14ZsKDRy8acHhy_NvkKeQEybWoERP2h8Wpep1U5PUpQlmv1B4-FVvptSo
END:VEVENT
BEGIN:VEVENT
DTSTART;TZID=UTC:20230625T080000
DTEND;TZID=UTC:20230625T130000
DTSTAMP:20260423T044134
CREATED:20230602T062127Z
LAST-MODIFIED:20230609T050739Z
UID:10000561-1687680000-1687698000@elynevada.net
SUMMARY:Nevada State Championship Rifle Shoot
DESCRIPTION:Nevada State Championship Rifle Shoot\nMake sure all marksmen have their calendars checked for June 24th and 25th for Steptoe Valley Trap\, Skeet and Target Club’s Nevada State Championship Rifle Shoot!\n\nOverall Targets Hit $100\nCourse of Fire will be Available\n\n$30 For One Day Event / $50 for Both Days\nBoth Days Sign-Up at 7am / Shoot at 8am\n\nRaffle Ticket with Each Entry on Saturday\nLunch is Provided\n\nFor More Information Contact\nBill Ricci (775) 717-9304\nBryant Barnson (775) 293-3054\nCody Bliss (775) 296-0077
URL:https://elynevada.net/event/nevada-state-championship-rifle-shoot/2023-06-25/
LOCATION:White Pine Shooting Range\, Ely\, NV\, 89301\, United States
CATEGORIES:Community,Sports
ATTACH;FMTTYPE=image/jpeg:https://elynevada.net/wp-content/uploads/2023/06/Nevada-State-Championship-Rifle-Shoot_2023_1640x856.jpg
ORGANIZER;CN="Steptoe Valley Trap%2C Skeet & Target Club":MAILTO:https://m.me/SVTST?fbclid=IwAR14ZsKDRy8acHhy_NvkKeQEybWoERP2h8Wpep1U5PUpQlmv1B4-FVvptSo
END:VEVENT
BEGIN:VEVENT
DTSTART;TZID=UTC:20230624T080000
DTEND;TZID=UTC:20230624T130000
DTSTAMP:20260423T044134
CREATED:20230602T062127Z
LAST-MODIFIED:20230609T050739Z
UID:10000559-1687593600-1687611600@elynevada.net
SUMMARY:Nevada State Championship Rifle Shoot
DESCRIPTION:Nevada State Championship Rifle Shoot\nMake sure all marksmen have their calendars checked for June 24th and 25th for Steptoe Valley Trap\, Skeet and Target Club’s Nevada State Championship Rifle Shoot!\n\nOverall Targets Hit $100\nCourse of Fire will be Available\n\n$30 For One Day Event / $50 for Both Days\nBoth Days Sign-Up at 7am / Shoot at 8am\n\nRaffle Ticket with Each Entry on Saturday\nLunch is Provided\n\nFor More Information Contact\nBill Ricci (775) 717-9304\nBryant Barnson (775) 293-3054\nCody Bliss (775) 296-0077
URL:https://elynevada.net/event/nevada-state-championship-rifle-shoot/2023-06-24/
LOCATION:White Pine Shooting Range\, Ely\, NV\, 89301\, United States
CATEGORIES:Community,Sports
ATTACH;FMTTYPE=image/jpeg:https://elynevada.net/wp-content/uploads/2023/06/Nevada-State-Championship-Rifle-Shoot_2023_1640x856.jpg
ORGANIZER;CN="Steptoe Valley Trap%2C Skeet & Target Club":MAILTO:https://m.me/SVTST?fbclid=IwAR14ZsKDRy8acHhy_NvkKeQEybWoERP2h8Wpep1U5PUpQlmv1B4-FVvptSo
END:VEVENT
BEGIN:VEVENT
DTSTART;TZID=UTC:20200516T080000
DTEND;TZID=UTC:20200517T173000
DTSTAMP:20260423T044134
CREATED:20200305T094945Z
LAST-MODIFIED:20200305T100441Z
UID:10000330-1589616000-1589736600@elynevada.net
SUMMARY:USAYESS Youth Shoot sponsored by SVTST Youth Club
DESCRIPTION:All are invited to the USAYESS Youth Shoot sponspored by the Steptoe Valley Trap\, Skeet & Target Youth Club in Ely\, Nevada on May 16th and 17th at White Pine Shooting Range! Again\, all are welcome but must contact Hal at 775-293-1475 to join the youth club. Hope to see you at the USAYESS Youth Shoot! \nLooking for lodging for the Luck of the Draw Fun Shoot? Look no further than here!
URL:https://elynevada.net/event/usayess-youth-shoot-sponsored-by-svtst-youth-club/
LOCATION:White Pine Shooting Range\, Ely\, NV\, 89301\, United States
CATEGORIES:Community,Sports
ATTACH;FMTTYPE=image/jpeg:https://elynevada.net/wp-content/uploads/2020/03/czusa_guinness19_header.jpg
ORGANIZER;CN="Steptoe Valley Trap%2C Skeet & Target Club":MAILTO:https://m.me/SVTST?fbclid=IwAR14ZsKDRy8acHhy_NvkKeQEybWoERP2h8Wpep1U5PUpQlmv1B4-FVvptSo
END:VEVENT
BEGIN:VEVENT
DTSTART;TZID=UTC:20200322T080000
DTEND;TZID=UTC:20200322T170000
DTSTAMP:20260423T044134
CREATED:20200305T091149Z
LAST-MODIFIED:20200305T091155Z
UID:10000332-1584864000-1584896400@elynevada.net
SUMMARY:Luck of the Draw Fun Shoot
DESCRIPTION:All are invited to the Luck of the Draw Fun Shoot hosted by the Steptoe Valley Trap\, Skeet & Target Club in Ely\, Nevada on March 22nd at White Pine Shooting Range! Again\, all are welcome but must be registered the day of. Hope to see you there for this Luck of the Draw Fun Shoot! \nLooking for lodging for the Luck of the Draw Fun Shoot? Look no further than here!
URL:https://elynevada.net/event/luck-of-the-draw-fun-shoot/
LOCATION:White Pine Shooting Range\, Ely\, NV\, 89301\, United States
CATEGORIES:Community,Sports
ATTACH;FMTTYPE=image/png:https://elynevada.net/wp-content/uploads/2020/03/targets-40383_960_720.png
ORGANIZER;CN="Steptoe Valley Trap%2C Skeet & Target Club":MAILTO:https://m.me/SVTST?fbclid=IwAR14ZsKDRy8acHhy_NvkKeQEybWoERP2h8Wpep1U5PUpQlmv1B4-FVvptSo
END:VEVENT
END:VCALENDAR